BEGIN:VCALENDAR
VERSION:2.0
PRODID:-//St. James Catholic School - ECPv6.15.20//NONSGML v1.0//EN
CALSCALE:GREGORIAN
METHOD:PUBLISH
X-ORIGINAL-URL:https://sjschoolonline.org
X-WR-CALDESC:Events for St. James Catholic School
REFRESH-INTERVAL;VALUE=DURATION:PT1H
X-Robots-Tag:noindex
X-PUBLISHED-TTL:PT1H
BEGIN:VTIMEZONE
TZID:America/New_York
BEGIN:DAYLIGHT
TZOFFSETFROM:-0500
TZOFFSETTO:-0400
TZNAME:EDT
DTSTART:20230312T070000
END:DAYLIGHT
BEGIN:STANDARD
TZOFFSETFROM:-0400
TZOFFSETTO:-0500
TZNAME:EST
DTSTART:20231105T060000
END:STANDARD
BEGIN:DAYLIGHT
TZOFFSETFROM:-0500
TZOFFSETTO:-0400
TZNAME:EDT
DTSTART:20240310T070000
END:DAYLIGHT
BEGIN:STANDARD
TZOFFSETFROM:-0400
TZOFFSETTO:-0500
TZNAME:EST
DTSTART:20241103T060000
END:STANDARD
BEGIN:DAYLIGHT
TZOFFSETFROM:-0500
TZOFFSETTO:-0400
TZNAME:EDT
DTSTART:20250309T070000
END:DAYLIGHT
BEGIN:STANDARD
TZOFFSETFROM:-0400
TZOFFSETTO:-0500
TZNAME:EST
DTSTART:20251102T060000
END:STANDARD
END:VTIMEZONE
BEGIN:VTIMEZONE
TZID:UTC
BEGIN:STANDARD
TZOFFSETFROM:+0000
TZOFFSETTO:+0000
TZNAME:UTC
DTSTART:20230101T000000
END:STANDARD
END:VTIMEZONE
BEGIN:VEVENT
DTSTART;TZID=America/New_York:20240128T000000
DTEND;TZID=America/New_York:20240128T235959
DTSTAMP:20260425T204615
CREATED:20240101T154645Z
LAST-MODIFIED:20240128T184258Z
UID:10000446-1706400000-1706486399@sjschoolonline.org
SUMMARY:Celebrate Catholic Schools Week
DESCRIPTION:
URL:https://sjschoolonline.org/event/celebrate-catholic-schools-week/
CATEGORIES:St. James Catholic School
END:VEVENT
BEGIN:VEVENT
DTSTART;TZID=UTC:20240128T190000
DTEND;TZID=UTC:20240128T194500
DTSTAMP:20260425T204615
CREATED:20231019T161951Z
LAST-MODIFIED:20231030T114446Z
UID:10000360-1706468400-1706471100@sjschoolonline.org
SUMMARY:1st-3rd Grade Swim Practice @ Etown Swim and Fitness
DESCRIPTION:
URL:https://sjschoolonline.org/event/1st-3rd-grade-swim-practice-etown-swim-and-fitness-12/
END:VEVENT
BEGIN:VEVENT
DTSTART;TZID=UTC:20240128T194500
DTEND;TZID=UTC:20240128T210000
DTSTAMP:20260425T204615
CREATED:20231019T161951Z
LAST-MODIFIED:20231030T114446Z
UID:10000361-1706471100-1706475600@sjschoolonline.org
SUMMARY:4th-8th Grade Swim practice @ Etown Swim and Fitness
DESCRIPTION:
URL:https://sjschoolonline.org/event/4th-8th-grade-swim-practice-etown-swim-and-fitness-10/
END:VEVENT
END:VCALENDAR