BEGIN:VCALENDAR
VERSION:2.0
PRODID:-//St. James Catholic School - ECPv6.15.20//NONSGML v1.0//EN
CALSCALE:GREGORIAN
METHOD:PUBLISH
X-ORIGINAL-URL:https://sjschoolonline.org
X-WR-CALDESC:Events for St. James Catholic School
REFRESH-INTERVAL;VALUE=DURATION:PT1H
X-Robots-Tag:noindex
X-PUBLISHED-TTL:PT1H
BEGIN:VTIMEZONE
TZID:America/New_York
BEGIN:DAYLIGHT
TZOFFSETFROM:-0500
TZOFFSETTO:-0400
TZNAME:EDT
DTSTART:20230312T070000
END:DAYLIGHT
BEGIN:STANDARD
TZOFFSETFROM:-0400
TZOFFSETTO:-0500
TZNAME:EST
DTSTART:20231105T060000
END:STANDARD
BEGIN:DAYLIGHT
TZOFFSETFROM:-0500
TZOFFSETTO:-0400
TZNAME:EDT
DTSTART:20240310T070000
END:DAYLIGHT
BEGIN:STANDARD
TZOFFSETFROM:-0400
TZOFFSETTO:-0500
TZNAME:EST
DTSTART:20241103T060000
END:STANDARD
BEGIN:DAYLIGHT
TZOFFSETFROM:-0500
TZOFFSETTO:-0400
TZNAME:EDT
DTSTART:20250309T070000
END:DAYLIGHT
BEGIN:STANDARD
TZOFFSETFROM:-0400
TZOFFSETTO:-0500
TZNAME:EST
DTSTART:20251102T060000
END:STANDARD
END:VTIMEZONE
BEGIN:VTIMEZONE
TZID:UTC
BEGIN:STANDARD
TZOFFSETFROM:+0000
TZOFFSETTO:+0000
TZNAME:UTC
DTSTART:20230101T000000
END:STANDARD
END:VTIMEZONE
BEGIN:VEVENT
DTSTART;TZID=America/New_York:20240129T000000
DTEND;TZID=America/New_York:20240203T235959
DTSTAMP:20260425T171434
CREATED:20240101T154646Z
LAST-MODIFIED:20240203T192705Z
UID:10000452-1706486400-1707004799@sjschoolonline.org
SUMMARY:Catholic Schools Week
DESCRIPTION:
URL:https://sjschoolonline.org/event/catholic-schools-week/
CATEGORIES:St. James Catholic School
END:VEVENT
BEGIN:VEVENT
DTSTART;TZID=UTC:20240130T230000
DTEND;TZID=UTC:20240131T003000
DTSTAMP:20260425T171434
CREATED:20230816T015931Z
LAST-MODIFIED:20231017T205515Z
UID:10000194-1706655600-1706661000@sjschoolonline.org
SUMMARY:6th\, 7th\, 8th Basketball Practice
DESCRIPTION:
URL:https://sjschoolonline.org/event/6th-7th-8th-basketball-practice-44/
END:VEVENT
BEGIN:VEVENT
DTSTART;TZID=UTC:20240130T230000
DTEND;TZID=UTC:20240131T003000
DTSTAMP:20260425T171434
CREATED:20231019T161952Z
LAST-MODIFIED:20231030T114447Z
UID:10000363-1706655600-1706661000@sjschoolonline.org
SUMMARY:6th\, 7th\, 8th Basketball Practice
DESCRIPTION:
URL:https://sjschoolonline.org/event/6th-7th-8th-basketball-practice-84/
END:VEVENT
BEGIN:VEVENT
DTSTART;TZID=America/New_York:20240131T080000
DTEND;TZID=America/New_York:20240131T090000
DTSTAMP:20260425T171434
CREATED:20240101T154645Z
LAST-MODIFIED:20240130T185819Z
UID:10000448-1706688000-1706691600@sjschoolonline.org
SUMMARY:School Mass
DESCRIPTION:
URL:https://sjschoolonline.org/event/school-mass-7/
CATEGORIES:St. James Catholic School
END:VEVENT
BEGIN:VEVENT
DTSTART;TZID=America/New_York:20240131T131500
DTEND;TZID=America/New_York:20240131T141500
DTSTAMP:20260425T171434
CREATED:20240101T154645Z
LAST-MODIFIED:20240131T191226Z
UID:10000444-1706706900-1706710500@sjschoolonline.org
SUMMARY:DARE graduation
DESCRIPTION:
URL:https://sjschoolonline.org/event/dare-graduation/
CATEGORIES:St. James Catholic School
END:VEVENT
BEGIN:VEVENT
DTSTART;TZID=UTC:20240131T200000
DTEND;TZID=UTC:20240131T213000
DTSTAMP:20260425T171434
CREATED:20231025T145738Z
LAST-MODIFIED:20231030T114447Z
UID:10000416-1706731200-1706736600@sjschoolonline.org
SUMMARY:Girls Basketball 4th and 5th Grade practice
DESCRIPTION:
URL:https://sjschoolonline.org/event/girls-basketball-4th-and-5th-grade-practice-50/
END:VEVENT
BEGIN:VEVENT
DTSTART;TZID=UTC:20240131T213000
DTEND;TZID=UTC:20240131T230000
DTSTAMP:20260425T171434
CREATED:20230816T015931Z
LAST-MODIFIED:20231030T114447Z
UID:10000195-1706736600-1706742000@sjschoolonline.org
SUMMARY:6th\, 7th\, 8th Basketball Practice
DESCRIPTION:
URL:https://sjschoolonline.org/event/6th-7th-8th-basketball-practice-45/
END:VEVENT
BEGIN:VEVENT
DTSTART;TZID=UTC:20240131T230000
DTEND;TZID=UTC:20240201T013000
DTSTAMP:20260425T171434
CREATED:20230816T015931Z
LAST-MODIFIED:20231030T114447Z
UID:10000196-1706742000-1706751000@sjschoolonline.org
SUMMARY:Family Faith Formation & Middle School Ministry
DESCRIPTION:
URL:https://sjschoolonline.org/event/family-faith-formation-middle-school-ministry-16/
END:VEVENT
END:VCALENDAR