BEGIN:VCALENDAR
VERSION:2.0
PRODID:-//St. James Catholic School - ECPv6.15.20//NONSGML v1.0//EN
CALSCALE:GREGORIAN
METHOD:PUBLISH
X-WR-CALNAME:St. James Catholic School
X-ORIGINAL-URL:https://sjschoolonline.org
X-WR-CALDESC:Events for St. James Catholic School
REFRESH-INTERVAL;VALUE=DURATION:PT1H
X-Robots-Tag:noindex
X-PUBLISHED-TTL:PT1H
BEGIN:VTIMEZONE
TZID:UTC
BEGIN:STANDARD
TZOFFSETFROM:+0000
TZOFFSETTO:+0000
TZNAME:UTC
DTSTART:20230101T000000
END:STANDARD
END:VTIMEZONE
BEGIN:VTIMEZONE
TZID:America/New_York
BEGIN:DAYLIGHT
TZOFFSETFROM:-0500
TZOFFSETTO:-0400
TZNAME:EDT
DTSTART:20230312T070000
END:DAYLIGHT
BEGIN:STANDARD
TZOFFSETFROM:-0400
TZOFFSETTO:-0500
TZNAME:EST
DTSTART:20231105T060000
END:STANDARD
BEGIN:DAYLIGHT
TZOFFSETFROM:-0500
TZOFFSETTO:-0400
TZNAME:EDT
DTSTART:20240310T070000
END:DAYLIGHT
BEGIN:STANDARD
TZOFFSETFROM:-0400
TZOFFSETTO:-0500
TZNAME:EST
DTSTART:20241103T060000
END:STANDARD
BEGIN:DAYLIGHT
TZOFFSETFROM:-0500
TZOFFSETTO:-0400
TZNAME:EDT
DTSTART:20250309T070000
END:DAYLIGHT
BEGIN:STANDARD
TZOFFSETFROM:-0400
TZOFFSETTO:-0500
TZNAME:EST
DTSTART:20251102T060000
END:STANDARD
END:VTIMEZONE
BEGIN:VEVENT
DTSTART;TZID=UTC:20240206T230000
DTEND;TZID=UTC:20240207T003000
DTSTAMP:20260425T153007
CREATED:20230816T015944Z
LAST-MODIFIED:20231017T205515Z
UID:10000201-1707260400-1707265800@sjschoolonline.org
SUMMARY:6th\, 7th\, 8th Basketball Practice
DESCRIPTION:
URL:https://sjschoolonline.org/event/6th-7th-8th-basketball-practice-47/
END:VEVENT
BEGIN:VEVENT
DTSTART;TZID=UTC:20240206T230000
DTEND;TZID=UTC:20240207T003000
DTSTAMP:20260425T153007
CREATED:20231019T162005Z
LAST-MODIFIED:20231030T114447Z
UID:10000366-1707260400-1707265800@sjschoolonline.org
SUMMARY:6th\, 7th\, 8th Basketball Practice
DESCRIPTION:
URL:https://sjschoolonline.org/event/6th-7th-8th-basketball-practice-86/
END:VEVENT
BEGIN:VEVENT
DTSTART;TZID=America/New_York:20240207T080000
DTEND;TZID=America/New_York:20240207T090000
DTSTAMP:20260425T153007
CREATED:20240101T154647Z
LAST-MODIFIED:20240206T194312Z
UID:10000455-1707292800-1707296400@sjschoolonline.org
SUMMARY:School Mass
DESCRIPTION:
URL:https://sjschoolonline.org/event/school-mass-8/
CATEGORIES:St. James Catholic School
END:VEVENT
BEGIN:VEVENT
DTSTART;TZID=UTC:20240207T200000
DTEND;TZID=UTC:20240207T213000
DTSTAMP:20260425T153007
CREATED:20231025T145751Z
LAST-MODIFIED:20231030T114447Z
UID:10000417-1707336000-1707341400@sjschoolonline.org
SUMMARY:Girls Basketball 4th and 5th Grade practice
DESCRIPTION:
URL:https://sjschoolonline.org/event/girls-basketball-4th-and-5th-grade-practice-51/
END:VEVENT
BEGIN:VEVENT
DTSTART;TZID=UTC:20240207T213000
DTEND;TZID=UTC:20240207T230000
DTSTAMP:20260425T153007
CREATED:20230816T015944Z
LAST-MODIFIED:20231030T114448Z
UID:10000202-1707341400-1707346800@sjschoolonline.org
SUMMARY:6th\, 7th\, 8th Basketball Practice
DESCRIPTION:
URL:https://sjschoolonline.org/event/6th-7th-8th-basketball-practice-48/
END:VEVENT
BEGIN:VEVENT
DTSTART;TZID=UTC:20240207T230000
DTEND;TZID=UTC:20240208T013000
DTSTAMP:20260425T153007
CREATED:20230816T015944Z
LAST-MODIFIED:20231030T114448Z
UID:10000203-1707346800-1707355800@sjschoolonline.org
SUMMARY:Family Faith Formation & Middle School Ministry
DESCRIPTION:
URL:https://sjschoolonline.org/event/family-faith-formation-middle-school-ministry-17/
END:VEVENT
END:VCALENDAR