BEGIN:VCALENDAR
VERSION:2.0
PRODID:-//St. James Catholic School - ECPv6.15.20//NONSGML v1.0//EN
CALSCALE:GREGORIAN
METHOD:PUBLISH
X-WR-CALNAME:St. James Catholic School
X-ORIGINAL-URL:https://sjschoolonline.org
X-WR-CALDESC:Events for St. James Catholic School
REFRESH-INTERVAL;VALUE=DURATION:PT1H
X-Robots-Tag:noindex
X-PUBLISHED-TTL:PT1H
BEGIN:VTIMEZONE
TZID:UTC
BEGIN:STANDARD
TZOFFSETFROM:+0000
TZOFFSETTO:+0000
TZNAME:UTC
DTSTART:20230101T000000
END:STANDARD
END:VTIMEZONE
BEGIN:VTIMEZONE
TZID:America/New_York
BEGIN:DAYLIGHT
TZOFFSETFROM:-0500
TZOFFSETTO:-0400
TZNAME:EDT
DTSTART:20230312T070000
END:DAYLIGHT
BEGIN:STANDARD
TZOFFSETFROM:-0400
TZOFFSETTO:-0500
TZNAME:EST
DTSTART:20231105T060000
END:STANDARD
BEGIN:DAYLIGHT
TZOFFSETFROM:-0500
TZOFFSETTO:-0400
TZNAME:EDT
DTSTART:20240310T070000
END:DAYLIGHT
BEGIN:STANDARD
TZOFFSETFROM:-0400
TZOFFSETTO:-0500
TZNAME:EST
DTSTART:20241103T060000
END:STANDARD
BEGIN:DAYLIGHT
TZOFFSETFROM:-0500
TZOFFSETTO:-0400
TZNAME:EDT
DTSTART:20250309T070000
END:DAYLIGHT
BEGIN:STANDARD
TZOFFSETFROM:-0400
TZOFFSETTO:-0500
TZNAME:EST
DTSTART:20251102T060000
END:STANDARD
END:VTIMEZONE
BEGIN:VEVENT
DTSTART;TZID=UTC:20240213T230000
DTEND;TZID=UTC:20240214T003000
DTSTAMP:20260425T185311
CREATED:20230816T015945Z
LAST-MODIFIED:20231017T205516Z
UID:10000207-1707865200-1707870600@sjschoolonline.org
SUMMARY:6th\, 7th\, 8th Basketball Practice
DESCRIPTION:
URL:https://sjschoolonline.org/event/6th-7th-8th-basketball-practice-51/
END:VEVENT
BEGIN:VEVENT
DTSTART;TZID=UTC:20240213T230000
DTEND;TZID=UTC:20240214T003000
DTSTAMP:20260425T185311
CREATED:20231019T162019Z
LAST-MODIFIED:20231030T114448Z
UID:10000370-1707865200-1707870600@sjschoolonline.org
SUMMARY:6th\, 7th\, 8th Basketball Practice
DESCRIPTION:
URL:https://sjschoolonline.org/event/6th-7th-8th-basketball-practice-89/
END:VEVENT
BEGIN:VEVENT
DTSTART;TZID=America/New_York:20240214T000000
DTEND;TZID=America/New_York:20240214T235959
DTSTAMP:20260425T185311
CREATED:20240101T154648Z
LAST-MODIFIED:20240212T201246Z
UID:10000464-1707868800-1707955199@sjschoolonline.org
SUMMARY:Ash Wednesday
DESCRIPTION:
URL:https://sjschoolonline.org/event/ash-wednesday/
CATEGORIES:St. James Catholic School
END:VEVENT
BEGIN:VEVENT
DTSTART;TZID=America/New_York:20240214T080000
DTEND;TZID=America/New_York:20240214T090000
DTSTAMP:20260425T185311
CREATED:20240101T154648Z
LAST-MODIFIED:20240212T201245Z
UID:10000461-1707897600-1707901200@sjschoolonline.org
SUMMARY:School Mass
DESCRIPTION:
URL:https://sjschoolonline.org/event/school-mass-9/
CATEGORIES:St. James Catholic School
END:VEVENT
BEGIN:VEVENT
DTSTART;TZID=UTC:20240214T200000
DTEND;TZID=UTC:20240214T213000
DTSTAMP:20260425T185311
CREATED:20231025T145804Z
LAST-MODIFIED:20231030T114448Z
UID:10000418-1707940800-1707946200@sjschoolonline.org
SUMMARY:Girls Basketball 4th and 5th Grade practice
DESCRIPTION:
URL:https://sjschoolonline.org/event/girls-basketball-4th-and-5th-grade-practice-52/
END:VEVENT
BEGIN:VEVENT
DTSTART;TZID=UTC:20240214T223000
DTEND;TZID=UTC:20240215T003000
DTSTAMP:20260425T185311
CREATED:20230816T020000Z
LAST-MODIFIED:20231030T114448Z
UID:10000209-1707949800-1707957000@sjschoolonline.org
SUMMARY:6th\, 7th\, 8th Basketball Practice
DESCRIPTION:
URL:https://sjschoolonline.org/event/6th-7th-8th-basketball-practice-52/
END:VEVENT
END:VCALENDAR