BEGIN:VCALENDAR
VERSION:2.0
PRODID:-//St. James Catholic School - ECPv6.15.20//NONSGML v1.0//EN
CALSCALE:GREGORIAN
METHOD:PUBLISH
X-ORIGINAL-URL:https://sjschoolonline.org
X-WR-CALDESC:Events for St. James Catholic School
REFRESH-INTERVAL;VALUE=DURATION:PT1H
X-Robots-Tag:noindex
X-PUBLISHED-TTL:PT1H
BEGIN:VTIMEZONE
TZID:America/New_York
BEGIN:DAYLIGHT
TZOFFSETFROM:-0500
TZOFFSETTO:-0400
TZNAME:EDT
DTSTART:20230312T070000
END:DAYLIGHT
BEGIN:STANDARD
TZOFFSETFROM:-0400
TZOFFSETTO:-0500
TZNAME:EST
DTSTART:20231105T060000
END:STANDARD
BEGIN:DAYLIGHT
TZOFFSETFROM:-0500
TZOFFSETTO:-0400
TZNAME:EDT
DTSTART:20240310T070000
END:DAYLIGHT
BEGIN:STANDARD
TZOFFSETFROM:-0400
TZOFFSETTO:-0500
TZNAME:EST
DTSTART:20241103T060000
END:STANDARD
BEGIN:DAYLIGHT
TZOFFSETFROM:-0500
TZOFFSETTO:-0400
TZNAME:EDT
DTSTART:20250309T070000
END:DAYLIGHT
BEGIN:STANDARD
TZOFFSETFROM:-0400
TZOFFSETTO:-0500
TZNAME:EST
DTSTART:20251102T060000
END:STANDARD
END:VTIMEZONE
BEGIN:VEVENT
DTSTART;TZID=America/New_York:20240311T000000
DTEND;TZID=America/New_York:20240311T235959
DTSTAMP:20260425T104717
CREATED:20240101T154651Z
LAST-MODIFIED:20240212T201317Z
UID:10000477-1710115200-1710201599@sjschoolonline.org
SUMMARY:4th Quarter Begins
DESCRIPTION:
URL:https://sjschoolonline.org/event/4th-quarter-begins/
CATEGORIES:St. James Catholic School
END:VEVENT
BEGIN:VEVENT
DTSTART;TZID=America/New_York:20240311T000000
DTEND;TZID=America/New_York:20240311T235959
DTSTAMP:20260425T104717
CREATED:20240229T214156Z
LAST-MODIFIED:20240229T214156Z
UID:10000811-1710115200-1710201599@sjschoolonline.org
SUMMARY:7th grade field trip to Feeding America (pm)
DESCRIPTION:
URL:https://sjschoolonline.org/event/7th-grade-field-trip-to-feeding-america-pm/
CATEGORIES:St. James Catholic School
END:VEVENT
BEGIN:VEVENT
DTSTART;TZID=America/New_York:20240311T120500
DTEND;TZID=America/New_York:20240311T123500
DTSTAMP:20260425T104717
CREATED:20240220T204200Z
LAST-MODIFIED:20240221T154608Z
UID:10000774-1710158700-1710160500@sjschoolonline.org
SUMMARY:3rd Grade Parent Lunch
DESCRIPTION:
URL:https://sjschoolonline.org/event/3rd-grade-parent-lunch/
CATEGORIES:St. James Catholic School
END:VEVENT
BEGIN:VEVENT
DTSTART;TZID=America/New_York:20240311T120500
DTEND;TZID=America/New_York:20240311T123500
DTSTAMP:20260425T104717
CREATED:20240223T205729Z
LAST-MODIFIED:20240223T205729Z
UID:10000787-1710158700-1710160500@sjschoolonline.org
SUMMARY:3rd Grade Parent Lunch
DESCRIPTION:
URL:https://sjschoolonline.org/event/3rd-grade-parent-lunch-2/
CATEGORIES:St. James Catholic School
END:VEVENT
BEGIN:VEVENT
DTSTART;TZID=America/New_York:20240311T120500
DTEND;TZID=America/New_York:20240311T123500
DTSTAMP:20260425T104717
CREATED:20240227T212657Z
LAST-MODIFIED:20240227T212657Z
UID:10000796-1710158700-1710160500@sjschoolonline.org
SUMMARY:3rd Grade Parent Lunch
DESCRIPTION:
URL:https://sjschoolonline.org/event/3rd-grade-parent-lunch-3/
CATEGORIES:St. James Catholic School
END:VEVENT
BEGIN:VEVENT
DTSTART;TZID=America/New_York:20240311T120500
DTEND;TZID=America/New_York:20240311T123500
DTSTAMP:20260425T104717
CREATED:20240301T214233Z
LAST-MODIFIED:20240301T214233Z
UID:10000818-1710158700-1710160500@sjschoolonline.org
SUMMARY:3rd Grade Parent Lunch
DESCRIPTION:
URL:https://sjschoolonline.org/event/3rd-grade-parent-lunch-4/
CATEGORIES:St. James Catholic School
END:VEVENT
END:VCALENDAR