BEGIN:VCALENDAR
VERSION:2.0
PRODID:-//St. James Catholic School - ECPv6.15.20//NONSGML v1.0//EN
CALSCALE:GREGORIAN
METHOD:PUBLISH
X-ORIGINAL-URL:https://sjschoolonline.org
X-WR-CALDESC:Events for St. James Catholic School
REFRESH-INTERVAL;VALUE=DURATION:PT1H
X-Robots-Tag:noindex
X-PUBLISHED-TTL:PT1H
BEGIN:VTIMEZONE
TZID:America/New_York
BEGIN:DAYLIGHT
TZOFFSETFROM:-0500
TZOFFSETTO:-0400
TZNAME:EDT
DTSTART:20230312T070000
END:DAYLIGHT
BEGIN:STANDARD
TZOFFSETFROM:-0400
TZOFFSETTO:-0500
TZNAME:EST
DTSTART:20231105T060000
END:STANDARD
BEGIN:DAYLIGHT
TZOFFSETFROM:-0500
TZOFFSETTO:-0400
TZNAME:EDT
DTSTART:20240310T070000
END:DAYLIGHT
BEGIN:STANDARD
TZOFFSETFROM:-0400
TZOFFSETTO:-0500
TZNAME:EST
DTSTART:20241103T060000
END:STANDARD
BEGIN:DAYLIGHT
TZOFFSETFROM:-0500
TZOFFSETTO:-0400
TZNAME:EDT
DTSTART:20250309T070000
END:DAYLIGHT
BEGIN:STANDARD
TZOFFSETFROM:-0400
TZOFFSETTO:-0500
TZNAME:EST
DTSTART:20251102T060000
END:STANDARD
END:VTIMEZONE
BEGIN:VTIMEZONE
TZID:UTC
BEGIN:STANDARD
TZOFFSETFROM:+0000
TZOFFSETTO:+0000
TZNAME:UTC
DTSTART:20230101T000000
END:STANDARD
END:VTIMEZONE
BEGIN:VEVENT
DTSTART;TZID=America/New_York:20240324T000000
DTEND;TZID=America/New_York:20240330T235959
DTSTAMP:20260425T171354
CREATED:20240114T165706Z
LAST-MODIFIED:20240212T201350Z
UID:10000639-1711238400-1711843199@sjschoolonline.org
SUMMARY:Holy Week
DESCRIPTION:
URL:https://sjschoolonline.org/event/holy-week/
CATEGORIES:St. James Catholic School
END:VEVENT
BEGIN:VEVENT
DTSTART;TZID=UTC:20240327T220000
DTEND;TZID=UTC:20240328T003000
DTSTAMP:20260425T171354
CREATED:20230816T020048Z
LAST-MODIFIED:20231030T114451Z
UID:10000229-1711576800-1711585800@sjschoolonline.org
SUMMARY:Family Faith Formation & Middle School Ministry
DESCRIPTION:
URL:https://sjschoolonline.org/event/family-faith-formation-middle-school-ministry-23/
END:VEVENT
BEGIN:VEVENT
DTSTART;TZID=America/New_York:20240328T000000
DTEND;TZID=America/New_York:20240328T235959
DTSTAMP:20260425T171354
CREATED:20240124T181237Z
LAST-MODIFIED:20240212T201350Z
UID:10000668-1711584000-1711670399@sjschoolonline.org
SUMMARY:Happy Birthday Mrs. Owens!
DESCRIPTION:
URL:https://sjschoolonline.org/event/happy-birthday-mrs-owens/
CATEGORIES:St. James Catholic School
END:VEVENT
BEGIN:VEVENT
DTSTART;TZID=America/New_York:20240328T000000
DTEND;TZID=America/New_York:20240328T235959
DTSTAMP:20260425T171354
CREATED:20240328T062655Z
LAST-MODIFIED:20240328T062655Z
UID:10000842-1711584000-1711670399@sjschoolonline.org
SUMMARY:Holy Thursday
DESCRIPTION:
URL:https://sjschoolonline.org/event/holy-thursday/
CATEGORIES:St. James Catholic School
END:VEVENT
BEGIN:VEVENT
DTSTART;TZID=America/New_York:20240328T093000
DTEND;TZID=America/New_York:20240328T110000
DTSTAMP:20260425T171354
CREATED:20240114T165706Z
LAST-MODIFIED:20240212T201404Z
UID:10000642-1711618200-1711623600@sjschoolonline.org
SUMMARY:Passion Play
DESCRIPTION:
URL:https://sjschoolonline.org/event/passion-play/
CATEGORIES:St. James Catholic School
END:VEVENT
END:VCALENDAR