BEGIN:VCALENDAR
VERSION:2.0
PRODID:-//St. James Catholic School - ECPv6.15.20//NONSGML v1.0//EN
CALSCALE:GREGORIAN
METHOD:PUBLISH
X-ORIGINAL-URL:https://sjschoolonline.org
X-WR-CALDESC:Events for St. James Catholic School
REFRESH-INTERVAL;VALUE=DURATION:PT1H
X-Robots-Tag:noindex
X-PUBLISHED-TTL:PT1H
BEGIN:VTIMEZONE
TZID:America/New_York
BEGIN:DAYLIGHT
TZOFFSETFROM:-0500
TZOFFSETTO:-0400
TZNAME:EDT
DTSTART:20230312T070000
END:DAYLIGHT
BEGIN:STANDARD
TZOFFSETFROM:-0400
TZOFFSETTO:-0500
TZNAME:EST
DTSTART:20231105T060000
END:STANDARD
BEGIN:DAYLIGHT
TZOFFSETFROM:-0500
TZOFFSETTO:-0400
TZNAME:EDT
DTSTART:20240310T070000
END:DAYLIGHT
BEGIN:STANDARD
TZOFFSETFROM:-0400
TZOFFSETTO:-0500
TZNAME:EST
DTSTART:20241103T060000
END:STANDARD
BEGIN:DAYLIGHT
TZOFFSETFROM:-0500
TZOFFSETTO:-0400
TZNAME:EDT
DTSTART:20250309T070000
END:DAYLIGHT
BEGIN:STANDARD
TZOFFSETFROM:-0400
TZOFFSETTO:-0500
TZNAME:EST
DTSTART:20251102T060000
END:STANDARD
END:VTIMEZONE
BEGIN:VEVENT
DTSTART;TZID=America/New_York:20240415T000000
DTEND;TZID=America/New_York:20240419T235959
DTSTAMP:20260425T140036
CREATED:20240101T154656Z
LAST-MODIFIED:20240212T201406Z
UID:10000500-1713139200-1713571199@sjschoolonline.org
SUMMARY:Spring Fundraiser
DESCRIPTION:
URL:https://sjschoolonline.org/event/spring-fundraiser/
CATEGORIES:St. James Catholic School
END:VEVENT
BEGIN:VEVENT
DTSTART;TZID=America/New_York:20240416T183000
DTEND;TZID=America/New_York:20240416T193000
DTSTAMP:20260425T140036
CREATED:20240116T171218Z
LAST-MODIFIED:20240212T201419Z
UID:10000645-1713292200-1713295800@sjschoolonline.org
SUMMARY:Spring Music Concert (K-2)
DESCRIPTION:
URL:https://sjschoolonline.org/event/spring-music-concert-k-2/
CATEGORIES:St. James Catholic School
END:VEVENT
BEGIN:VEVENT
DTSTART;TZID=America/New_York:20240416T183000
DTEND;TZID=America/New_York:20240416T193000
DTSTAMP:20260425T140036
CREATED:20240222T204531Z
LAST-MODIFIED:20240222T204531Z
UID:10000783-1713292200-1713295800@sjschoolonline.org
SUMMARY:Spring Music Concert (K-2)
DESCRIPTION:
URL:https://sjschoolonline.org/event/spring-music-concert-k-2-2/
CATEGORIES:St. James Catholic School
END:VEVENT
BEGIN:VEVENT
DTSTART;TZID=America/New_York:20240416T183000
DTEND;TZID=America/New_York:20240416T193000
DTSTAMP:20260425T140036
CREATED:20240227T212700Z
LAST-MODIFIED:20240227T212700Z
UID:10000804-1713292200-1713295800@sjschoolonline.org
SUMMARY:Spring Music Concert (K-2)
DESCRIPTION:
URL:https://sjschoolonline.org/event/spring-music-concert-k-2-3/
CATEGORIES:St. James Catholic School
END:VEVENT
END:VCALENDAR