BEGIN:VCALENDAR
VERSION:2.0
PRODID:-//St. James Catholic School - ECPv6.15.20//NONSGML v1.0//EN
CALSCALE:GREGORIAN
METHOD:PUBLISH
X-ORIGINAL-URL:https://sjschoolonline.org
X-WR-CALDESC:Events for St. James Catholic School
REFRESH-INTERVAL;VALUE=DURATION:PT1H
X-Robots-Tag:noindex
X-PUBLISHED-TTL:PT1H
BEGIN:VTIMEZONE
TZID:America/New_York
BEGIN:DAYLIGHT
TZOFFSETFROM:-0500
TZOFFSETTO:-0400
TZNAME:EDT
DTSTART:20230312T070000
END:DAYLIGHT
BEGIN:STANDARD
TZOFFSETFROM:-0400
TZOFFSETTO:-0500
TZNAME:EST
DTSTART:20231105T060000
END:STANDARD
BEGIN:DAYLIGHT
TZOFFSETFROM:-0500
TZOFFSETTO:-0400
TZNAME:EDT
DTSTART:20240310T070000
END:DAYLIGHT
BEGIN:STANDARD
TZOFFSETFROM:-0400
TZOFFSETTO:-0500
TZNAME:EST
DTSTART:20241103T060000
END:STANDARD
BEGIN:DAYLIGHT
TZOFFSETFROM:-0500
TZOFFSETTO:-0400
TZNAME:EDT
DTSTART:20250309T070000
END:DAYLIGHT
BEGIN:STANDARD
TZOFFSETFROM:-0400
TZOFFSETTO:-0500
TZNAME:EST
DTSTART:20251102T060000
END:STANDARD
END:VTIMEZONE
BEGIN:VEVENT
DTSTART;TZID=America/New_York:20241001T000000
DTEND;TZID=America/New_York:20241001T235959
DTSTAMP:20260425T062312
CREATED:20240101T154708Z
LAST-MODIFIED:20240212T201558Z
UID:10000551-1727740800-1727827199@sjschoolonline.org
SUMMARY:Happy Birthday\, Mrs. Peak!
DESCRIPTION:
URL:https://sjschoolonline.org/event/happy-birthday-mrs-peak/
CATEGORIES:St. James Catholic School
END:VEVENT
BEGIN:VEVENT
DTSTART;TZID=America/New_York:20241001T000000
DTEND;TZID=America/New_York:20241001T235959
DTSTAMP:20260425T062312
CREATED:20240101T154708Z
LAST-MODIFIED:20240212T201558Z
UID:10000552-1727740800-1727827199@sjschoolonline.org
SUMMARY:Happy Feast Day\, House of Lisieux!
DESCRIPTION:
URL:https://sjschoolonline.org/event/happy-feast-day-house-of-lisieux/
CATEGORIES:St. James Catholic School
END:VEVENT
BEGIN:VEVENT
DTSTART;TZID=America/New_York:20241001T000000
DTEND;TZID=America/New_York:20241013T235959
DTSTAMP:20260425T062312
CREATED:20240614T084735Z
LAST-MODIFIED:20240614T084735Z
UID:10001018-1727740800-1728863999@sjschoolonline.org
SUMMARY:Spirit Store Open
DESCRIPTION:
URL:https://sjschoolonline.org/event/spirit-store-open-2/
CATEGORIES:St. James Catholic School
END:VEVENT
BEGIN:VEVENT
DTSTART;TZID=America/New_York:20241001T083000
DTEND;TZID=America/New_York:20241001T113000
DTSTAMP:20260425T062312
CREATED:20240912T142725Z
LAST-MODIFIED:20240912T142725Z
UID:10001113-1727771400-1727782200@sjschoolonline.org
SUMMARY:2nd Grade Field Trip St Martins Mass & Riney Pumpkin Patch
DESCRIPTION:
URL:https://sjschoolonline.org/event/2nd-grade-field-trip-st-martins-mass-riney-pumpkin-patch/
CATEGORIES:St. James Catholic School
END:VEVENT
END:VCALENDAR