BEGIN:VCALENDAR
VERSION:2.0
PRODID:-//St. James Catholic School - ECPv6.15.20//NONSGML v1.0//EN
CALSCALE:GREGORIAN
METHOD:PUBLISH
X-WR-CALNAME:St. James Catholic School
X-ORIGINAL-URL:https://sjschoolonline.org
X-WR-CALDESC:Events for St. James Catholic School
REFRESH-INTERVAL;VALUE=DURATION:PT1H
X-Robots-Tag:noindex
X-PUBLISHED-TTL:PT1H
BEGIN:VTIMEZONE
TZID:America/New_York
BEGIN:DAYLIGHT
TZOFFSETFROM:-0500
TZOFFSETTO:-0400
TZNAME:EDT
DTSTART:20230312T070000
END:DAYLIGHT
BEGIN:STANDARD
TZOFFSETFROM:-0400
TZOFFSETTO:-0500
TZNAME:EST
DTSTART:20231105T060000
END:STANDARD
BEGIN:DAYLIGHT
TZOFFSETFROM:-0500
TZOFFSETTO:-0400
TZNAME:EDT
DTSTART:20240310T070000
END:DAYLIGHT
BEGIN:STANDARD
TZOFFSETFROM:-0400
TZOFFSETTO:-0500
TZNAME:EST
DTSTART:20241103T060000
END:STANDARD
BEGIN:DAYLIGHT
TZOFFSETFROM:-0500
TZOFFSETTO:-0400
TZNAME:EDT
DTSTART:20250309T070000
END:DAYLIGHT
BEGIN:STANDARD
TZOFFSETFROM:-0400
TZOFFSETTO:-0500
TZNAME:EST
DTSTART:20251102T060000
END:STANDARD
END:VTIMEZONE
BEGIN:VEVENT
DTSTART;TZID=America/New_York:20241001T000000
DTEND;TZID=America/New_York:20241013T235959
DTSTAMP:20260425T090857
CREATED:20240614T084735Z
LAST-MODIFIED:20240614T084735Z
UID:10001018-1727740800-1728863999@sjschoolonline.org
SUMMARY:Spirit Store Open
DESCRIPTION:
URL:https://sjschoolonline.org/event/spirit-store-open-2/
CATEGORIES:St. James Catholic School
END:VEVENT
BEGIN:VEVENT
DTSTART;TZID=America/New_York:20241004T000000
DTEND;TZID=America/New_York:20241004T235959
DTSTAMP:20260425T090857
CREATED:20240103T155805Z
LAST-MODIFIED:20240212T201558Z
UID:10000618-1728000000-1728086399@sjschoolonline.org
SUMMARY:First Friday Adoration
DESCRIPTION:
URL:https://sjschoolonline.org/event/first-friday-adoration-10/
CATEGORIES:St. James Catholic School
END:VEVENT
BEGIN:VEVENT
DTSTART;TZID=America/New_York:20241004T000000
DTEND;TZID=America/New_York:20241004T235959
DTSTAMP:20260425T090857
CREATED:20240817T131846Z
LAST-MODIFIED:20240817T131846Z
UID:10001090-1728000000-1728086399@sjschoolonline.org
SUMMARY:ALL SCHOOL PHOTO
DESCRIPTION:
URL:https://sjschoolonline.org/event/all-school-photo/
CATEGORIES:St. James Catholic School
END:VEVENT
BEGIN:VEVENT
DTSTART;TZID=America/New_York:20241004T000000
DTEND;TZID=America/New_York:20241004T235959
DTSTAMP:20260425T090857
CREATED:20240913T142826Z
LAST-MODIFIED:20240913T142826Z
UID:10001115-1728000000-1728086399@sjschoolonline.org
SUMMARY:1st Quarter Ends
DESCRIPTION:
URL:https://sjschoolonline.org/event/1st-quarter-ends/
CATEGORIES:St. James Catholic School
END:VEVENT
BEGIN:VEVENT
DTSTART;TZID=America/New_York:20241004T133000
DTEND;TZID=America/New_York:20241004T143000
DTSTAMP:20260425T090857
CREATED:20240913T142825Z
LAST-MODIFIED:20240913T142825Z
UID:10001114-1728048600-1728052200@sjschoolonline.org
SUMMARY:St James Rosary Procession
DESCRIPTION:
URL:https://sjschoolonline.org/event/st-james-rosary-procession/
CATEGORIES:St. James Catholic School
END:VEVENT
END:VCALENDAR