BEGIN:VCALENDAR
VERSION:2.0
PRODID:-//St. James Catholic School - ECPv6.15.20//NONSGML v1.0//EN
CALSCALE:GREGORIAN
METHOD:PUBLISH
X-WR-CALNAME:St. James Catholic School
X-ORIGINAL-URL:https://sjschoolonline.org
X-WR-CALDESC:Events for St. James Catholic School
REFRESH-INTERVAL;VALUE=DURATION:PT1H
X-Robots-Tag:noindex
X-PUBLISHED-TTL:PT1H
BEGIN:VTIMEZONE
TZID:America/New_York
BEGIN:DAYLIGHT
TZOFFSETFROM:-0500
TZOFFSETTO:-0400
TZNAME:EDT
DTSTART:20240310T070000
END:DAYLIGHT
BEGIN:STANDARD
TZOFFSETFROM:-0400
TZOFFSETTO:-0500
TZNAME:EST
DTSTART:20241103T060000
END:STANDARD
BEGIN:DAYLIGHT
TZOFFSETFROM:-0500
TZOFFSETTO:-0400
TZNAME:EDT
DTSTART:20250309T070000
END:DAYLIGHT
BEGIN:STANDARD
TZOFFSETFROM:-0400
TZOFFSETTO:-0500
TZNAME:EST
DTSTART:20251102T060000
END:STANDARD
BEGIN:DAYLIGHT
TZOFFSETFROM:-0500
TZOFFSETTO:-0400
TZNAME:EDT
DTSTART:20260308T070000
END:DAYLIGHT
BEGIN:STANDARD
TZOFFSETFROM:-0400
TZOFFSETTO:-0500
TZNAME:EST
DTSTART:20261101T060000
END:STANDARD
END:VTIMEZONE
BEGIN:VEVENT
DTSTART;TZID=America/New_York:20250716T080000
DTEND;TZID=America/New_York:20250716T090000
DTSTAMP:20260421T200357
CREATED:20240406T062719Z
LAST-MODIFIED:20240406T062719Z
UID:10000928-1752652800-1752656400@sjschoolonline.org
SUMMARY:All School Mass
DESCRIPTION:
URL:https://sjschoolonline.org/event/all-school-mass-47/
CATEGORIES:St. James Catholic School
END:VEVENT
BEGIN:VEVENT
DTSTART;TZID=America/New_York:20250715T000000
DTEND;TZID=America/New_York:20250715T235959
DTSTAMP:20260421T200357
CREATED:20240101T154717Z
LAST-MODIFIED:20240212T201737Z
UID:10000590-1752537600-1752623999@sjschoolonline.org
SUMMARY:Happy Birthday\, Scott Johnson!
DESCRIPTION:
URL:https://sjschoolonline.org/event/happy-birthday-scott-johnson-2/
CATEGORIES:St. James Catholic School
END:VEVENT
BEGIN:VEVENT
DTSTART;TZID=America/New_York:20250714T183000
DTEND;TZID=America/New_York:20250714T193000
DTSTAMP:20260421T200357
CREATED:20250703T231159Z
LAST-MODIFIED:20250703T231159Z
UID:10001343-1752517800-1752521400@sjschoolonline.org
SUMMARY:PTO Meeting SJS Cafeteria
DESCRIPTION:
URL:https://sjschoolonline.org/event/pto-meeting-sjs-cafeteria/
CATEGORIES:St. James Catholic School
END:VEVENT
BEGIN:VEVENT
DTSTART;TZID=America/New_York:20250714T000000
DTEND;TZID=America/New_York:20250714T235959
DTSTAMP:20260421T200357
CREATED:20240124T181342Z
LAST-MODIFIED:20240212T201737Z
UID:10000730-1752451200-1752537599@sjschoolonline.org
SUMMARY:Happy Birthday Mrs. Sullivan!
DESCRIPTION:
URL:https://sjschoolonline.org/event/happy-birthday-mrs-sullivan-2/
CATEGORIES:St. James Catholic School
END:VEVENT
BEGIN:VEVENT
DTSTART;TZID=America/New_York:20250714T000000
DTEND;TZID=America/New_York:20250714T235959
DTSTAMP:20260421T200357
CREATED:20240124T181341Z
LAST-MODIFIED:20240212T201737Z
UID:10000729-1752451200-1752537599@sjschoolonline.org
SUMMARY:Happy Birthday Miss Monge!
DESCRIPTION:
URL:https://sjschoolonline.org/event/happy-birthday-miss-monge-2/
CATEGORIES:St. James Catholic School
END:VEVENT
BEGIN:VEVENT
DTSTART;TZID=America/New_York:20250713T000000
DTEND;TZID=America/New_York:20250713T235959
DTSTAMP:20260421T200357
CREATED:20241014T172855Z
LAST-MODIFIED:20241014T172855Z
UID:10001173-1752364800-1752451199@sjschoolonline.org
SUMMARY:Happy Birthday Mrs. Crush!
DESCRIPTION:
URL:https://sjschoolonline.org/event/happy-birthday-mrs-crush/
CATEGORIES:St. James Catholic School
END:VEVENT
BEGIN:VEVENT
DTSTART;TZID=America/New_York:20250711T000000
DTEND;TZID=America/New_York:20250711T235959
DTSTAMP:20260421T200357
CREATED:20240101T154717Z
LAST-MODIFIED:20240212T201737Z
UID:10000589-1752192000-1752278399@sjschoolonline.org
SUMMARY:Happy Birthday\, Mrs. Lyon!
DESCRIPTION:
URL:https://sjschoolonline.org/event/happy-birthday-mrs-lyon-2/
CATEGORIES:St. James Catholic School
END:VEVENT
BEGIN:VEVENT
DTSTART;TZID=America/New_York:20250709T080000
DTEND;TZID=America/New_York:20250709T090000
DTSTAMP:20260421T200357
CREATED:20240406T062719Z
LAST-MODIFIED:20240406T062719Z
UID:10000927-1752048000-1752051600@sjschoolonline.org
SUMMARY:All School Mass
DESCRIPTION:
URL:https://sjschoolonline.org/event/all-school-mass-46/
CATEGORIES:St. James Catholic School
END:VEVENT
BEGIN:VEVENT
DTSTART;TZID=America/New_York:20250705T000000
DTEND;TZID=America/New_York:20250705T235959
DTSTAMP:20260421T200357
CREATED:20240101T154717Z
LAST-MODIFIED:20240212T201736Z
UID:10000588-1751673600-1751759999@sjschoolonline.org
SUMMARY:Happy Birthday\, Fr. Loi Pham!
DESCRIPTION:
URL:https://sjschoolonline.org/event/happy-birthday-fr-loi-pham-2/
CATEGORIES:St. James Catholic School
END:VEVENT
BEGIN:VEVENT
DTSTART;TZID=America/New_York:20250704T000000
DTEND;TZID=America/New_York:20250704T235959
DTSTAMP:20260421T200357
CREATED:20240103T155813Z
LAST-MODIFIED:20240212T201736Z
UID:10000627-1751587200-1751673599@sjschoolonline.org
SUMMARY:First Friday Adoration
DESCRIPTION:
URL:https://sjschoolonline.org/event/first-friday-adoration-19/
CATEGORIES:St. James Catholic School
END:VEVENT
BEGIN:VEVENT
DTSTART;TZID=America/New_York:20250702T080000
DTEND;TZID=America/New_York:20250702T090000
DTSTAMP:20260421T200357
CREATED:20240406T062719Z
LAST-MODIFIED:20240406T062719Z
UID:10000926-1751443200-1751446800@sjschoolonline.org
SUMMARY:All School Mass
DESCRIPTION:
URL:https://sjschoolonline.org/event/all-school-mass-45/
CATEGORIES:St. James Catholic School
END:VEVENT
BEGIN:VEVENT
DTSTART;TZID=America/New_York:20250702T000000
DTEND;TZID=America/New_York:20250702T235959
DTSTAMP:20260421T200357
CREATED:20240124T181341Z
LAST-MODIFIED:20240212T201736Z
UID:10000728-1751414400-1751500799@sjschoolonline.org
SUMMARY:Happy Birthday Mrs. Tankersley!
DESCRIPTION:
URL:https://sjschoolonline.org/event/happy-birthday-mrs-tankersley-2/
CATEGORIES:St. James Catholic School
END:VEVENT
BEGIN:VEVENT
DTSTART;TZID=America/New_York:20250701T000000
DTEND;TZID=America/New_York:20250701T235959
DTSTAMP:20260421T200357
CREATED:20240101T154717Z
LAST-MODIFIED:20240212T201736Z
UID:10000587-1751328000-1751414399@sjschoolonline.org
SUMMARY:Happy Birthday\, Fr. Wimsatt!
DESCRIPTION:
URL:https://sjschoolonline.org/event/happy-birthday-fr-wimsatt-2/
CATEGORIES:St. James Catholic School
END:VEVENT
BEGIN:VEVENT
DTSTART;TZID=America/New_York:20250630T000000
DTEND;TZID=America/New_York:20250630T235959
DTSTAMP:20260421T200357
CREATED:20250519T162705Z
LAST-MODIFIED:20250519T162705Z
UID:10001304-1751241600-1751327999@sjschoolonline.org
SUMMARY:Safe Environment Training @ Batcheldor Hall or Hall
DESCRIPTION:
URL:https://sjschoolonline.org/event/safe-environment-training-batcheldor-hall-or-hall/
CATEGORIES:St. James Catholic School
END:VEVENT
BEGIN:VEVENT
DTSTART;TZID=America/New_York:20250625T080000
DTEND;TZID=America/New_York:20250625T090000
DTSTAMP:20260421T200357
CREATED:20240406T062719Z
LAST-MODIFIED:20240406T062719Z
UID:10000925-1750838400-1750842000@sjschoolonline.org
SUMMARY:All School Mass
DESCRIPTION:
URL:https://sjschoolonline.org/event/all-school-mass-44/
CATEGORIES:St. James Catholic School
END:VEVENT
BEGIN:VEVENT
DTSTART;TZID=America/New_York:20250623T190000
DTEND;TZID=America/New_York:20250623T200000
DTSTAMP:20260421T200357
CREATED:20250612T181202Z
LAST-MODIFIED:20250612T181202Z
UID:10001326-1750705200-1750708800@sjschoolonline.org
SUMMARY:Jimmy Awards
DESCRIPTION:
URL:https://sjschoolonline.org/event/jimmy-awards/
CATEGORIES:St. James Catholic School
END:VEVENT
BEGIN:VEVENT
DTSTART;TZID=America/New_York:20250618T081500
DTEND;TZID=America/New_York:20250618T100000
DTSTAMP:20260421T200357
CREATED:20240921T152751Z
LAST-MODIFIED:20240921T152751Z
UID:10001135-1750234500-1750240800@sjschoolonline.org
SUMMARY:Testing Session- Spanish Room
DESCRIPTION:
URL:https://sjschoolonline.org/event/testing-session-spanish-room-7/
CATEGORIES:St. James Catholic School
END:VEVENT
BEGIN:VEVENT
DTSTART;TZID=America/New_York:20250618T080000
DTEND;TZID=America/New_York:20250618T090000
DTSTAMP:20260421T200357
CREATED:20240406T062717Z
LAST-MODIFIED:20240406T062717Z
UID:10000924-1750233600-1750237200@sjschoolonline.org
SUMMARY:All School Mass
DESCRIPTION:
URL:https://sjschoolonline.org/event/all-school-mass-43/
CATEGORIES:St. James Catholic School
END:VEVENT
BEGIN:VEVENT
DTSTART;TZID=America/New_York:20250613T190000
DTEND;TZID=America/New_York:20250613T200000
DTSTAMP:20260421T200357
CREATED:20250409T122721Z
LAST-MODIFIED:20250409T122721Z
UID:10001282-1749841200-1749844800@sjschoolonline.org
SUMMARY:MSYM/HSYM Summer Event Movie Night
DESCRIPTION:
URL:https://sjschoolonline.org/event/msym-hsym-summer-event-movie-night/
CATEGORIES:St. James Catholic School
END:VEVENT
BEGIN:VEVENT
DTSTART;TZID=America/New_York:20250613T160000
DTEND;TZID=America/New_York:20250613T180000
DTSTAMP:20260421T200357
CREATED:20250409T122721Z
LAST-MODIFIED:20250409T122721Z
UID:10001281-1749830400-1749837600@sjschoolonline.org
SUMMARY:VBS Setup
DESCRIPTION:
URL:https://sjschoolonline.org/event/vbs-setup/
CATEGORIES:St. James Catholic School
END:VEVENT
BEGIN:VEVENT
DTSTART;TZID=America/New_York:20250611T080000
DTEND;TZID=America/New_York:20250611T090000
DTSTAMP:20260421T200357
CREATED:20240406T062717Z
LAST-MODIFIED:20240406T062717Z
UID:10000923-1749628800-1749632400@sjschoolonline.org
SUMMARY:All School Mass
DESCRIPTION:
URL:https://sjschoolonline.org/event/all-school-mass-42/
CATEGORIES:St. James Catholic School
END:VEVENT
BEGIN:VEVENT
DTSTART;TZID=America/New_York:20250610T000000
DTEND;TZID=America/New_York:20250610T235959
DTSTAMP:20260421T200357
CREATED:20240101T154716Z
LAST-MODIFIED:20240212T201735Z
UID:10000586-1749513600-1749599999@sjschoolonline.org
SUMMARY:Happy Birthday\, Mrs. Gutierrez!
DESCRIPTION:
URL:https://sjschoolonline.org/event/happy-birthday-mrs-gutierrez-2/
CATEGORIES:St. James Catholic School
END:VEVENT
BEGIN:VEVENT
DTSTART;TZID=America/New_York:20250609T000000
DTEND;TZID=America/New_York:20250609T235959
DTSTAMP:20260421T200357
CREATED:20241011T171446Z
LAST-MODIFIED:20241011T171446Z
UID:10001160-1749427200-1749513599@sjschoolonline.org
SUMMARY:Happy Birthday Mrs. Melissa Johnson!
DESCRIPTION:
URL:https://sjschoolonline.org/event/happy-birthday-mrs-melissa-johnson/
CATEGORIES:St. James Catholic School
END:VEVENT
BEGIN:VEVENT
DTSTART;TZID=America/New_York:20250609T000000
DTEND;TZID=America/New_York:20250609T235959
DTSTAMP:20260421T200357
CREATED:20240101T154716Z
LAST-MODIFIED:20240212T201735Z
UID:10000585-1749427200-1749513599@sjschoolonline.org
SUMMARY:Happy Birthday\, Mrs. Johnson!
DESCRIPTION:
URL:https://sjschoolonline.org/event/happy-birthday-mrs-johnson-2/
CATEGORIES:St. James Catholic School
END:VEVENT
BEGIN:VEVENT
DTSTART;TZID=America/New_York:20250608T000000
DTEND;TZID=America/New_York:20250608T235959
DTSTAMP:20260421T200357
CREATED:20241015T172709Z
LAST-MODIFIED:20241015T172709Z
UID:10001175-1749340800-1749427199@sjschoolonline.org
SUMMARY:Happy Birthday Mrs. Singer!
DESCRIPTION:
URL:https://sjschoolonline.org/event/happy-birthday-mrs-singer/
CATEGORIES:St. James Catholic School
END:VEVENT
BEGIN:VEVENT
DTSTART;TZID=America/New_York:20250607T000000
DTEND;TZID=America/New_York:20250607T235959
DTSTAMP:20260421T200357
CREATED:20240101T154716Z
LAST-MODIFIED:20240212T201723Z
UID:10000584-1749254400-1749340799@sjschoolonline.org
SUMMARY:Happy Birthday\, Mrs. Harrison!
DESCRIPTION:
URL:https://sjschoolonline.org/event/happy-birthday-mrs-harrison-2/
CATEGORIES:St. James Catholic School
END:VEVENT
BEGIN:VEVENT
DTSTART;TZID=America/New_York:20250606T000000
DTEND;TZID=America/New_York:20250606T235959
DTSTAMP:20260421T200357
CREATED:20240103T155812Z
LAST-MODIFIED:20240212T201723Z
UID:10000626-1749168000-1749254399@sjschoolonline.org
SUMMARY:First Friday Adoration
DESCRIPTION:
URL:https://sjschoolonline.org/event/first-friday-adoration-18/
CATEGORIES:St. James Catholic School
END:VEVENT
BEGIN:VEVENT
DTSTART;TZID=America/New_York:20250604T081500
DTEND;TZID=America/New_York:20250604T100000
DTSTAMP:20260421T200357
CREATED:20240921T152750Z
LAST-MODIFIED:20240921T152750Z
UID:10001134-1749024900-1749031200@sjschoolonline.org
SUMMARY:Testing Session - Spanish Room
DESCRIPTION:
URL:https://sjschoolonline.org/event/testing-session-spanish-room-6/
CATEGORIES:St. James Catholic School
END:VEVENT
BEGIN:VEVENT
DTSTART;TZID=America/New_York:20250604T080000
DTEND;TZID=America/New_York:20250604T090000
DTSTAMP:20260421T200357
CREATED:20240406T062717Z
LAST-MODIFIED:20240406T062717Z
UID:10000922-1749024000-1749027600@sjschoolonline.org
SUMMARY:All School Mass
DESCRIPTION:
URL:https://sjschoolonline.org/event/all-school-mass-41/
CATEGORIES:St. James Catholic School
END:VEVENT
BEGIN:VEVENT
DTSTART;TZID=America/New_York:20250603T000000
DTEND;TZID=America/New_York:20250603T235959
DTSTAMP:20260421T200357
CREATED:20240101T154716Z
LAST-MODIFIED:20240212T201723Z
UID:10000583-1748908800-1748995199@sjschoolonline.org
SUMMARY:Happy Birthday\, Mr. Padgett!
DESCRIPTION:
URL:https://sjschoolonline.org/event/happy-birthday-mr-padgett-2/
CATEGORIES:St. James Catholic School
END:VEVENT
END:VCALENDAR