BEGIN:VCALENDAR
VERSION:2.0
PRODID:-//St. James Catholic School - ECPv6.15.20//NONSGML v1.0//EN
CALSCALE:GREGORIAN
METHOD:PUBLISH
X-WR-CALNAME:St. James Catholic School
X-ORIGINAL-URL:https://sjschoolonline.org
X-WR-CALDESC:Events for St. James Catholic School
REFRESH-INTERVAL;VALUE=DURATION:PT1H
X-Robots-Tag:noindex
X-PUBLISHED-TTL:PT1H
BEGIN:VTIMEZONE
TZID:America/New_York
BEGIN:DAYLIGHT
TZOFFSETFROM:-0500
TZOFFSETTO:-0400
TZNAME:EDT
DTSTART:20250309T070000
END:DAYLIGHT
BEGIN:STANDARD
TZOFFSETFROM:-0400
TZOFFSETTO:-0500
TZNAME:EST
DTSTART:20251102T060000
END:STANDARD
BEGIN:DAYLIGHT
TZOFFSETFROM:-0500
TZOFFSETTO:-0400
TZNAME:EDT
DTSTART:20260308T070000
END:DAYLIGHT
BEGIN:STANDARD
TZOFFSETFROM:-0400
TZOFFSETTO:-0500
TZNAME:EST
DTSTART:20261101T060000
END:STANDARD
BEGIN:DAYLIGHT
TZOFFSETFROM:-0500
TZOFFSETTO:-0400
TZNAME:EDT
DTSTART:20270314T070000
END:DAYLIGHT
BEGIN:STANDARD
TZOFFSETFROM:-0400
TZOFFSETTO:-0500
TZNAME:EST
DTSTART:20271107T060000
END:STANDARD
END:VTIMEZONE
BEGIN:VEVENT
DTSTART;TZID=America/New_York:20260206T000000
DTEND;TZID=America/New_York:20260206T235959
DTSTAMP:20260421T114646
CREATED:20240206T194435Z
LAST-MODIFIED:20240211T201425Z
UID:10000759-1770336000-1770422399@sjschoolonline.org
SUMMARY:Happy Birthday Mrs. Hurt!
DESCRIPTION:
URL:https://sjschoolonline.org/event/happy-birthday-mrs-hurt-3/
CATEGORIES:St. James Catholic School
END:VEVENT
BEGIN:VEVENT
DTSTART;TZID=America/New_York:20260206T000000
DTEND;TZID=America/New_York:20260206T235959
DTSTAMP:20260421T114646
CREATED:20240206T194434Z
LAST-MODIFIED:20240211T201425Z
UID:10000758-1770336000-1770422399@sjschoolonline.org
SUMMARY:First Friday Adoration
DESCRIPTION:
URL:https://sjschoolonline.org/event/first-friday-adoration-26/
CATEGORIES:St. James Catholic School
END:VEVENT
BEGIN:VEVENT
DTSTART;TZID=America/New_York:20260204T131500
DTEND;TZID=America/New_York:20260204T143000
DTSTAMP:20260421T114646
CREATED:20260113T191205Z
LAST-MODIFIED:20260113T191205Z
UID:10001770-1770210900-1770215400@sjschoolonline.org
SUMMARY:Dare Graduation
DESCRIPTION:
URL:https://sjschoolonline.org/event/dare-graduation-2/
CATEGORIES:St. James Catholic School
END:VEVENT
BEGIN:VEVENT
DTSTART;TZID=America/New_York:20260204T081500
DTEND;TZID=America/New_York:20260204T084500
DTSTAMP:20260421T114646
CREATED:20250717T235707Z
LAST-MODIFIED:20250717T235707Z
UID:10001375-1770192900-1770194700@sjschoolonline.org
SUMMARY:All School Mass
DESCRIPTION:
URL:https://sjschoolonline.org/event/all-school-mass-120/
CATEGORIES:St. James Catholic School
END:VEVENT
BEGIN:VEVENT
DTSTART;TZID=America/New_York:20260204T081000
DTEND;TZID=America/New_York:20260204T084000
DTSTAMP:20260421T114646
CREATED:20250730T062739Z
LAST-MODIFIED:20250730T062739Z
UID:10001568-1770192600-1770194400@sjschoolonline.org
SUMMARY:All School Mass
DESCRIPTION:
URL:https://sjschoolonline.org/event/all-school-mass-220/
CATEGORIES:St. James Catholic School
END:VEVENT
BEGIN:VEVENT
DTSTART;TZID=America/New_York:20260204T080000
DTEND;TZID=America/New_York:20260204T090000
DTSTAMP:20260421T114646
CREATED:20240406T062726Z
LAST-MODIFIED:20240406T062726Z
UID:10000957-1770192000-1770195600@sjschoolonline.org
SUMMARY:All School Mass
DESCRIPTION:
URL:https://sjschoolonline.org/event/all-school-mass-76/
CATEGORIES:St. James Catholic School
END:VEVENT
BEGIN:VEVENT
DTSTART;TZID=America/New_York:20260202T144000
DTEND;TZID=America/New_York:20260202T153000
DTSTAMP:20260421T114646
CREATED:20250727T061256Z
LAST-MODIFIED:20250727T061256Z
UID:10001491-1770043200-1770046200@sjschoolonline.org
SUMMARY:Choir Practice- Music Room
DESCRIPTION:
URL:https://sjschoolonline.org/event/choir-practice-music-room-27/
CATEGORIES:St. James Catholic School
END:VEVENT
BEGIN:VEVENT
DTSTART;TZID=America/New_York:20260131T170000
DTEND;TZID=America/New_York:20260131T233000
DTSTAMP:20260421T114646
CREATED:20250529T165755Z
LAST-MODIFIED:20250529T165755Z
UID:10001309-1769878800-1769902200@sjschoolonline.org
SUMMARY:Black and White Knight
DESCRIPTION:
URL:https://sjschoolonline.org/event/black-and-white-knight-3/
CATEGORIES:St. James Catholic School
END:VEVENT
BEGIN:VEVENT
DTSTART;TZID=America/New_York:20260130T000000
DTEND;TZID=America/New_York:20260130T235959
DTSTAMP:20260421T114646
CREATED:20250619T202823Z
LAST-MODIFIED:20250619T202823Z
UID:10001332-1769731200-1769817599@sjschoolonline.org
SUMMARY:CSW Staff Lunch
DESCRIPTION:
URL:https://sjschoolonline.org/event/csw-staff-lunch/
CATEGORIES:St. James Catholic School
END:VEVENT
BEGIN:VEVENT
DTSTART;TZID=America/New_York:20260128T081500
DTEND;TZID=America/New_York:20260128T084500
DTSTAMP:20260421T114646
CREATED:20250717T235706Z
LAST-MODIFIED:20250717T235706Z
UID:10001374-1769588100-1769589900@sjschoolonline.org
SUMMARY:All School Mass
DESCRIPTION:
URL:https://sjschoolonline.org/event/all-school-mass-119/
CATEGORIES:St. James Catholic School
END:VEVENT
BEGIN:VEVENT
DTSTART;TZID=America/New_York:20260128T081000
DTEND;TZID=America/New_York:20260128T084000
DTSTAMP:20260421T114646
CREATED:20250730T062739Z
LAST-MODIFIED:20250730T062739Z
UID:10001567-1769587800-1769589600@sjschoolonline.org
SUMMARY:All School Mass
DESCRIPTION:
URL:https://sjschoolonline.org/event/all-school-mass-219/
CATEGORIES:St. James Catholic School
END:VEVENT
BEGIN:VEVENT
DTSTART;TZID=America/New_York:20260128T080000
DTEND;TZID=America/New_York:20260128T090000
DTSTAMP:20260421T114646
CREATED:20240406T062725Z
LAST-MODIFIED:20240406T062725Z
UID:10000956-1769587200-1769590800@sjschoolonline.org
SUMMARY:All School Mass
DESCRIPTION:
URL:https://sjschoolonline.org/event/all-school-mass-75/
CATEGORIES:St. James Catholic School
END:VEVENT
BEGIN:VEVENT
DTSTART;TZID=America/New_York:20260128T000000
DTEND;TZID=America/New_York:20260128T235959
DTSTAMP:20260421T114646
CREATED:20260123T194225Z
LAST-MODIFIED:20260123T194225Z
UID:10001780-1769558400-1769644799@sjschoolonline.org
SUMMARY:Happy Feast Day Sr. Sofia Thomas
DESCRIPTION:
URL:https://sjschoolonline.org/event/happy-feast-day-sr-sofia-thomas/
CATEGORIES:St. James Catholic School
END:VEVENT
BEGIN:VEVENT
DTSTART;TZID=America/New_York:20260127T000000
DTEND;TZID=America/New_York:20260127T235959
DTSTAMP:20260421T114646
CREATED:20250619T202823Z
LAST-MODIFIED:20250619T202823Z
UID:10001331-1769472000-1769558399@sjschoolonline.org
SUMMARY:CSW Student Appreciation
DESCRIPTION:
URL:https://sjschoolonline.org/event/csw-student-appreciation/
CATEGORIES:St. James Catholic School
END:VEVENT
BEGIN:VEVENT
DTSTART;TZID=America/New_York:20260126T180000
DTEND;TZID=America/New_York:20260126T190000
DTSTAMP:20260421T114646
CREATED:20250724T061157Z
LAST-MODIFIED:20250724T061157Z
UID:10001460-1769450400-1769454000@sjschoolonline.org
SUMMARY:PTO Meeting- SJS Cafeteria
DESCRIPTION:
URL:https://sjschoolonline.org/event/pto-meeting-sjs-cafeteria-3/
CATEGORIES:St. James Catholic School
END:VEVENT
BEGIN:VEVENT
DTSTART;TZID=America/New_York:20260126T144000
DTEND;TZID=America/New_York:20260126T153000
DTSTAMP:20260421T114646
CREATED:20250727T061255Z
LAST-MODIFIED:20250727T061255Z
UID:10001490-1769438400-1769441400@sjschoolonline.org
SUMMARY:Choir Practice- Music Room
DESCRIPTION:
URL:https://sjschoolonline.org/event/choir-practice-music-room-26/
CATEGORIES:St. James Catholic School
END:VEVENT
BEGIN:VEVENT
DTSTART;TZID=America/New_York:20260126T000000
DTEND;TZID=America/New_York:20260131T235959
DTSTAMP:20260421T114646
CREATED:20250530T165828Z
LAST-MODIFIED:20250530T165828Z
UID:10001316-1769385600-1769903999@sjschoolonline.org
SUMMARY:Catholic Schools Week
DESCRIPTION:
URL:https://sjschoolonline.org/event/catholic-schools-week-3/
CATEGORIES:St. James Catholic School
END:VEVENT
BEGIN:VEVENT
DTSTART;TZID=America/New_York:20260126T000000
DTEND;TZID=America/New_York:20260126T235959
DTSTAMP:20260421T114646
CREATED:20240126T182910Z
LAST-MODIFIED:20240211T201425Z
UID:10000757-1769385600-1769471999@sjschoolonline.org
SUMMARY:Happy Birthday\, Mrs. Sanchez!
DESCRIPTION:
URL:https://sjschoolonline.org/event/happy-birthday-mrs-sanchez-3/
CATEGORIES:St. James Catholic School
END:VEVENT
BEGIN:VEVENT
DTSTART;TZID=America/New_York:20260121T081500
DTEND;TZID=America/New_York:20260121T084500
DTSTAMP:20260421T114646
CREATED:20250717T235706Z
LAST-MODIFIED:20250717T235706Z
UID:10001373-1768983300-1768985100@sjschoolonline.org
SUMMARY:All School Mass
DESCRIPTION:
URL:https://sjschoolonline.org/event/all-school-mass-118/
CATEGORIES:St. James Catholic School
END:VEVENT
BEGIN:VEVENT
DTSTART;TZID=America/New_York:20260121T081000
DTEND;TZID=America/New_York:20260121T084000
DTSTAMP:20260421T114646
CREATED:20250730T062738Z
LAST-MODIFIED:20250730T062738Z
UID:10001566-1768983000-1768984800@sjschoolonline.org
SUMMARY:All School Mass
DESCRIPTION:
URL:https://sjschoolonline.org/event/all-school-mass-218/
CATEGORIES:St. James Catholic School
END:VEVENT
BEGIN:VEVENT
DTSTART;TZID=America/New_York:20260121T080000
DTEND;TZID=America/New_York:20260121T090000
DTSTAMP:20260421T114646
CREATED:20240406T062725Z
LAST-MODIFIED:20240406T062725Z
UID:10000955-1768982400-1768986000@sjschoolonline.org
SUMMARY:All School Mass
DESCRIPTION:
URL:https://sjschoolonline.org/event/all-school-mass-74/
CATEGORIES:St. James Catholic School
END:VEVENT
BEGIN:VEVENT
DTSTART;TZID=America/New_York:20260120T180000
DTEND;TZID=America/New_York:20260120T190000
DTSTAMP:20260421T114646
CREATED:20250827T072710Z
LAST-MODIFIED:20250827T072710Z
UID:10001651-1768932000-1768935600@sjschoolonline.org
SUMMARY:First Reconciliation
DESCRIPTION:
URL:https://sjschoolonline.org/event/first-reconciliation/
CATEGORIES:St. James Catholic School
END:VEVENT
BEGIN:VEVENT
DTSTART;TZID=America/New_York:20260119T144000
DTEND;TZID=America/New_York:20260119T153000
DTSTAMP:20260421T114646
CREATED:20250727T061255Z
LAST-MODIFIED:20250727T061255Z
UID:10001489-1768833600-1768836600@sjschoolonline.org
SUMMARY:Choir Practice- Music Room
DESCRIPTION:
URL:https://sjschoolonline.org/event/choir-practice-music-room-25/
CATEGORIES:St. James Catholic School
END:VEVENT
BEGIN:VEVENT
DTSTART;TZID=America/New_York:20260119T000000
DTEND;TZID=America/New_York:20260119T235959
DTSTAMP:20260421T114646
CREATED:20250814T062805Z
LAST-MODIFIED:20250814T062805Z
UID:10001640-1768780800-1768867199@sjschoolonline.org
SUMMARY:Martin Luther King Day-No School
DESCRIPTION:
URL:https://sjschoolonline.org/event/martin-luther-king-day-no-school/
CATEGORIES:St. James Catholic School
END:VEVENT
BEGIN:VEVENT
DTSTART;TZID=America/New_York:20260115T000000
DTEND;TZID=America/New_York:20260115T235959
DTSTAMP:20260421T114646
CREATED:20240124T181354Z
LAST-MODIFIED:20240211T201425Z
UID:10000756-1768435200-1768521599@sjschoolonline.org
SUMMARY:Happy Birthday Mrs. Garris!
DESCRIPTION:
URL:https://sjschoolonline.org/event/happy-birthday-mrs-garris-6/
CATEGORIES:St. James Catholic School
END:VEVENT
BEGIN:VEVENT
DTSTART;TZID=America/New_York:20260115T000000
DTEND;TZID=America/New_York:20260115T235959
DTSTAMP:20260421T114646
CREATED:20240115T165808Z
LAST-MODIFIED:20240123T180432Z
UID:10000643-1768435200-1768521599@sjschoolonline.org
SUMMARY:Happy Birthday\, Mrs. Garris!
DESCRIPTION:
URL:https://sjschoolonline.org/event/happy-birthday-mrs-garris-4/
CATEGORIES:St. James Catholic School
END:VEVENT
BEGIN:VEVENT
DTSTART;TZID=America/New_York:20260114T081500
DTEND;TZID=America/New_York:20260114T084500
DTSTAMP:20260421T114646
CREATED:20250717T235706Z
LAST-MODIFIED:20250717T235706Z
UID:10001372-1768378500-1768380300@sjschoolonline.org
SUMMARY:All School Mass
DESCRIPTION:
URL:https://sjschoolonline.org/event/all-school-mass-117/
CATEGORIES:St. James Catholic School
END:VEVENT
BEGIN:VEVENT
DTSTART;TZID=America/New_York:20260114T081000
DTEND;TZID=America/New_York:20260114T084000
DTSTAMP:20260421T114646
CREATED:20250730T062738Z
LAST-MODIFIED:20250730T062738Z
UID:10001565-1768378200-1768380000@sjschoolonline.org
SUMMARY:All School Mass
DESCRIPTION:
URL:https://sjschoolonline.org/event/all-school-mass-217/
CATEGORIES:St. James Catholic School
END:VEVENT
BEGIN:VEVENT
DTSTART;TZID=America/New_York:20260114T080000
DTEND;TZID=America/New_York:20260114T090000
DTSTAMP:20260421T114646
CREATED:20240406T062725Z
LAST-MODIFIED:20240406T062725Z
UID:10000954-1768377600-1768381200@sjschoolonline.org
SUMMARY:All School Mass
DESCRIPTION:
URL:https://sjschoolonline.org/event/all-school-mass-73/
CATEGORIES:St. James Catholic School
END:VEVENT
BEGIN:VEVENT
DTSTART;TZID=America/New_York:20260113T000000
DTEND;TZID=America/New_York:20260115T235959
DTSTAMP:20260421T114646
CREATED:20250723T061209Z
LAST-MODIFIED:20250723T061209Z
UID:10001456-1768262400-1768521599@sjschoolonline.org
SUMMARY:Winter MAP Testing
DESCRIPTION:
URL:https://sjschoolonline.org/event/winter-map-testing/
CATEGORIES:St. James Catholic School
END:VEVENT
END:VCALENDAR