BEGIN:VCALENDAR
VERSION:2.0
PRODID:-//St. James Catholic School - ECPv6.15.20//NONSGML v1.0//EN
CALSCALE:GREGORIAN
METHOD:PUBLISH
X-WR-CALNAME:St. James Catholic School
X-ORIGINAL-URL:https://sjschoolonline.org
X-WR-CALDESC:Events for St. James Catholic School
REFRESH-INTERVAL;VALUE=DURATION:PT1H
X-Robots-Tag:noindex
X-PUBLISHED-TTL:PT1H
BEGIN:VTIMEZONE
TZID:America/New_York
BEGIN:DAYLIGHT
TZOFFSETFROM:-0500
TZOFFSETTO:-0400
TZNAME:EDT
DTSTART:20230312T070000
END:DAYLIGHT
BEGIN:STANDARD
TZOFFSETFROM:-0400
TZOFFSETTO:-0500
TZNAME:EST
DTSTART:20231105T060000
END:STANDARD
BEGIN:DAYLIGHT
TZOFFSETFROM:-0500
TZOFFSETTO:-0400
TZNAME:EDT
DTSTART:20240310T070000
END:DAYLIGHT
BEGIN:STANDARD
TZOFFSETFROM:-0400
TZOFFSETTO:-0500
TZNAME:EST
DTSTART:20241103T060000
END:STANDARD
BEGIN:DAYLIGHT
TZOFFSETFROM:-0500
TZOFFSETTO:-0400
TZNAME:EDT
DTSTART:20250309T070000
END:DAYLIGHT
BEGIN:STANDARD
TZOFFSETFROM:-0400
TZOFFSETTO:-0500
TZNAME:EST
DTSTART:20251102T060000
END:STANDARD
END:VTIMEZONE
BEGIN:VTIMEZONE
TZID:UTC
BEGIN:STANDARD
TZOFFSETFROM:+0000
TZOFFSETTO:+0000
TZNAME:UTC
DTSTART:20230101T000000
END:STANDARD
END:VTIMEZONE
BEGIN:VEVENT
DTSTART;TZID=America/New_York:20240313T000000
DTEND;TZID=America/New_York:20240313T235959
DTSTAMP:20260425T171625
CREATED:20240101T154651Z
LAST-MODIFIED:20240123T180354Z
UID:10000478-1710288000-1710374399@sjschoolonline.org
SUMMARY:Happy Birthday Natalie Hoefer
DESCRIPTION:
URL:https://sjschoolonline.org/event/happy-birthday-natalie-hoefer/
CATEGORIES:St. James Catholic School
END:VEVENT
BEGIN:VEVENT
DTSTART;TZID=America/New_York:20240313T000000
DTEND;TZID=America/New_York:20240313T235959
DTSTAMP:20260425T171625
CREATED:20240124T181234Z
LAST-MODIFIED:20240212T201317Z
UID:10000665-1710288000-1710374399@sjschoolonline.org
SUMMARY:Happy Birthday Mrs. Hoefer!
DESCRIPTION:
URL:https://sjschoolonline.org/event/happy-birthday-mrs-hoefer/
CATEGORIES:St. James Catholic School
END:VEVENT
BEGIN:VEVENT
DTSTART;TZID=America/New_York:20240313T080000
DTEND;TZID=America/New_York:20240313T090000
DTSTAMP:20260425T171625
CREATED:20240101T154651Z
LAST-MODIFIED:20240212T201330Z
UID:10000479-1710316800-1710320400@sjschoolonline.org
SUMMARY:School Mass--with PreK4
DESCRIPTION:
URL:https://sjschoolonline.org/event/school-mass-13/
CATEGORIES:St. James Catholic School
END:VEVENT
BEGIN:VEVENT
DTSTART;TZID=UTC:20240313T220000
DTEND;TZID=UTC:20240314T003000
DTSTAMP:20260425T171625
CREATED:20230816T020047Z
LAST-MODIFIED:20231030T114450Z
UID:10000227-1710367200-1710376200@sjschoolonline.org
SUMMARY:Family Faith Formation & Middle School Ministry
DESCRIPTION:
URL:https://sjschoolonline.org/event/family-faith-formation-middle-school-ministry-21/
END:VEVENT
BEGIN:VEVENT
DTSTART;TZID=America/New_York:20240314T000000
DTEND;TZID=America/New_York:20240314T235959
DTSTAMP:20260425T171625
CREATED:20240101T154652Z
LAST-MODIFIED:20240212T201333Z
UID:10000482-1710374400-1710460799@sjschoolonline.org
SUMMARY:First Holy Communion Parent Meeting
DESCRIPTION:
URL:https://sjschoolonline.org/event/first-holy-communion-parent-meeting/
CATEGORIES:St. James Catholic School
END:VEVENT
BEGIN:VEVENT
DTSTART;TZID=America/New_York:20240314T000000
DTEND;TZID=America/New_York:20240314T235959
DTSTAMP:20260425T171625
CREATED:20240305T221925Z
LAST-MODIFIED:20240305T221925Z
UID:10000823-1710374400-1710460799@sjschoolonline.org
SUMMARY:Pi Day :)
DESCRIPTION:
URL:https://sjschoolonline.org/event/pi-day/
CATEGORIES:St. James Catholic School
END:VEVENT
BEGIN:VEVENT
DTSTART;TZID=America/New_York:20240314T121500
DTEND;TZID=America/New_York:20240314T124500
DTSTAMP:20260425T171625
CREATED:20240220T204200Z
LAST-MODIFIED:20240221T154704Z
UID:10000773-1710418500-1710420300@sjschoolonline.org
SUMMARY:4th Grade parent Lunch
DESCRIPTION:
URL:https://sjschoolonline.org/event/4th-grade-parent-lunch/
CATEGORIES:St. James Catholic School
END:VEVENT
BEGIN:VEVENT
DTSTART;TZID=America/New_York:20240314T121500
DTEND;TZID=America/New_York:20240314T124500
DTSTAMP:20260425T171625
CREATED:20240223T205731Z
LAST-MODIFIED:20240223T205731Z
UID:10000788-1710418500-1710420300@sjschoolonline.org
SUMMARY:4th Grade Parent Lunch
DESCRIPTION:
URL:https://sjschoolonline.org/event/4th-grade-parent-lunch-2/
CATEGORIES:St. James Catholic School
END:VEVENT
BEGIN:VEVENT
DTSTART;TZID=America/New_York:20240314T121500
DTEND;TZID=America/New_York:20240314T124500
DTSTAMP:20260425T171625
CREATED:20240227T212658Z
LAST-MODIFIED:20240227T212658Z
UID:10000797-1710418500-1710420300@sjschoolonline.org
SUMMARY:4th Grade Parent Lunch
DESCRIPTION:
URL:https://sjschoolonline.org/event/4th-grade-parent-lunch-3/
CATEGORIES:St. James Catholic School
END:VEVENT
BEGIN:VEVENT
DTSTART;TZID=America/New_York:20240314T121500
DTEND;TZID=America/New_York:20240314T124500
DTSTAMP:20260425T171625
CREATED:20240301T214233Z
LAST-MODIFIED:20240301T214233Z
UID:10000819-1710418500-1710420300@sjschoolonline.org
SUMMARY:4th Grade Parent Lunch
DESCRIPTION:
URL:https://sjschoolonline.org/event/4th-grade-parent-lunch-4/
CATEGORIES:St. James Catholic School
END:VEVENT
BEGIN:VEVENT
DTSTART;TZID=America/New_York:20240315T000000
DTEND;TZID=America/New_York:20240315T235959
DTSTAMP:20260425T171625
CREATED:20240101T154651Z
LAST-MODIFIED:20240212T201331Z
UID:10000480-1710460800-1710547199@sjschoolonline.org
SUMMARY:Report cards posted
DESCRIPTION:
URL:https://sjschoolonline.org/event/report-cards-posted-3/
CATEGORIES:St. James Catholic School
END:VEVENT
BEGIN:VEVENT
DTSTART;TZID=America/New_York:20240315T000000
DTEND;TZID=America/New_York:20240315T235959
DTSTAMP:20260425T171625
CREATED:20240101T154652Z
LAST-MODIFIED:20240212T201332Z
UID:10000481-1710460800-1710547199@sjschoolonline.org
SUMMARY:No School-PD Day for teachers
DESCRIPTION:
URL:https://sjschoolonline.org/event/no-school-pd-day-for-teachers/
CATEGORIES:St. James Catholic School
END:VEVENT
BEGIN:VEVENT
DTSTART;TZID=America/New_York:20240315T170000
DTEND;TZID=America/New_York:20240315T190000
DTSTAMP:20260425T171625
CREATED:20240117T171226Z
LAST-MODIFIED:20240212T201333Z
UID:10000651-1710522000-1710529200@sjschoolonline.org
SUMMARY:Fish Fry
DESCRIPTION:
URL:https://sjschoolonline.org/event/fish-fry-5/
CATEGORIES:St. James Catholic School
END:VEVENT
BEGIN:VEVENT
DTSTART;TZID=UTC:20240316T130000
DTEND;TZID=UTC:20240316T134500
DTSTAMP:20260425T171625
CREATED:20230905T191721Z
LAST-MODIFIED:20231030T114450Z
UID:10000255-1710594000-1710596700@sjschoolonline.org
SUMMARY:K-2 Tennis practice (St James Gym)
DESCRIPTION:
URL:https://sjschoolonline.org/event/k-2-tennis-practice-st-james-gym-2/
END:VEVENT
BEGIN:VEVENT
DTSTART;TZID=UTC:20240316T140000
DTEND;TZID=UTC:20240316T144500
DTSTAMP:20260425T171625
CREATED:20230905T191722Z
LAST-MODIFIED:20231030T114450Z
UID:10000256-1710597600-1710600300@sjschoolonline.org
SUMMARY:3rd\, 4th\, 5th Tennis Practice (St James gym)
DESCRIPTION:
URL:https://sjschoolonline.org/event/3rd-4th-5th-tennis-practice-st-james-gym-2/
END:VEVENT
BEGIN:VEVENT
DTSTART;TZID=America/New_York:20240317T000000
DTEND;TZID=America/New_York:20240317T235959
DTSTAMP:20260425T171625
CREATED:20240101T154652Z
LAST-MODIFIED:20240123T180355Z
UID:10000483-1710633600-1710719999@sjschoolonline.org
SUMMARY:Happy Birthday Yvette Mccamish
DESCRIPTION:
URL:https://sjschoolonline.org/event/happy-birthday-yvette-mccamish/
CATEGORIES:St. James Catholic School
END:VEVENT
BEGIN:VEVENT
DTSTART;TZID=America/New_York:20240317T000000
DTEND;TZID=America/New_York:20240317T235959
DTSTAMP:20260425T171625
CREATED:20240124T181235Z
LAST-MODIFIED:20240212T201334Z
UID:10000667-1710633600-1710719999@sjschoolonline.org
SUMMARY:Happy Birthday Mrs. McCamish
DESCRIPTION:
URL:https://sjschoolonline.org/event/happy-birthday-mrs-mccamish/
CATEGORIES:St. James Catholic School
END:VEVENT
BEGIN:VEVENT
DTSTART;TZID=America/New_York:20240318T000000
DTEND;TZID=America/New_York:20240318T235959
DTSTAMP:20260425T171625
CREATED:20240124T181235Z
LAST-MODIFIED:20240212T201335Z
UID:10000666-1710720000-1710806399@sjschoolonline.org
SUMMARY:Happy Birthday Mrs. Corichi De Yamada!
DESCRIPTION:
URL:https://sjschoolonline.org/event/happy-birthday-mrs-corichi-de-yamada/
CATEGORIES:St. James Catholic School
END:VEVENT
BEGIN:VEVENT
DTSTART;TZID=America/New_York:20240318T000000
DTEND;TZID=America/New_York:20240318T235959
DTSTAMP:20260425T171625
CREATED:20240229T214156Z
LAST-MODIFIED:20240229T214156Z
UID:10000812-1710720000-1710806399@sjschoolonline.org
SUMMARY:6th grade service trip to Feeding America (pm)
DESCRIPTION:
URL:https://sjschoolonline.org/event/6th-grade-service-trip-to-feeding-america-pm/
CATEGORIES:St. James Catholic School
END:VEVENT
BEGIN:VEVENT
DTSTART;TZID=America/New_York:20240318T110000
DTEND;TZID=America/New_York:20240318T113000
DTSTAMP:20260425T171625
CREATED:20240223T205733Z
LAST-MODIFIED:20240223T205733Z
UID:10000789-1710759600-1710761400@sjschoolonline.org
SUMMARY:8th Grade Parent Lunch
DESCRIPTION:
URL:https://sjschoolonline.org/event/8th-grade-parent-lunch-2/
CATEGORIES:St. James Catholic School
END:VEVENT
BEGIN:VEVENT
DTSTART;TZID=America/New_York:20240318T110500
DTEND;TZID=America/New_York:20240318T113000
DTSTAMP:20260425T171625
CREATED:20240227T212658Z
LAST-MODIFIED:20240227T212658Z
UID:10000798-1710759900-1710761400@sjschoolonline.org
SUMMARY:8th Grade Parent Lunch
DESCRIPTION:
URL:https://sjschoolonline.org/event/8th-grade-parent-lunch-3/
CATEGORIES:St. James Catholic School
END:VEVENT
BEGIN:VEVENT
DTSTART;TZID=America/New_York:20240318T110500
DTEND;TZID=America/New_York:20240318T113000
DTSTAMP:20260425T171625
CREATED:20240301T214233Z
LAST-MODIFIED:20240301T214233Z
UID:10000820-1710759900-1710761400@sjschoolonline.org
SUMMARY:8th Grade Parent Lunch
DESCRIPTION:
URL:https://sjschoolonline.org/event/8th-grade-parent-lunch-4/
CATEGORIES:St. James Catholic School
END:VEVENT
BEGIN:VEVENT
DTSTART;TZID=America/New_York:20240318T110500
DTEND;TZID=America/New_York:20240318T113500
DTSTAMP:20260425T171625
CREATED:20240220T204201Z
LAST-MODIFIED:20240220T204201Z
UID:10000777-1710759900-1710761700@sjschoolonline.org
SUMMARY:8th Grade Parent Lunch
DESCRIPTION:
URL:https://sjschoolonline.org/event/8th-grade-parent-lunch/
CATEGORIES:St. James Catholic School
END:VEVENT
BEGIN:VEVENT
DTSTART;TZID=America/New_York:20240319T000000
DTEND;TZID=America/New_York:20240319T235959
DTSTAMP:20260425T171625
CREATED:20240101T154652Z
LAST-MODIFIED:20240201T191402Z
UID:10000484-1710806400-1710892799@sjschoolonline.org
SUMMARY:Donuts with Dad
DESCRIPTION:
URL:https://sjschoolonline.org/event/donuts-with-dad/
CATEGORIES:St. James Catholic School
END:VEVENT
BEGIN:VEVENT
DTSTART;TZID=America/New_York:20240320T080000
DTEND;TZID=America/New_York:20240320T090000
DTSTAMP:20260425T171625
CREATED:20240101T154653Z
LAST-MODIFIED:20240212T201335Z
UID:10000485-1710921600-1710925200@sjschoolonline.org
SUMMARY:School Mass
DESCRIPTION:
URL:https://sjschoolonline.org/event/school-mass-14/
CATEGORIES:St. James Catholic School
END:VEVENT
BEGIN:VEVENT
DTSTART;TZID=UTC:20240320T220000
DTEND;TZID=UTC:20240321T003000
DTSTAMP:20260425T171625
CREATED:20230816T020048Z
LAST-MODIFIED:20231030T114451Z
UID:10000228-1710972000-1710981000@sjschoolonline.org
SUMMARY:Family Faith Formation & Middle School Ministry
DESCRIPTION:
URL:https://sjschoolonline.org/event/family-faith-formation-middle-school-ministry-22/
END:VEVENT
BEGIN:VEVENT
DTSTART;TZID=America/New_York:20240321T000000
DTEND;TZID=America/New_York:20240323T235959
DTSTAMP:20260425T171625
CREATED:20240114T165706Z
LAST-MODIFIED:20240212T201336Z
UID:10000640-1710979200-1711238399@sjschoolonline.org
SUMMARY:40 Hours
DESCRIPTION:
URL:https://sjschoolonline.org/event/40-hours/
CATEGORIES:St. James Catholic School
END:VEVENT
BEGIN:VEVENT
DTSTART;TZID=America/New_York:20240321T170000
DTEND;TZID=America/New_York:20240321T180000
DTSTAMP:20260425T171625
CREATED:20240208T201222Z
LAST-MODIFIED:20240212T201349Z
UID:10000760-1711040400-1711044000@sjschoolonline.org
SUMMARY:Eucharistic Procession
DESCRIPTION:
URL:https://sjschoolonline.org/event/eucharistic-procession/
CATEGORIES:St. James Catholic School
END:VEVENT
BEGIN:VEVENT
DTSTART;TZID=America/New_York:20240322T111500
DTEND;TZID=America/New_York:20240322T114000
DTSTAMP:20260425T171625
CREATED:20240220T204201Z
LAST-MODIFIED:20240220T204201Z
UID:10000778-1711106100-1711107600@sjschoolonline.org
SUMMARY:6th Grade Parent Lunch
DESCRIPTION:
URL:https://sjschoolonline.org/event/6th-grade-parent-lunch/
CATEGORIES:St. James Catholic School
END:VEVENT
BEGIN:VEVENT
DTSTART;TZID=America/New_York:20240322T111500
DTEND;TZID=America/New_York:20240322T114000
DTSTAMP:20260425T171625
CREATED:20240227T212658Z
LAST-MODIFIED:20240227T212658Z
UID:10000799-1711106100-1711107600@sjschoolonline.org
SUMMARY:6th Grade Parent Lunch
DESCRIPTION:
URL:https://sjschoolonline.org/event/6th-grade-parent-lunch-2/
CATEGORIES:St. James Catholic School
END:VEVENT
END:VCALENDAR