BEGIN:VCALENDAR
VERSION:2.0
PRODID:-//St. James Catholic School - ECPv6.15.20//NONSGML v1.0//EN
CALSCALE:GREGORIAN
METHOD:PUBLISH
X-ORIGINAL-URL:https://sjschoolonline.org
X-WR-CALDESC:Events for St. James Catholic School
REFRESH-INTERVAL;VALUE=DURATION:PT1H
X-Robots-Tag:noindex
X-PUBLISHED-TTL:PT1H
BEGIN:VTIMEZONE
TZID:America/New_York
BEGIN:DAYLIGHT
TZOFFSETFROM:-0500
TZOFFSETTO:-0400
TZNAME:EDT
DTSTART:20230312T070000
END:DAYLIGHT
BEGIN:STANDARD
TZOFFSETFROM:-0400
TZOFFSETTO:-0500
TZNAME:EST
DTSTART:20231105T060000
END:STANDARD
BEGIN:DAYLIGHT
TZOFFSETFROM:-0500
TZOFFSETTO:-0400
TZNAME:EDT
DTSTART:20240310T070000
END:DAYLIGHT
BEGIN:STANDARD
TZOFFSETFROM:-0400
TZOFFSETTO:-0500
TZNAME:EST
DTSTART:20241103T060000
END:STANDARD
BEGIN:DAYLIGHT
TZOFFSETFROM:-0500
TZOFFSETTO:-0400
TZNAME:EDT
DTSTART:20250309T070000
END:DAYLIGHT
BEGIN:STANDARD
TZOFFSETFROM:-0400
TZOFFSETTO:-0500
TZNAME:EST
DTSTART:20251102T060000
END:STANDARD
END:VTIMEZONE
BEGIN:VTIMEZONE
TZID:UTC
BEGIN:STANDARD
TZOFFSETFROM:+0000
TZOFFSETTO:+0000
TZNAME:UTC
DTSTART:20230101T000000
END:STANDARD
END:VTIMEZONE
BEGIN:VEVENT
DTSTART;TZID=America/New_York:20240128T000000
DTEND;TZID=America/New_York:20240128T235959
DTSTAMP:20260425T185149
CREATED:20240101T154645Z
LAST-MODIFIED:20240128T184258Z
UID:10000446-1706400000-1706486399@sjschoolonline.org
SUMMARY:Celebrate Catholic Schools Week
DESCRIPTION:
URL:https://sjschoolonline.org/event/celebrate-catholic-schools-week/
CATEGORIES:St. James Catholic School
END:VEVENT
BEGIN:VEVENT
DTSTART;TZID=UTC:20240128T190000
DTEND;TZID=UTC:20240128T194500
DTSTAMP:20260425T185149
CREATED:20231019T161951Z
LAST-MODIFIED:20231030T114446Z
UID:10000360-1706468400-1706471100@sjschoolonline.org
SUMMARY:1st-3rd Grade Swim Practice @ Etown Swim and Fitness
DESCRIPTION:
URL:https://sjschoolonline.org/event/1st-3rd-grade-swim-practice-etown-swim-and-fitness-12/
END:VEVENT
BEGIN:VEVENT
DTSTART;TZID=UTC:20240128T194500
DTEND;TZID=UTC:20240128T210000
DTSTAMP:20260425T185149
CREATED:20231019T161951Z
LAST-MODIFIED:20231030T114446Z
UID:10000361-1706471100-1706475600@sjschoolonline.org
SUMMARY:4th-8th Grade Swim practice @ Etown Swim and Fitness
DESCRIPTION:
URL:https://sjschoolonline.org/event/4th-8th-grade-swim-practice-etown-swim-and-fitness-10/
END:VEVENT
BEGIN:VEVENT
DTSTART;TZID=America/New_York:20240129T000000
DTEND;TZID=America/New_York:20240129T235959
DTSTAMP:20260425T185149
CREATED:20240118T172703Z
LAST-MODIFIED:20240119T173208Z
UID:10000655-1706486400-1706572799@sjschoolonline.org
SUMMARY:7th Grade Basketball Tournament begins
DESCRIPTION:
URL:https://sjschoolonline.org/event/7th-grade-basketball-tournament-begins/
CATEGORIES:St. James Catholic School
END:VEVENT
BEGIN:VEVENT
DTSTART;TZID=America/New_York:20240129T000000
DTEND;TZID=America/New_York:20240203T235959
DTSTAMP:20260425T185149
CREATED:20240101T154646Z
LAST-MODIFIED:20240203T192705Z
UID:10000452-1706486400-1707004799@sjschoolonline.org
SUMMARY:Catholic Schools Week
DESCRIPTION:
URL:https://sjschoolonline.org/event/catholic-schools-week/
CATEGORIES:St. James Catholic School
END:VEVENT
BEGIN:VEVENT
DTSTART;TZID=UTC:20240129T213000
DTEND;TZID=UTC:20240129T230000
DTSTAMP:20260425T185149
CREATED:20231017T205439Z
LAST-MODIFIED:20231024T140112Z
UID:10000305-1706563800-1706569200@sjschoolonline.org
SUMMARY:5th Grade Boys Basketball Practice
DESCRIPTION:
URL:https://sjschoolonline.org/event/5th-grade-boys-basketball-practice-15/
END:VEVENT
BEGIN:VEVENT
DTSTART;TZID=UTC:20240129T230000
DTEND;TZID=UTC:20240130T003000
DTSTAMP:20260425T185149
CREATED:20230816T015930Z
LAST-MODIFIED:20231017T205514Z
UID:10000192-1706569200-1706574600@sjschoolonline.org
SUMMARY:6th\, 7th\, 8th Basketball Practice
DESCRIPTION:
URL:https://sjschoolonline.org/event/6th-7th-8th-basketball-practice-43/
END:VEVENT
BEGIN:VEVENT
DTSTART;TZID=UTC:20240129T230000
DTEND;TZID=UTC:20240130T003000
DTSTAMP:20260425T185149
CREATED:20231019T161951Z
LAST-MODIFIED:20231030T114447Z
UID:10000362-1706569200-1706574600@sjschoolonline.org
SUMMARY:6th\, 7th\, 8th Basketball Practice
DESCRIPTION:
URL:https://sjschoolonline.org/event/6th-7th-8th-basketball-practice-83/
END:VEVENT
BEGIN:VEVENT
DTSTART;TZID=America/New_York:20240130T000000
DTEND;TZID=America/New_York:20240130T235959
DTSTAMP:20260425T185149
CREATED:20240101T154645Z
LAST-MODIFIED:20240128T184258Z
UID:10000447-1706572800-1706659199@sjschoolonline.org
SUMMARY:Elem Acad Team:  Comp
DESCRIPTION:
URL:https://sjschoolonline.org/event/elem-acad-team-comp/
CATEGORIES:St. James Catholic School
END:VEVENT
BEGIN:VEVENT
DTSTART;TZID=America/New_York:20240130T000000
DTEND;TZID=America/New_York:20240130T235959
DTSTAMP:20260425T185149
CREATED:20240118T172703Z
LAST-MODIFIED:20240119T173209Z
UID:10000656-1706572800-1706659199@sjschoolonline.org
SUMMARY:8th Grade Basketball Tournament Begins
DESCRIPTION:
URL:https://sjschoolonline.org/event/8th-grade-basketball-tournament-begins/
CATEGORIES:St. James Catholic School
END:VEVENT
BEGIN:VEVENT
DTSTART;TZID=UTC:20240130T220000
DTEND;TZID=UTC:20240130T230000
DTSTAMP:20260425T185149
CREATED:20230816T015930Z
LAST-MODIFIED:20231024T140112Z
UID:10000193-1706652000-1706655600@sjschoolonline.org
SUMMARY:Girls Basketball 4th and 5th Grade practice
DESCRIPTION:
URL:https://sjschoolonline.org/event/girls-basketball-4th-and-5th-grade-practice-28/
END:VEVENT
BEGIN:VEVENT
DTSTART;TZID=UTC:20240130T230000
DTEND;TZID=UTC:20240131T003000
DTSTAMP:20260425T185149
CREATED:20230816T015931Z
LAST-MODIFIED:20231017T205515Z
UID:10000194-1706655600-1706661000@sjschoolonline.org
SUMMARY:6th\, 7th\, 8th Basketball Practice
DESCRIPTION:
URL:https://sjschoolonline.org/event/6th-7th-8th-basketball-practice-44/
END:VEVENT
BEGIN:VEVENT
DTSTART;TZID=UTC:20240130T230000
DTEND;TZID=UTC:20240131T003000
DTSTAMP:20260425T185149
CREATED:20231019T161952Z
LAST-MODIFIED:20231030T114447Z
UID:10000363-1706655600-1706661000@sjschoolonline.org
SUMMARY:6th\, 7th\, 8th Basketball Practice
DESCRIPTION:
URL:https://sjschoolonline.org/event/6th-7th-8th-basketball-practice-84/
END:VEVENT
BEGIN:VEVENT
DTSTART;TZID=America/New_York:20240131T080000
DTEND;TZID=America/New_York:20240131T090000
DTSTAMP:20260425T185149
CREATED:20240101T154645Z
LAST-MODIFIED:20240130T185819Z
UID:10000448-1706688000-1706691600@sjschoolonline.org
SUMMARY:School Mass
DESCRIPTION:
URL:https://sjschoolonline.org/event/school-mass-7/
CATEGORIES:St. James Catholic School
END:VEVENT
BEGIN:VEVENT
DTSTART;TZID=America/New_York:20240131T131500
DTEND;TZID=America/New_York:20240131T141500
DTSTAMP:20260425T185149
CREATED:20240101T154645Z
LAST-MODIFIED:20240131T191226Z
UID:10000444-1706706900-1706710500@sjschoolonline.org
SUMMARY:DARE graduation
DESCRIPTION:
URL:https://sjschoolonline.org/event/dare-graduation/
CATEGORIES:St. James Catholic School
END:VEVENT
BEGIN:VEVENT
DTSTART;TZID=UTC:20240131T200000
DTEND;TZID=UTC:20240131T213000
DTSTAMP:20260425T185149
CREATED:20231025T145738Z
LAST-MODIFIED:20231030T114447Z
UID:10000416-1706731200-1706736600@sjschoolonline.org
SUMMARY:Girls Basketball 4th and 5th Grade practice
DESCRIPTION:
URL:https://sjschoolonline.org/event/girls-basketball-4th-and-5th-grade-practice-50/
END:VEVENT
BEGIN:VEVENT
DTSTART;TZID=UTC:20240131T213000
DTEND;TZID=UTC:20240131T230000
DTSTAMP:20260425T185149
CREATED:20230816T015931Z
LAST-MODIFIED:20231030T114447Z
UID:10000195-1706736600-1706742000@sjschoolonline.org
SUMMARY:6th\, 7th\, 8th Basketball Practice
DESCRIPTION:
URL:https://sjschoolonline.org/event/6th-7th-8th-basketball-practice-45/
END:VEVENT
BEGIN:VEVENT
DTSTART;TZID=UTC:20240131T230000
DTEND;TZID=UTC:20240201T013000
DTSTAMP:20260425T185149
CREATED:20230816T015931Z
LAST-MODIFIED:20231030T114447Z
UID:10000196-1706742000-1706751000@sjschoolonline.org
SUMMARY:Family Faith Formation & Middle School Ministry
DESCRIPTION:
URL:https://sjschoolonline.org/event/family-faith-formation-middle-school-ministry-16/
END:VEVENT
BEGIN:VEVENT
DTSTART;TZID=UTC:20240201T000000
DTEND;TZID=UTC:20240201T000000
DTSTAMP:20260425T185149
CREATED:20230928T194459Z
LAST-MODIFIED:20231030T114447Z
UID:10000266-1706745600-1706745600@sjschoolonline.org
SUMMARY:Black and White Knight setup
DESCRIPTION:
URL:https://sjschoolonline.org/event/black-and-white-knight-setup-2/
END:VEVENT
BEGIN:VEVENT
DTSTART;TZID=UTC:20240201T204500
DTEND;TZID=UTC:20240201T220000
DTSTAMP:20260425T185149
CREATED:20231005T235939Z
LAST-MODIFIED:20231017T205515Z
UID:10000283-1706820300-1706824800@sjschoolonline.org
SUMMARY:2nd-3rd Grade Girls Basketball Practice
DESCRIPTION:
URL:https://sjschoolonline.org/event/2nd-3rd-grade-girls-basketball-practice-16/
END:VEVENT
BEGIN:VEVENT
DTSTART;TZID=UTC:20240202T000000
DTEND;TZID=UTC:20240202T000000
DTSTAMP:20260425T185149
CREATED:20230816T015931Z
LAST-MODIFIED:20230927T193150Z
UID:10000197-1706832000-1706832000@sjschoolonline.org
SUMMARY:Black and White Knight setup
DESCRIPTION:
URL:https://sjschoolonline.org/event/black-and-white-knight-setup/
END:VEVENT
BEGIN:VEVENT
DTSTART;TZID=UTC:20240202T000000
DTEND;TZID=UTC:20240202T000000
DTSTAMP:20260425T185149
CREATED:20231019T162005Z
LAST-MODIFIED:20231030T114447Z
UID:10000364-1706832000-1706832000@sjschoolonline.org
SUMMARY:Swim Regionals
DESCRIPTION:
URL:https://sjschoolonline.org/event/swim-regionals/
END:VEVENT
BEGIN:VEVENT
DTSTART;TZID=America/New_York:20240202T000000
DTEND;TZID=America/New_York:20240202T235959
DTSTAMP:20260425T185149
CREATED:20240101T154646Z
LAST-MODIFIED:20240202T192816Z
UID:10000451-1706832000-1706918399@sjschoolonline.org
SUMMARY:Midterm
DESCRIPTION:
URL:https://sjschoolonline.org/event/midterm/
CATEGORIES:St. James Catholic School
END:VEVENT
BEGIN:VEVENT
DTSTART;TZID=America/New_York:20240202T000000
DTEND;TZID=America/New_York:20240202T235959
DTSTAMP:20260425T185149
CREATED:20240101T154646Z
LAST-MODIFIED:20240202T192816Z
UID:10000453-1706832000-1706918399@sjschoolonline.org
SUMMARY:Class Shirt Day
DESCRIPTION:
URL:https://sjschoolonline.org/event/class-shirt-day-3/
CATEGORIES:St. James Catholic School
END:VEVENT
BEGIN:VEVENT
DTSTART;TZID=America/New_York:20240202T000000
DTEND;TZID=America/New_York:20240202T235959
DTSTAMP:20260425T185149
CREATED:20240103T155740Z
LAST-MODIFIED:20240202T192816Z
UID:10000610-1706832000-1706918399@sjschoolonline.org
SUMMARY:First Friday Adoration
DESCRIPTION:
URL:https://sjschoolonline.org/event/first-friday-adoration-2/
CATEGORIES:St. James Catholic School
END:VEVENT
BEGIN:VEVENT
DTSTART;TZID=UTC:20240203T000000
DTEND;TZID=UTC:20240203T000000
DTSTAMP:20260425T185149
CREATED:20230816T015931Z
LAST-MODIFIED:20231030T114447Z
UID:10000198-1706918400-1706918400@sjschoolonline.org
SUMMARY:Black and White Knight
DESCRIPTION:
URL:https://sjschoolonline.org/event/black-and-white-knight/
END:VEVENT
BEGIN:VEVENT
DTSTART;TZID=America/New_York:20240203T000000
DTEND;TZID=America/New_York:20240203T235959
DTSTAMP:20260425T185149
CREATED:20240101T154646Z
LAST-MODIFIED:20240201T191327Z
UID:10000450-1706918400-1707004799@sjschoolonline.org
SUMMARY:Elem Acad Team:  District
DESCRIPTION:
URL:https://sjschoolonline.org/event/elem-acad-team-district/
CATEGORIES:St. James Catholic School
END:VEVENT
BEGIN:VEVENT
DTSTART;TZID=America/New_York:20240203T000000
DTEND;TZID=America/New_York:20240203T235959
DTSTAMP:20260425T185149
CREATED:20240122T175706Z
LAST-MODIFIED:20240201T191326Z
UID:10000657-1706918400-1707004799@sjschoolonline.org
SUMMARY:Math Counts
DESCRIPTION:
URL:https://sjschoolonline.org/event/math-counts/
CATEGORIES:St. James Catholic School
END:VEVENT
BEGIN:VEVENT
DTSTART;TZID=America/New_York:20240203T180000
DTEND;TZID=America/New_York:20240204T000000
DTSTAMP:20260425T185149
CREATED:20240101T154646Z
LAST-MODIFIED:20240203T192704Z
UID:10000449-1706983200-1707004800@sjschoolonline.org
SUMMARY:Black & White Knight
DESCRIPTION:
URL:https://sjschoolonline.org/event/black-white-knight/
CATEGORIES:St. James Catholic School
END:VEVENT
BEGIN:VEVENT
DTSTART;TZID=UTC:20240205T230000
DTEND;TZID=UTC:20240206T003000
DTSTAMP:20260425T185149
CREATED:20230816T015944Z
LAST-MODIFIED:20231017T205515Z
UID:10000199-1707174000-1707179400@sjschoolonline.org
SUMMARY:6th\, 7th\, 8th Basketball Practice
DESCRIPTION:
URL:https://sjschoolonline.org/event/6th-7th-8th-basketball-practice-46/
END:VEVENT
END:VCALENDAR