BEGIN:VCALENDAR
VERSION:2.0
PRODID:-//St. James Catholic School - ECPv6.15.20//NONSGML v1.0//EN
CALSCALE:GREGORIAN
METHOD:PUBLISH
X-ORIGINAL-URL:https://sjschoolonline.org
X-WR-CALDESC:Events for St. James Catholic School
REFRESH-INTERVAL;VALUE=DURATION:PT1H
X-Robots-Tag:noindex
X-PUBLISHED-TTL:PT1H
BEGIN:VTIMEZONE
TZID:America/New_York
BEGIN:DAYLIGHT
TZOFFSETFROM:-0500
TZOFFSETTO:-0400
TZNAME:EDT
DTSTART:20240310T070000
END:DAYLIGHT
BEGIN:STANDARD
TZOFFSETFROM:-0400
TZOFFSETTO:-0500
TZNAME:EST
DTSTART:20241103T060000
END:STANDARD
BEGIN:DAYLIGHT
TZOFFSETFROM:-0500
TZOFFSETTO:-0400
TZNAME:EDT
DTSTART:20250309T070000
END:DAYLIGHT
BEGIN:STANDARD
TZOFFSETFROM:-0400
TZOFFSETTO:-0500
TZNAME:EST
DTSTART:20251102T060000
END:STANDARD
BEGIN:DAYLIGHT
TZOFFSETFROM:-0500
TZOFFSETTO:-0400
TZNAME:EDT
DTSTART:20260308T070000
END:DAYLIGHT
BEGIN:STANDARD
TZOFFSETFROM:-0400
TZOFFSETTO:-0500
TZNAME:EST
DTSTART:20261101T060000
END:STANDARD
END:VTIMEZONE
BEGIN:VEVENT
DTSTART;TZID=America/New_York:20250719T000000
DTEND;TZID=America/New_York:20250719T235959
DTSTAMP:20260421T183107
CREATED:20240101T154717Z
LAST-MODIFIED:20240123T180424Z
UID:10000591-1752883200-1752969599@sjschoolonline.org
SUMMARY:Sydney Turpin
DESCRIPTION:
URL:https://sjschoolonline.org/event/sydney-turpin-2/
CATEGORIES:St. James Catholic School
END:VEVENT
BEGIN:VEVENT
DTSTART;TZID=America/New_York:20250719T000000
DTEND;TZID=America/New_York:20250719T235959
DTSTAMP:20260421T183107
CREATED:20240124T181342Z
LAST-MODIFIED:20240212T201752Z
UID:10000731-1752883200-1752969599@sjschoolonline.org
SUMMARY:Happy Birthday Mrs. Turpin!
DESCRIPTION:
URL:https://sjschoolonline.org/event/happy-birthday-mrs-turpin-2/
CATEGORIES:St. James Catholic School
END:VEVENT
BEGIN:VEVENT
DTSTART;TZID=America/New_York:20250719T000000
DTEND;TZID=America/New_York:20250719T235959
DTSTAMP:20260421T183107
CREATED:20250715T234230Z
LAST-MODIFIED:20250715T234230Z
UID:10001351-1752883200-1752969599@sjschoolonline.org
SUMMARY:Happy Birthday Sydney Turpin
DESCRIPTION:
URL:https://sjschoolonline.org/event/happy-birthday-sydney-turpin/
CATEGORIES:St. James Catholic School
END:VEVENT
BEGIN:VEVENT
DTSTART;TZID=America/New_York:20250723T080000
DTEND;TZID=America/New_York:20250723T090000
DTSTAMP:20260421T183107
CREATED:20240406T062720Z
LAST-MODIFIED:20240406T062720Z
UID:10000929-1753257600-1753261200@sjschoolonline.org
SUMMARY:All School Mass
DESCRIPTION:
URL:https://sjschoolonline.org/event/all-school-mass-48/
CATEGORIES:St. James Catholic School
END:VEVENT
BEGIN:VEVENT
DTSTART;TZID=America/New_York:20250728T000000
DTEND;TZID=America/New_York:20250728T235959
DTSTAMP:20260421T183107
CREATED:20240101T154718Z
LAST-MODIFIED:20240212T201752Z
UID:10000592-1753660800-1753747199@sjschoolonline.org
SUMMARY:Happy Birthday\, Mrs. Williamson!
DESCRIPTION:
URL:https://sjschoolonline.org/event/happy-birthday-mrs-williamson-2/
CATEGORIES:St. James Catholic School
END:VEVENT
BEGIN:VEVENT
DTSTART;TZID=America/New_York:20250729T110000
DTEND;TZID=America/New_York:20250729T130000
DTSTAMP:20260421T183107
CREATED:20250619T202821Z
LAST-MODIFIED:20250619T202821Z
UID:10001327-1753786800-1753794000@sjschoolonline.org
SUMMARY:Used Uniform Sale
DESCRIPTION:
URL:https://sjschoolonline.org/event/used-uniform-sale/
CATEGORIES:St. James Catholic School
END:VEVENT
BEGIN:VEVENT
DTSTART;TZID=America/New_York:20250730T080000
DTEND;TZID=America/New_York:20250730T090000
DTSTAMP:20260421T183107
CREATED:20240406T062720Z
LAST-MODIFIED:20240406T062720Z
UID:10000930-1753862400-1753866000@sjschoolonline.org
SUMMARY:All School Mass
DESCRIPTION:
URL:https://sjschoolonline.org/event/all-school-mass-49/
CATEGORIES:St. James Catholic School
END:VEVENT
BEGIN:VEVENT
DTSTART;TZID=America/New_York:20250730T093000
DTEND;TZID=America/New_York:20250730T150000
DTSTAMP:20260421T183107
CREATED:20250522T162709Z
LAST-MODIFIED:20250522T162709Z
UID:10001306-1753867800-1753887600@sjschoolonline.org
SUMMARY:Ambassador Training
DESCRIPTION:
URL:https://sjschoolonline.org/event/ambassador-training/
CATEGORIES:St. James Catholic School
END:VEVENT
BEGIN:VEVENT
DTSTART;TZID=America/New_York:20250801T000000
DTEND;TZID=America/New_York:20250801T235959
DTSTAMP:20260421T183107
CREATED:20240103T155814Z
LAST-MODIFIED:20240212T201752Z
UID:10000628-1754006400-1754092799@sjschoolonline.org
SUMMARY:First Friday Adoration
DESCRIPTION:
URL:https://sjschoolonline.org/event/first-friday-adoration-20/
CATEGORIES:St. James Catholic School
END:VEVENT
BEGIN:VEVENT
DTSTART;TZID=America/New_York:20250803T000000
DTEND;TZID=America/New_York:20250803T235959
DTSTAMP:20260421T183107
CREATED:20240101T154718Z
LAST-MODIFIED:20240212T201752Z
UID:10000593-1754179200-1754265599@sjschoolonline.org
SUMMARY:Happy Birthday\, Helen Wheatley!
DESCRIPTION:
URL:https://sjschoolonline.org/event/happy-birthday-helen-wheatley-2/
CATEGORIES:St. James Catholic School
END:VEVENT
BEGIN:VEVENT
DTSTART;TZID=America/New_York:20250804T173000
DTEND;TZID=America/New_York:20250804T193000
DTSTAMP:20260421T183107
CREATED:20250620T225843Z
LAST-MODIFIED:20250620T225843Z
UID:10001340-1754328600-1754335800@sjschoolonline.org
SUMMARY:Back to School Knight
DESCRIPTION:
URL:https://sjschoolonline.org/event/back-to-school-knight/
CATEGORIES:St. James Catholic School
END:VEVENT
BEGIN:VEVENT
DTSTART;TZID=America/New_York:20250806T000000
DTEND;TZID=America/New_York:20250806T235959
DTSTAMP:20260421T183107
CREATED:20240101T154718Z
LAST-MODIFIED:20240123T180424Z
UID:10000594-1754438400-1754524799@sjschoolonline.org
SUMMARY:Happy Birthday\, Mrs. Rita!
DESCRIPTION:
URL:https://sjschoolonline.org/event/happy-birthday-mrs-rita-2/
CATEGORIES:St. James Catholic School
END:VEVENT
BEGIN:VEVENT
DTSTART;TZID=America/New_York:20250806T000000
DTEND;TZID=America/New_York:20250806T235959
DTSTAMP:20260421T183107
CREATED:20240124T181343Z
LAST-MODIFIED:20240212T201752Z
UID:10000733-1754438400-1754524799@sjschoolonline.org
SUMMARY:Happy Birthday\, Mrs. Walker!
DESCRIPTION:
URL:https://sjschoolonline.org/event/happy-birthday-mrs-walker-2/
CATEGORIES:St. James Catholic School
END:VEVENT
BEGIN:VEVENT
DTSTART;TZID=America/New_York:20250806T000000
DTEND;TZID=America/New_York:20250806T235959
DTSTAMP:20260421T183107
CREATED:20241011T171446Z
LAST-MODIFIED:20241011T171446Z
UID:10001161-1754438400-1754524799@sjschoolonline.org
SUMMARY:Happy Birthday Mrs. Coley!
DESCRIPTION:
URL:https://sjschoolonline.org/event/happy-birthday-mrs-coley/
CATEGORIES:St. James Catholic School
END:VEVENT
BEGIN:VEVENT
DTSTART;TZID=America/New_York:20250806T000000
DTEND;TZID=America/New_York:20250806T235959
DTSTAMP:20260421T183107
CREATED:20250530T165823Z
LAST-MODIFIED:20250530T165823Z
UID:10001311-1754438400-1754524799@sjschoolonline.org
SUMMARY:First Day of School
DESCRIPTION:
URL:https://sjschoolonline.org/event/first-day-of-school/
CATEGORIES:St. James Catholic School
END:VEVENT
BEGIN:VEVENT
DTSTART;TZID=America/New_York:20250806T080000
DTEND;TZID=America/New_York:20250806T090000
DTSTAMP:20260421T183107
CREATED:20240406T062720Z
LAST-MODIFIED:20240406T062720Z
UID:10000931-1754467200-1754470800@sjschoolonline.org
SUMMARY:All School Mass
DESCRIPTION:
URL:https://sjschoolonline.org/event/all-school-mass-50/
CATEGORIES:St. James Catholic School
END:VEVENT
BEGIN:VEVENT
DTSTART;TZID=America/New_York:20250807T000000
DTEND;TZID=America/New_York:20250807T235959
DTSTAMP:20260421T183107
CREATED:20240101T154718Z
LAST-MODIFIED:20240123T180425Z
UID:10000595-1754524800-1754611199@sjschoolonline.org
SUMMARY:Happy Birthday\, Karen Wright
DESCRIPTION:
URL:https://sjschoolonline.org/event/happy-birthday-karen-wright-2/
CATEGORIES:St. James Catholic School
END:VEVENT
BEGIN:VEVENT
DTSTART;TZID=America/New_York:20250807T000000
DTEND;TZID=America/New_York:20250807T235959
DTSTAMP:20260421T183107
CREATED:20240124T181343Z
LAST-MODIFIED:20240212T201752Z
UID:10000732-1754524800-1754611199@sjschoolonline.org
SUMMARY:Happy Birthday\, Ms. Wright!
DESCRIPTION:
URL:https://sjschoolonline.org/event/happy-birthday-ms-wright-2/
CATEGORIES:St. James Catholic School
END:VEVENT
BEGIN:VEVENT
DTSTART;TZID=America/New_York:20250809T090000
DTEND;TZID=America/New_York:20250809T100000
DTSTAMP:20260421T183107
CREATED:20250329T120519Z
LAST-MODIFIED:20250329T120519Z
UID:10001277-1754730000-1754733600@sjschoolonline.org
SUMMARY:Golf Scramble ( tee time)
DESCRIPTION:
URL:https://sjschoolonline.org/event/golf-scramble-tee-time/
CATEGORIES:St. James Catholic School
END:VEVENT
BEGIN:VEVENT
DTSTART;TZID=America/New_York:20250811T000000
DTEND;TZID=America/New_York:20250814T235959
DTSTAMP:20260421T183107
CREATED:20250522T162709Z
LAST-MODIFIED:20250522T162709Z
UID:10001307-1754870400-1755215999@sjschoolonline.org
SUMMARY:Internet Safety Presentation
DESCRIPTION:
URL:https://sjschoolonline.org/event/internet-safety-presentation/
CATEGORIES:St. James Catholic School
END:VEVENT
BEGIN:VEVENT
DTSTART;TZID=America/New_York:20250811T144000
DTEND;TZID=America/New_York:20250811T153000
DTSTAMP:20260421T183107
CREATED:20250727T061250Z
LAST-MODIFIED:20250727T061250Z
UID:10001464-1754923200-1754926200@sjschoolonline.org
SUMMARY:Choir Practice- Music Room
DESCRIPTION:
URL:https://sjschoolonline.org/event/choir-practice-music-room/
CATEGORIES:St. James Catholic School
END:VEVENT
BEGIN:VEVENT
DTSTART;TZID=America/New_York:20250811T144000
DTEND;TZID=America/New_York:20250811T153000
DTSTAMP:20260421T183107
CREATED:20250727T061250Z
LAST-MODIFIED:20250727T061250Z
UID:10001465-1754923200-1754926200@sjschoolonline.org
SUMMARY:Choir Practice- Music Room
DESCRIPTION:
URL:https://sjschoolonline.org/event/choir-practice-music-room-2/
CATEGORIES:St. James Catholic School
END:VEVENT
BEGIN:VEVENT
DTSTART;TZID=America/New_York:20250813T080000
DTEND;TZID=America/New_York:20250813T090000
DTSTAMP:20260421T183107
CREATED:20240406T062720Z
LAST-MODIFIED:20240406T062720Z
UID:10000932-1755072000-1755075600@sjschoolonline.org
SUMMARY:All School Mass
DESCRIPTION:
URL:https://sjschoolonline.org/event/all-school-mass-51/
CATEGORIES:St. James Catholic School
END:VEVENT
BEGIN:VEVENT
DTSTART;TZID=America/New_York:20250814T000000
DTEND;TZID=America/New_York:20250814T235959
DTSTAMP:20260421T183107
CREATED:20240101T154718Z
LAST-MODIFIED:20240123T180425Z
UID:10000596-1755129600-1755215999@sjschoolonline.org
SUMMARY:Happy Birthday\, Deana Zopfi!
DESCRIPTION:
URL:https://sjschoolonline.org/event/happy-birthday-deana-zopfi-2/
CATEGORIES:St. James Catholic School
END:VEVENT
BEGIN:VEVENT
DTSTART;TZID=America/New_York:20250814T000000
DTEND;TZID=America/New_York:20250814T235959
DTSTAMP:20260421T183107
CREATED:20240124T181343Z
LAST-MODIFIED:20240212T201752Z
UID:10000734-1755129600-1755215999@sjschoolonline.org
SUMMARY:Happy Birthday\, Mrs. Zopfi!
DESCRIPTION:
URL:https://sjschoolonline.org/event/happy-birthday-mrs-zopfi-2/
CATEGORIES:St. James Catholic School
END:VEVENT
BEGIN:VEVENT
DTSTART;TZID=America/New_York:20250814T160000
DTEND;TZID=America/New_York:20250814T173000
DTSTAMP:20260421T183108
CREATED:20250813T062730Z
LAST-MODIFIED:20250813T062730Z
UID:10001633-1755187200-1755192600@sjschoolonline.org
SUMMARY:Instrumental Rental Night - Cafeteria
DESCRIPTION:
URL:https://sjschoolonline.org/event/instrumental-rental-night-cafeteria/
CATEGORIES:St. James Catholic School
END:VEVENT
BEGIN:VEVENT
DTSTART;TZID=America/New_York:20250814T180000
DTEND;TZID=America/New_York:20250814T190000
DTSTAMP:20260421T183108
CREATED:20250801T062705Z
LAST-MODIFIED:20250801T062705Z
UID:10001622-1755194400-1755198000@sjschoolonline.org
SUMMARY:Room Parent Meeting
DESCRIPTION:
URL:https://sjschoolonline.org/event/room-parent-meeting/
CATEGORIES:St. James Catholic School
END:VEVENT
BEGIN:VEVENT
DTSTART;TZID=America/New_York:20250815T000000
DTEND;TZID=America/New_York:20250815T235959
DTSTAMP:20260421T183108
CREATED:20250711T231342Z
LAST-MODIFIED:20250711T231342Z
UID:10001344-1755216000-1755302399@sjschoolonline.org
SUMMARY:Military Car Line PK-8
DESCRIPTION:
URL:https://sjschoolonline.org/event/military-car-line-pk-8/
CATEGORIES:St. James Catholic School
END:VEVENT
BEGIN:VEVENT
DTSTART;TZID=America/New_York:20250815T081500
DTEND;TZID=America/New_York:20250815T084500
DTSTAMP:20260421T183108
CREATED:20250716T235743Z
LAST-MODIFIED:20250716T235743Z
UID:10001354-1755245700-1755247500@sjschoolonline.org
SUMMARY:All School Mass -Feast of the Assumption
DESCRIPTION:
URL:https://sjschoolonline.org/event/all-school-mass-feast-of-the-assumption/
CATEGORIES:St. James Catholic School
END:VEVENT
BEGIN:VEVENT
DTSTART;TZID=America/New_York:20250818T144000
DTEND;TZID=America/New_York:20250818T153000
DTSTAMP:20260421T183108
CREATED:20250727T061251Z
LAST-MODIFIED:20250727T061251Z
UID:10001466-1755528000-1755531000@sjschoolonline.org
SUMMARY:Choir Practice- Music Room
DESCRIPTION:
URL:https://sjschoolonline.org/event/choir-practice-music-room-3/
CATEGORIES:St. James Catholic School
END:VEVENT
END:VCALENDAR