BEGIN:VCALENDAR
VERSION:2.0
PRODID:-//St. James Catholic School - ECPv6.15.20//NONSGML v1.0//EN
CALSCALE:GREGORIAN
METHOD:PUBLISH
X-WR-CALNAME:St. James Catholic School
X-ORIGINAL-URL:https://sjschoolonline.org
X-WR-CALDESC:Events for St. James Catholic School
REFRESH-INTERVAL;VALUE=DURATION:PT1H
X-Robots-Tag:noindex
X-PUBLISHED-TTL:PT1H
BEGIN:VTIMEZONE
TZID:UTC
BEGIN:STANDARD
TZOFFSETFROM:+0000
TZOFFSETTO:+0000
TZNAME:UTC
DTSTART:20230101T000000
END:STANDARD
END:VTIMEZONE
BEGIN:VTIMEZONE
TZID:America/New_York
BEGIN:DAYLIGHT
TZOFFSETFROM:-0500
TZOFFSETTO:-0400
TZNAME:EDT
DTSTART:20230312T070000
END:DAYLIGHT
BEGIN:STANDARD
TZOFFSETFROM:-0400
TZOFFSETTO:-0500
TZNAME:EST
DTSTART:20231105T060000
END:STANDARD
BEGIN:DAYLIGHT
TZOFFSETFROM:-0500
TZOFFSETTO:-0400
TZNAME:EDT
DTSTART:20240310T070000
END:DAYLIGHT
BEGIN:STANDARD
TZOFFSETFROM:-0400
TZOFFSETTO:-0500
TZNAME:EST
DTSTART:20241103T060000
END:STANDARD
BEGIN:DAYLIGHT
TZOFFSETFROM:-0500
TZOFFSETTO:-0400
TZNAME:EDT
DTSTART:20250309T070000
END:DAYLIGHT
BEGIN:STANDARD
TZOFFSETFROM:-0400
TZOFFSETTO:-0500
TZNAME:EST
DTSTART:20251102T060000
END:STANDARD
END:VTIMEZONE
BEGIN:VEVENT
DTSTART;TZID=UTC:20240125T204500
DTEND;TZID=UTC:20240125T220000
DTSTAMP:20260425T224327
CREATED:20231005T235927Z
LAST-MODIFIED:20231030T114446Z
UID:10000282-1706215500-1706220000@sjschoolonline.org
SUMMARY:2nd-3rd Grade Girls Basketball Practice
DESCRIPTION:
URL:https://sjschoolonline.org/event/2nd-3rd-grade-girls-basketball-practice-15/
END:VEVENT
BEGIN:VEVENT
DTSTART;TZID=UTC:20240124T230000
DTEND;TZID=UTC:20240125T013000
DTSTAMP:20260425T224327
CREATED:20230816T015916Z
LAST-MODIFIED:20231030T114446Z
UID:10000187-1706137200-1706146200@sjschoolonline.org
SUMMARY:Family Faith Formation & Middle School Ministry
DESCRIPTION:
URL:https://sjschoolonline.org/event/family-faith-formation-middle-school-ministry-15/
END:VEVENT
BEGIN:VEVENT
DTSTART;TZID=UTC:20240124T213000
DTEND;TZID=UTC:20240124T230000
DTSTAMP:20260425T224327
CREATED:20230816T015916Z
LAST-MODIFIED:20231030T114446Z
UID:10000186-1706131800-1706137200@sjschoolonline.org
SUMMARY:6th\, 7th\, 8th Basketball Practice
DESCRIPTION:
URL:https://sjschoolonline.org/event/6th-7th-8th-basketball-practice-41/
END:VEVENT
BEGIN:VEVENT
DTSTART;TZID=UTC:20240124T200000
DTEND;TZID=UTC:20240124T213000
DTSTAMP:20260425T224327
CREATED:20231025T145725Z
LAST-MODIFIED:20231030T114446Z
UID:10000415-1706126400-1706131800@sjschoolonline.org
SUMMARY:Girls Basketball 4th and 5th Grade practice
DESCRIPTION:
URL:https://sjschoolonline.org/event/girls-basketball-4th-and-5th-grade-practice-49/
END:VEVENT
BEGIN:VEVENT
DTSTART;TZID=America/New_York:20240124T080000
DTEND;TZID=America/New_York:20240124T090000
DTSTAMP:20260425T224327
CREATED:20240101T154644Z
LAST-MODIFIED:20240123T180347Z
UID:10000443-1706083200-1706086800@sjschoolonline.org
SUMMARY:School Mass
DESCRIPTION:
URL:https://sjschoolonline.org/event/school-mass-6/
CATEGORIES:St. James Catholic School
END:VEVENT
BEGIN:VEVENT
DTSTART;TZID=UTC:20240123T230000
DTEND;TZID=UTC:20240124T003000
DTSTAMP:20260425T224327
CREATED:20231019T161938Z
LAST-MODIFIED:20231030T114445Z
UID:10000357-1706050800-1706056200@sjschoolonline.org
SUMMARY:6th\, 7th\, 8th Basketball Practice
DESCRIPTION:
URL:https://sjschoolonline.org/event/6th-7th-8th-basketball-practice-81/
END:VEVENT
BEGIN:VEVENT
DTSTART;TZID=UTC:20240123T230000
DTEND;TZID=UTC:20240124T003000
DTSTAMP:20260425T224327
CREATED:20230816T015916Z
LAST-MODIFIED:20231017T205513Z
UID:10000185-1706050800-1706056200@sjschoolonline.org
SUMMARY:6th\, 7th\, 8th Basketball Practice
DESCRIPTION:
URL:https://sjschoolonline.org/event/6th-7th-8th-basketball-practice-40/
END:VEVENT
BEGIN:VEVENT
DTSTART;TZID=UTC:20240123T220000
DTEND;TZID=UTC:20240123T230000
DTSTAMP:20260425T224327
CREATED:20230816T015916Z
LAST-MODIFIED:20231024T140109Z
UID:10000184-1706047200-1706050800@sjschoolonline.org
SUMMARY:Girls Basketball 4th and 5th Grade practice
DESCRIPTION:
URL:https://sjschoolonline.org/event/girls-basketball-4th-and-5th-grade-practice-26/
END:VEVENT
BEGIN:VEVENT
DTSTART;TZID=America/New_York:20240123T000000
DTEND;TZID=America/New_York:20240123T235959
DTSTAMP:20260425T224327
CREATED:20240118T172702Z
LAST-MODIFIED:20240123T180347Z
UID:10000654-1705968000-1706054399@sjschoolonline.org
SUMMARY:8th grade attending KY March for life
DESCRIPTION:
URL:https://sjschoolonline.org/event/8th-grade-attending-ky-march-for-life/
CATEGORIES:St. James Catholic School
END:VEVENT
BEGIN:VEVENT
DTSTART;TZID=UTC:20240122T230000
DTEND;TZID=UTC:20240123T003000
DTSTAMP:20260425T224327
CREATED:20231019T161937Z
LAST-MODIFIED:20231030T114445Z
UID:10000356-1705964400-1705969800@sjschoolonline.org
SUMMARY:6th\, 7th\, 8th Basketball Practice
DESCRIPTION:
URL:https://sjschoolonline.org/event/6th-7th-8th-basketball-practice-80/
END:VEVENT
BEGIN:VEVENT
DTSTART;TZID=UTC:20240122T230000
DTEND;TZID=UTC:20240123T003000
DTSTAMP:20260425T224327
CREATED:20230816T015916Z
LAST-MODIFIED:20231017T205513Z
UID:10000183-1705964400-1705969800@sjschoolonline.org
SUMMARY:6th\, 7th\, 8th Basketball Practice
DESCRIPTION:
URL:https://sjschoolonline.org/event/6th-7th-8th-basketball-practice-39/
END:VEVENT
BEGIN:VEVENT
DTSTART;TZID=UTC:20240122T213000
DTEND;TZID=UTC:20240122T230000
DTSTAMP:20260425T224327
CREATED:20231017T205437Z
LAST-MODIFIED:20231024T140108Z
UID:10000304-1705959000-1705964400@sjschoolonline.org
SUMMARY:5th Grade Boys Basketball Practice
DESCRIPTION:
URL:https://sjschoolonline.org/event/5th-grade-boys-basketball-practice-14/
END:VEVENT
BEGIN:VEVENT
DTSTART;TZID=UTC:20240121T194500
DTEND;TZID=UTC:20240121T210000
DTSTAMP:20260425T224327
CREATED:20231019T161937Z
LAST-MODIFIED:20231030T114445Z
UID:10000355-1705866300-1705870800@sjschoolonline.org
SUMMARY:4th-8th Grade Swim practice @ Etown Swim and Fitness
DESCRIPTION:
URL:https://sjschoolonline.org/event/4th-8th-grade-swim-practice-etown-swim-and-fitness-9/
END:VEVENT
BEGIN:VEVENT
DTSTART;TZID=UTC:20240121T190000
DTEND;TZID=UTC:20240121T194500
DTSTAMP:20260425T224327
CREATED:20231019T161925Z
LAST-MODIFIED:20231030T114445Z
UID:10000354-1705863600-1705866300@sjschoolonline.org
SUMMARY:1st-3rd Grade Swim Practice @ Etown Swim and Fitness
DESCRIPTION:
URL:https://sjschoolonline.org/event/1st-3rd-grade-swim-practice-etown-swim-and-fitness-11/
END:VEVENT
BEGIN:VEVENT
DTSTART;TZID=America/New_York:20240120T000000
DTEND;TZID=America/New_York:20240120T235959
DTSTAMP:20260425T224327
CREATED:20240118T172702Z
LAST-MODIFIED:20240119T173208Z
UID:10000653-1705708800-1705795199@sjschoolonline.org
SUMMARY:6th Grade Basketball Tournament
DESCRIPTION:
URL:https://sjschoolonline.org/event/6th-grade-basketball-tournament/
CATEGORIES:St. James Catholic School
END:VEVENT
BEGIN:VEVENT
DTSTART;TZID=UTC:20240120T000000
DTEND;TZID=UTC:20240120T010000
DTSTAMP:20260425T224327
CREATED:20231019T161925Z
LAST-MODIFIED:20231030T114445Z
UID:10000353-1705708800-1705712400@sjschoolonline.org
SUMMARY:4th-8th Grade Swim Practice @ TK STONE
DESCRIPTION:
URL:https://sjschoolonline.org/event/4th-8th-grade-swim-practice-tk-stone-7/
END:VEVENT
BEGIN:VEVENT
DTSTART;TZID=UTC:20240119T220000
DTEND;TZID=UTC:20240119T233000
DTSTAMP:20260425T224327
CREATED:20230816T015915Z
LAST-MODIFIED:20231030T114445Z
UID:10000182-1705701600-1705707000@sjschoolonline.org
SUMMARY:Girls Basketball 4th and 5th grade practice
DESCRIPTION:
URL:https://sjschoolonline.org/event/girls-basketball-4th-and-5th-grade-practice-25/
END:VEVENT
BEGIN:VEVENT
DTSTART;TZID=UTC:20240118T230000
DTEND;TZID=UTC:20240119T003000
DTSTAMP:20260425T224327
CREATED:20230816T015915Z
LAST-MODIFIED:20230821T185210Z
UID:10000181-1705618800-1705624200@sjschoolonline.org
SUMMARY:6th\, 7th\, 8th Basketball Practice
DESCRIPTION:
URL:https://sjschoolonline.org/event/6th-7th-8th-basketball-practice-38/
END:VEVENT
BEGIN:VEVENT
DTSTART;TZID=UTC:20240118T220000
DTEND;TZID=UTC:20240119T020000
DTSTAMP:20260425T224327
CREATED:20230823T213941Z
LAST-MODIFIED:20231030T114445Z
UID:10000239-1705615200-1705629600@sjschoolonline.org
SUMMARY:6th\, 7th and 8th Grade Boys Basketball Vs. North Hardin Christian (HOME)
DESCRIPTION:
URL:https://sjschoolonline.org/event/6th-7th-and-8th-grade-boys-basketball-vs-north-hardin-christian-home/
END:VEVENT
BEGIN:VEVENT
DTSTART;TZID=UTC:20240118T204500
DTEND;TZID=UTC:20240118T220000
DTSTAMP:20260425T224327
CREATED:20231005T235926Z
LAST-MODIFIED:20231030T114445Z
UID:10000281-1705610700-1705615200@sjschoolonline.org
SUMMARY:2nd-3rd Grade Girls Basketball Practice
DESCRIPTION:
URL:https://sjschoolonline.org/event/2nd-3rd-grade-girls-basketball-practice-14/
END:VEVENT
BEGIN:VEVENT
DTSTART;TZID=UTC:20240117T230000
DTEND;TZID=UTC:20240118T013000
DTSTAMP:20260425T224327
CREATED:20230816T015915Z
LAST-MODIFIED:20231030T114445Z
UID:10000180-1705532400-1705541400@sjschoolonline.org
SUMMARY:Family Faith Formation & Middle School Ministry
DESCRIPTION:
URL:https://sjschoolonline.org/event/family-faith-formation-middle-school-ministry-14/
END:VEVENT
BEGIN:VEVENT
DTSTART;TZID=UTC:20240117T213000
DTEND;TZID=UTC:20240117T230000
DTSTAMP:20260425T224327
CREATED:20230816T015915Z
LAST-MODIFIED:20231030T114445Z
UID:10000179-1705527000-1705532400@sjschoolonline.org
SUMMARY:6th\, 7th\, 8th Basketball Practice
DESCRIPTION:
URL:https://sjschoolonline.org/event/6th-7th-8th-basketball-practice-37/
END:VEVENT
BEGIN:VEVENT
DTSTART;TZID=UTC:20240117T200000
DTEND;TZID=UTC:20240117T213000
DTSTAMP:20260425T224327
CREATED:20231025T145711Z
LAST-MODIFIED:20231030T114445Z
UID:10000414-1705521600-1705527000@sjschoolonline.org
SUMMARY:Girls Basketball 4th and 5th Grade practice
DESCRIPTION:
URL:https://sjschoolonline.org/event/girls-basketball-4th-and-5th-grade-practice-48/
END:VEVENT
BEGIN:VEVENT
DTSTART;TZID=America/New_York:20240117T080000
DTEND;TZID=America/New_York:20240117T090000
DTSTAMP:20260425T224327
CREATED:20240101T154644Z
LAST-MODIFIED:20240116T171158Z
UID:10000441-1705478400-1705482000@sjschoolonline.org
SUMMARY:School Mass--with PreK4
DESCRIPTION:
URL:https://sjschoolonline.org/event/school-mass-5/
CATEGORIES:St. James Catholic School
END:VEVENT
BEGIN:VEVENT
DTSTART;TZID=America/New_York:20240117T000000
DTEND;TZID=America/New_York:20240119T235959
DTSTAMP:20260425T224327
CREATED:20240101T154644Z
LAST-MODIFIED:20240119T173208Z
UID:10000442-1705449600-1705708799@sjschoolonline.org
SUMMARY:MAP Assessment
DESCRIPTION:
URL:https://sjschoolonline.org/event/map-assessment/
CATEGORIES:St. James Catholic School
END:VEVENT
BEGIN:VEVENT
DTSTART;TZID=UTC:20240116T230000
DTEND;TZID=UTC:20240117T003000
DTSTAMP:20260425T224327
CREATED:20231019T161924Z
LAST-MODIFIED:20231030T114444Z
UID:10000352-1705446000-1705451400@sjschoolonline.org
SUMMARY:6th\, 7th\, 8th Basketball Practice
DESCRIPTION:
URL:https://sjschoolonline.org/event/6th-7th-8th-basketball-practice-79/
END:VEVENT
BEGIN:VEVENT
DTSTART;TZID=UTC:20240116T230000
DTEND;TZID=UTC:20240117T003000
DTSTAMP:20260425T224327
CREATED:20230816T015901Z
LAST-MODIFIED:20231017T205512Z
UID:10000178-1705446000-1705451400@sjschoolonline.org
SUMMARY:6th\, 7th\, 8th Basketball Practice
DESCRIPTION:
URL:https://sjschoolonline.org/event/6th-7th-8th-basketball-practice-36/
END:VEVENT
BEGIN:VEVENT
DTSTART;TZID=UTC:20240116T220000
DTEND;TZID=UTC:20240116T230000
DTSTAMP:20260425T224327
CREATED:20230816T015901Z
LAST-MODIFIED:20231024T140106Z
UID:10000177-1705442400-1705446000@sjschoolonline.org
SUMMARY:Girls Basketball 4th and 5th Grade practice
DESCRIPTION:
URL:https://sjschoolonline.org/event/girls-basketball-4th-and-5th-grade-practice-24/
END:VEVENT
BEGIN:VEVENT
DTSTART;TZID=UTC:20240115T213000
DTEND;TZID=UTC:20240116T020000
DTSTAMP:20260425T224327
CREATED:20230816T015900Z
LAST-MODIFIED:20231030T114444Z
UID:10000176-1705354200-1705370400@sjschoolonline.org
SUMMARY:6th\, 7th and 8th Grade Boys Basketball Game Vs. OKH White (AWAY)
DESCRIPTION:
URL:https://sjschoolonline.org/event/6th-7th-and-8th-grade-boys-basketball-game-vs-st-augustine-away/
END:VEVENT
BEGIN:VEVENT
DTSTART;TZID=UTC:20240115T213000
DTEND;TZID=UTC:20240115T230000
DTSTAMP:20260425T224327
CREATED:20231017T205437Z
LAST-MODIFIED:20231024T140105Z
UID:10000303-1705354200-1705359600@sjschoolonline.org
SUMMARY:5th Grade Boys Basketball Practice
DESCRIPTION:
URL:https://sjschoolonline.org/event/5th-grade-boys-basketball-practice-13/
END:VEVENT
END:VCALENDAR