BEGIN:VCALENDAR
VERSION:2.0
PRODID:-//St. James Catholic School - ECPv6.15.20//NONSGML v1.0//EN
CALSCALE:GREGORIAN
METHOD:PUBLISH
X-WR-CALNAME:St. James Catholic School
X-ORIGINAL-URL:https://sjschoolonline.org
X-WR-CALDESC:Events for St. James Catholic School
REFRESH-INTERVAL;VALUE=DURATION:PT1H
X-Robots-Tag:noindex
X-PUBLISHED-TTL:PT1H
BEGIN:VTIMEZONE
TZID:America/New_York
BEGIN:DAYLIGHT
TZOFFSETFROM:-0500
TZOFFSETTO:-0400
TZNAME:EDT
DTSTART:20230312T070000
END:DAYLIGHT
BEGIN:STANDARD
TZOFFSETFROM:-0400
TZOFFSETTO:-0500
TZNAME:EST
DTSTART:20231105T060000
END:STANDARD
BEGIN:DAYLIGHT
TZOFFSETFROM:-0500
TZOFFSETTO:-0400
TZNAME:EDT
DTSTART:20240310T070000
END:DAYLIGHT
BEGIN:STANDARD
TZOFFSETFROM:-0400
TZOFFSETTO:-0500
TZNAME:EST
DTSTART:20241103T060000
END:STANDARD
BEGIN:DAYLIGHT
TZOFFSETFROM:-0500
TZOFFSETTO:-0400
TZNAME:EDT
DTSTART:20250309T070000
END:DAYLIGHT
BEGIN:STANDARD
TZOFFSETFROM:-0400
TZOFFSETTO:-0500
TZNAME:EST
DTSTART:20251102T060000
END:STANDARD
END:VTIMEZONE
BEGIN:VTIMEZONE
TZID:America/Kentucky/Louisville
BEGIN:DAYLIGHT
TZOFFSETFROM:-0500
TZOFFSETTO:-0400
TZNAME:EDT
DTSTART:20230312T070000
END:DAYLIGHT
BEGIN:STANDARD
TZOFFSETFROM:-0400
TZOFFSETTO:-0500
TZNAME:EST
DTSTART:20231105T060000
END:STANDARD
BEGIN:DAYLIGHT
TZOFFSETFROM:-0500
TZOFFSETTO:-0400
TZNAME:EDT
DTSTART:20240310T070000
END:DAYLIGHT
BEGIN:STANDARD
TZOFFSETFROM:-0400
TZOFFSETTO:-0500
TZNAME:EST
DTSTART:20241103T060000
END:STANDARD
BEGIN:DAYLIGHT
TZOFFSETFROM:-0500
TZOFFSETTO:-0400
TZNAME:EDT
DTSTART:20250309T070000
END:DAYLIGHT
BEGIN:STANDARD
TZOFFSETFROM:-0400
TZOFFSETTO:-0500
TZNAME:EST
DTSTART:20251102T060000
END:STANDARD
END:VTIMEZONE
BEGIN:VEVENT
DTSTART;TZID=America/New_York:20240517T000000
DTEND;TZID=America/New_York:20240517T235959
DTSTAMP:20260425T204958
CREATED:20240227T212700Z
LAST-MODIFIED:20240227T212700Z
UID:10000805-1715904000-1715990399@sjschoolonline.org
SUMMARY:Last day for PreK
DESCRIPTION:
URL:https://sjschoolonline.org/event/last-day-for-prek/
CATEGORIES:St. James Catholic School
END:VEVENT
BEGIN:VEVENT
DTSTART;TZID=America/New_York:20240519T000000
DTEND;TZID=America/New_York:20240519T235959
DTSTAMP:20260425T204958
CREATED:20240101T154659Z
LAST-MODIFIED:20240212T201447Z
UID:10000519-1716076800-1716163199@sjschoolonline.org
SUMMARY:Happy Birthday Mrs. Burke!
DESCRIPTION:
URL:https://sjschoolonline.org/event/happy-birthday-mrs-burke/
CATEGORIES:St. James Catholic School
END:VEVENT
BEGIN:VEVENT
DTSTART;TZID=America/New_York:20240520T000000
DTEND;TZID=America/New_York:20240520T235959
DTSTAMP:20260425T204958
CREATED:20240227T212701Z
LAST-MODIFIED:20240227T212701Z
UID:10000807-1716163200-1716249599@sjschoolonline.org
SUMMARY:PreK Graduation (morning)
DESCRIPTION:
URL:https://sjschoolonline.org/event/prek-graduation-morning/
CATEGORIES:St. James Catholic School
END:VEVENT
BEGIN:VEVENT
DTSTART;TZID=America/New_York:20240521T090000
DTEND;TZID=America/New_York:20240521T091500
DTSTAMP:20260425T204958
CREATED:20240314T231654Z
LAST-MODIFIED:20240314T231654Z
UID:10000834-1716282000-1716282900@sjschoolonline.org
SUMMARY:EHS Senior Walk
DESCRIPTION:
URL:https://sjschoolonline.org/event/ehs-senior-walk/
CATEGORIES:St. James Catholic School
END:VEVENT
BEGIN:VEVENT
DTSTART;TZID=America/New_York:20240521T110000
DTEND;TZID=America/New_York:20240521T120000
DTSTAMP:20260425T204958
CREATED:20240503T072810Z
LAST-MODIFIED:20240503T072810Z
UID:10000986-1716289200-1716292800@sjschoolonline.org
SUMMARY:8th grade luncheon and memory books
DESCRIPTION:
URL:https://sjschoolonline.org/event/8th-grade-luncheon-and-memory-books/
LOCATION:gym
CATEGORIES:St. James Catholic School
END:VEVENT
BEGIN:VEVENT
DTSTART;TZID=America/New_York:20240522T080000
DTEND;TZID=America/New_York:20240522T090000
DTSTAMP:20260425T204958
CREATED:20240101T154700Z
LAST-MODIFIED:20240212T201459Z
UID:10000520-1716364800-1716368400@sjschoolonline.org
SUMMARY:School Mass
DESCRIPTION:
URL:https://sjschoolonline.org/event/school-mass-22/
CATEGORIES:St. James Catholic School
END:VEVENT
BEGIN:VEVENT
DTSTART;TZID=America/New_York:20240522T084500
DTEND;TZID=America/New_York:20240522T090000
DTSTAMP:20260425T204958
CREATED:20240406T062659Z
LAST-MODIFIED:20240406T062659Z
UID:10000846-1716367500-1716368400@sjschoolonline.org
SUMMARY:Amy Alicna and teacher recognition
DESCRIPTION:
URL:https://sjschoolonline.org/event/amy-alicna-and-teacher-recognition/
CATEGORIES:St. James Catholic School
END:VEVENT
BEGIN:VEVENT
DTSTART;TZID=America/New_York:20240522T090000
DTEND;TZID=America/New_York:20240522T094500
DTSTAMP:20260425T204958
CREATED:20240406T062659Z
LAST-MODIFIED:20240406T062659Z
UID:10000847-1716368400-1716371100@sjschoolonline.org
SUMMARY:Knighting ceremony
DESCRIPTION:
URL:https://sjschoolonline.org/event/knighting-ceremony/
CATEGORIES:St. James Catholic School
END:VEVENT
BEGIN:VEVENT
DTSTART;TZID=America/New_York:20240523T000000
DTEND;TZID=America/New_York:20240523T235959
DTSTAMP:20260425T204958
CREATED:20240101T154700Z
LAST-MODIFIED:20240212T201459Z
UID:10000521-1716422400-1716508799@sjschoolonline.org
SUMMARY:Last Day of School
DESCRIPTION:
URL:https://sjschoolonline.org/event/last-day-of-school/
CATEGORIES:St. James Catholic School
END:VEVENT
BEGIN:VEVENT
DTSTART;TZID=America/New_York:20240523T000000
DTEND;TZID=America/New_York:20240523T235959
DTSTAMP:20260425T204958
CREATED:20240101T154700Z
LAST-MODIFIED:20240212T201500Z
UID:10000523-1716422400-1716508799@sjschoolonline.org
SUMMARY:4th Quarter Ends
DESCRIPTION:
URL:https://sjschoolonline.org/event/4th-quarter-ends/
CATEGORIES:St. James Catholic School
END:VEVENT
BEGIN:VEVENT
DTSTART;TZID=America/New_York:20240523T000000
DTEND;TZID=America/New_York:20240523T235959
DTSTAMP:20260425T204958
CREATED:20240101T154701Z
LAST-MODIFIED:20240212T201500Z
UID:10000524-1716422400-1716508799@sjschoolonline.org
SUMMARY:Report cards sent home
DESCRIPTION:
URL:https://sjschoolonline.org/event/report-cards-sent-home/
CATEGORIES:St. James Catholic School
END:VEVENT
BEGIN:VEVENT
DTSTART;TZID=America/New_York:20240523T080000
DTEND;TZID=America/New_York:20240523T090000
DTSTAMP:20260425T204958
CREATED:20240406T062659Z
LAST-MODIFIED:20240406T062659Z
UID:10000848-1716451200-1716454800@sjschoolonline.org
SUMMARY:Awards (Grades 4-8)
DESCRIPTION:
URL:https://sjschoolonline.org/event/awards-grades-4-8/
CATEGORIES:St. James Catholic School
END:VEVENT
BEGIN:VEVENT
DTSTART;TZID=America/New_York:20240523T090000
DTEND;TZID=America/New_York:20240523T093000
DTSTAMP:20260425T204958
CREATED:20240406T062659Z
LAST-MODIFIED:20240406T062659Z
UID:10000849-1716454800-1716456600@sjschoolonline.org
SUMMARY:8th grade Clap-Out
DESCRIPTION:
URL:https://sjschoolonline.org/event/8th-grade-clap-out/
CATEGORIES:St. James Catholic School
END:VEVENT
BEGIN:VEVENT
DTSTART;TZID=America/New_York:20240523T100000
DTEND;TZID=America/New_York:20240523T110000
DTSTAMP:20260425T204958
CREATED:20240406T062659Z
LAST-MODIFIED:20240406T062659Z
UID:10000850-1716458400-1716462000@sjschoolonline.org
SUMMARY:Awards (K-3)
DESCRIPTION:
URL:https://sjschoolonline.org/event/awards-k-3/
CATEGORIES:St. James Catholic School
END:VEVENT
BEGIN:VEVENT
DTSTART;TZID=America/New_York:20240523T113000
DTEND;TZID=America/New_York:20240523T123000
DTSTAMP:20260425T204958
CREATED:20240101T154700Z
LAST-MODIFIED:20240212T201459Z
UID:10000522-1716463800-1716467400@sjschoolonline.org
SUMMARY:Dismissal
DESCRIPTION:
URL:https://sjschoolonline.org/event/dismissal/
CATEGORIES:St. James Catholic School
END:VEVENT
BEGIN:VEVENT
DTSTART;TZID=America/New_York:20240523T183000
DTEND;TZID=America/New_York:20240523T210000
DTSTAMP:20260425T204958
CREATED:20240227T212701Z
LAST-MODIFIED:20240227T212701Z
UID:10000808-1716489000-1716498000@sjschoolonline.org
SUMMARY:8th Grade Graduation Mass and Reception
DESCRIPTION:
URL:https://sjschoolonline.org/event/8th-grade-graduation-mass-and-reception/
LOCATION:Saint James Catholic Church\, 307 W Dixie Ave\, Elizabethtown\, KY 42701\, USA
CATEGORIES:St. James Catholic School
END:VEVENT
BEGIN:VEVENT
DTSTART;TZID=America/New_York:20240526T000000
DTEND;TZID=America/New_York:20240526T235959
DTSTAMP:20260425T204958
CREATED:20240124T181254Z
LAST-MODIFIED:20240212T201500Z
UID:10000675-1716681600-1716767999@sjschoolonline.org
SUMMARY:Happy Birthday Mrs. Lloyd!
DESCRIPTION:
URL:https://sjschoolonline.org/event/happy-birthday-mrs-lloyd/
CATEGORIES:St. James Catholic School
END:VEVENT
BEGIN:VEVENT
DTSTART;TZID=America/New_York:20240527T000000
DTEND;TZID=America/New_York:20240527T235959
DTSTAMP:20260425T204958
CREATED:20240101T154701Z
LAST-MODIFIED:20240212T201500Z
UID:10000525-1716768000-1716854399@sjschoolonline.org
SUMMARY:Memorial Day
DESCRIPTION:
URL:https://sjschoolonline.org/event/memorial-day/
CATEGORIES:St. James Catholic School
END:VEVENT
BEGIN:VEVENT
DTSTART;TZID=America/New_York:20240527T000000
DTEND;TZID=America/New_York:20240527T235959
DTSTAMP:20260425T204958
CREATED:20240124T181255Z
LAST-MODIFIED:20240212T201500Z
UID:10000676-1716768000-1716854399@sjschoolonline.org
SUMMARY:Happy Birthday Mrs. Dil!
DESCRIPTION:
URL:https://sjschoolonline.org/event/happy-birthday-mrs-dil/
CATEGORIES:St. James Catholic School
END:VEVENT
BEGIN:VEVENT
DTSTART;TZID=America/New_York:20240528T000000
DTEND;TZID=America/New_York:20240528T235959
DTSTAMP:20260425T204958
CREATED:20240124T181258Z
LAST-MODIFIED:20240212T201500Z
UID:10000677-1716854400-1716940799@sjschoolonline.org
SUMMARY:Happy Birthday Mr. McDonald!
DESCRIPTION:
URL:https://sjschoolonline.org/event/happy-birthday-mr-mcdonald/
CATEGORIES:St. James Catholic School
END:VEVENT
BEGIN:VEVENT
DTSTART;TZID=America/New_York:20240529T000000
DTEND;TZID=America/New_York:20240529T235959
DTSTAMP:20260425T204958
CREATED:20240101T154701Z
LAST-MODIFIED:20240212T201500Z
UID:10000526-1716940800-1717027199@sjschoolonline.org
SUMMARY:Happy Birthday\, Mrs. Riney!
DESCRIPTION:
URL:https://sjschoolonline.org/event/happy-birthday-mrs-riney/
CATEGORIES:St. James Catholic School
END:VEVENT
BEGIN:VEVENT
DTSTART;TZID=America/New_York:20240603T000000
DTEND;TZID=America/New_York:20240603T235959
DTSTAMP:20260425T204958
CREATED:20240101T154701Z
LAST-MODIFIED:20240212T201512Z
UID:10000527-1717372800-1717459199@sjschoolonline.org
SUMMARY:Happy Birthday\, Mr. Padgett!
DESCRIPTION:
URL:https://sjschoolonline.org/event/happy-birthday-mr-padgett/
CATEGORIES:St. James Catholic School
END:VEVENT
BEGIN:VEVENT
DTSTART;TZID=America/New_York:20240607T000000
DTEND;TZID=America/New_York:20240607T235959
DTSTAMP:20260425T204958
CREATED:20240101T154702Z
LAST-MODIFIED:20240212T201513Z
UID:10000528-1717718400-1717804799@sjschoolonline.org
SUMMARY:Happy Birthday\, Mrs. Harrison!
DESCRIPTION:
URL:https://sjschoolonline.org/event/happy-birthday-mrs-harrison/
CATEGORIES:St. James Catholic School
END:VEVENT
BEGIN:VEVENT
DTSTART;TZID=America/New_York:20240607T000000
DTEND;TZID=America/New_York:20240607T235959
DTSTAMP:20260425T204958
CREATED:20240103T155800Z
LAST-MODIFIED:20240212T201514Z
UID:10000614-1717718400-1717804799@sjschoolonline.org
SUMMARY:First Friday Adoration
DESCRIPTION:
URL:https://sjschoolonline.org/event/first-friday-adoration-6/
CATEGORIES:St. James Catholic School
END:VEVENT
BEGIN:VEVENT
DTSTART;TZID=America/New_York:20240607T000000
DTEND;TZID=America/New_York:20240607T235959
DTSTAMP:20260425T204958
CREATED:20240124T181259Z
LAST-MODIFIED:20240212T201513Z
UID:10000678-1717718400-1717804799@sjschoolonline.org
SUMMARY:Happy Feast Day Sister Lucia Christi!
DESCRIPTION:
URL:https://sjschoolonline.org/event/happy-feast-day-sister-lucia-christi/
CATEGORIES:St. James Catholic School
END:VEVENT
BEGIN:VEVENT
DTSTART;TZID=America/New_York:20240609T000000
DTEND;TZID=America/New_York:20240609T235959
DTSTAMP:20260425T204958
CREATED:20240101T154703Z
LAST-MODIFIED:20240212T201514Z
UID:10000529-1717891200-1717977599@sjschoolonline.org
SUMMARY:Happy Birthday\, Mrs. Johnson!
DESCRIPTION:
URL:https://sjschoolonline.org/event/happy-birthday-mrs-johnson/
CATEGORIES:St. James Catholic School
END:VEVENT
BEGIN:VEVENT
DTSTART;TZID=America/New_York:20240610T000000
DTEND;TZID=America/New_York:20240610T235959
DTSTAMP:20260425T204958
CREATED:20240101T154703Z
LAST-MODIFIED:20240212T201515Z
UID:10000530-1717977600-1718063999@sjschoolonline.org
SUMMARY:Happy Birthday\, Mrs. Gutierrez!
DESCRIPTION:
URL:https://sjschoolonline.org/event/happy-birthday-mrs-gutierrez/
CATEGORIES:St. James Catholic School
END:VEVENT
BEGIN:VEVENT
DTSTART;TZID=America/New_York:20240617T000000
DTEND;TZID=America/New_York:20240621T235959
DTSTAMP:20260425T204958
CREATED:20240101T154703Z
LAST-MODIFIED:20240212T201515Z
UID:10000531-1718582400-1719014399@sjschoolonline.org
SUMMARY:Vacation Bible School
DESCRIPTION:
URL:https://sjschoolonline.org/event/vacation-bible-school/
CATEGORIES:St. James Catholic School
END:VEVENT
BEGIN:VEVENT
DTSTART;TZID=America/Kentucky/Louisville:20240624T080000
DTEND;TZID=America/Kentucky/Louisville:20240624T170000
DTSTAMP:20260425T204958
CREATED:20240318T145027Z
LAST-MODIFIED:20240318T175831Z
UID:10000836-1719216000-1719248400@sjschoolonline.org
SUMMARY:St. James Archery Camp
DESCRIPTION:The archery camp will be held at the St James Gymnasium. It is open to 4th-8th grade students looking to work on their archery skills!
URL:https://sjschoolonline.org/event/__trashed/2024-06-24/1/
END:VEVENT
BEGIN:VEVENT
DTSTART;TZID=America/Kentucky/Louisville:20240624T170000
DTEND;TZID=America/Kentucky/Louisville:20240624T183000
DTSTAMP:20260425T204958
CREATED:20240318T145027Z
LAST-MODIFIED:20240318T175831Z
UID:10000837-1719248400-1719253800@sjschoolonline.org
SUMMARY:St. James Archery Camp
DESCRIPTION:The archery camp will be held at the St James Gymnasium. It is open to 4th-8th grade students looking to work on their archery skills!
URL:https://sjschoolonline.org/event/__trashed/2024-06-24/2/
END:VEVENT
END:VCALENDAR