BEGIN:VCALENDAR
VERSION:2.0
PRODID:-//St. James Catholic School - ECPv6.15.20//NONSGML v1.0//EN
CALSCALE:GREGORIAN
METHOD:PUBLISH
X-WR-CALNAME:St. James Catholic School
X-ORIGINAL-URL:https://sjschoolonline.org
X-WR-CALDESC:Events for St. James Catholic School
REFRESH-INTERVAL;VALUE=DURATION:PT1H
X-Robots-Tag:noindex
X-PUBLISHED-TTL:PT1H
BEGIN:VTIMEZONE
TZID:America/New_York
BEGIN:DAYLIGHT
TZOFFSETFROM:-0500
TZOFFSETTO:-0400
TZNAME:EDT
DTSTART:20230312T070000
END:DAYLIGHT
BEGIN:STANDARD
TZOFFSETFROM:-0400
TZOFFSETTO:-0500
TZNAME:EST
DTSTART:20231105T060000
END:STANDARD
BEGIN:DAYLIGHT
TZOFFSETFROM:-0500
TZOFFSETTO:-0400
TZNAME:EDT
DTSTART:20240310T070000
END:DAYLIGHT
BEGIN:STANDARD
TZOFFSETFROM:-0400
TZOFFSETTO:-0500
TZNAME:EST
DTSTART:20241103T060000
END:STANDARD
BEGIN:DAYLIGHT
TZOFFSETFROM:-0500
TZOFFSETTO:-0400
TZNAME:EDT
DTSTART:20250309T070000
END:DAYLIGHT
BEGIN:STANDARD
TZOFFSETFROM:-0400
TZOFFSETTO:-0500
TZNAME:EST
DTSTART:20251102T060000
END:STANDARD
END:VTIMEZONE
BEGIN:VTIMEZONE
TZID:UTC
BEGIN:STANDARD
TZOFFSETFROM:+0000
TZOFFSETTO:+0000
TZNAME:UTC
DTSTART:20230101T000000
END:STANDARD
END:VTIMEZONE
BEGIN:VEVENT
DTSTART;TZID=America/New_York:20240523T090000
DTEND;TZID=America/New_York:20240523T093000
DTSTAMP:20260425T230957
CREATED:20240406T062659Z
LAST-MODIFIED:20240406T062659Z
UID:10000849-1716454800-1716456600@sjschoolonline.org
SUMMARY:8th grade Clap-Out
DESCRIPTION:
URL:https://sjschoolonline.org/event/8th-grade-clap-out/
CATEGORIES:St. James Catholic School
END:VEVENT
BEGIN:VEVENT
DTSTART;TZID=America/New_York:20240523T080000
DTEND;TZID=America/New_York:20240523T090000
DTSTAMP:20260425T230957
CREATED:20240406T062659Z
LAST-MODIFIED:20240406T062659Z
UID:10000848-1716451200-1716454800@sjschoolonline.org
SUMMARY:Awards (Grades 4-8)
DESCRIPTION:
URL:https://sjschoolonline.org/event/awards-grades-4-8/
CATEGORIES:St. James Catholic School
END:VEVENT
BEGIN:VEVENT
DTSTART;TZID=America/New_York:20240523T000000
DTEND;TZID=America/New_York:20240523T235959
DTSTAMP:20260425T230957
CREATED:20240101T154701Z
LAST-MODIFIED:20240212T201500Z
UID:10000524-1716422400-1716508799@sjschoolonline.org
SUMMARY:Report cards sent home
DESCRIPTION:
URL:https://sjschoolonline.org/event/report-cards-sent-home/
CATEGORIES:St. James Catholic School
END:VEVENT
BEGIN:VEVENT
DTSTART;TZID=America/New_York:20240523T000000
DTEND;TZID=America/New_York:20240523T235959
DTSTAMP:20260425T230957
CREATED:20240101T154700Z
LAST-MODIFIED:20240212T201459Z
UID:10000521-1716422400-1716508799@sjschoolonline.org
SUMMARY:Last Day of School
DESCRIPTION:
URL:https://sjschoolonline.org/event/last-day-of-school/
CATEGORIES:St. James Catholic School
END:VEVENT
BEGIN:VEVENT
DTSTART;TZID=America/New_York:20240523T000000
DTEND;TZID=America/New_York:20240523T235959
DTSTAMP:20260425T230957
CREATED:20240101T154700Z
LAST-MODIFIED:20240212T201500Z
UID:10000523-1716422400-1716508799@sjschoolonline.org
SUMMARY:4th Quarter Ends
DESCRIPTION:
URL:https://sjschoolonline.org/event/4th-quarter-ends/
CATEGORIES:St. James Catholic School
END:VEVENT
BEGIN:VEVENT
DTSTART;TZID=America/New_York:20240522T090000
DTEND;TZID=America/New_York:20240522T094500
DTSTAMP:20260425T230957
CREATED:20240406T062659Z
LAST-MODIFIED:20240406T062659Z
UID:10000847-1716368400-1716371100@sjschoolonline.org
SUMMARY:Knighting ceremony
DESCRIPTION:
URL:https://sjschoolonline.org/event/knighting-ceremony/
CATEGORIES:St. James Catholic School
END:VEVENT
BEGIN:VEVENT
DTSTART;TZID=America/New_York:20240522T084500
DTEND;TZID=America/New_York:20240522T090000
DTSTAMP:20260425T230957
CREATED:20240406T062659Z
LAST-MODIFIED:20240406T062659Z
UID:10000846-1716367500-1716368400@sjschoolonline.org
SUMMARY:Amy Alicna and teacher recognition
DESCRIPTION:
URL:https://sjschoolonline.org/event/amy-alicna-and-teacher-recognition/
CATEGORIES:St. James Catholic School
END:VEVENT
BEGIN:VEVENT
DTSTART;TZID=America/New_York:20240522T080000
DTEND;TZID=America/New_York:20240522T090000
DTSTAMP:20260425T230957
CREATED:20240101T154700Z
LAST-MODIFIED:20240212T201459Z
UID:10000520-1716364800-1716368400@sjschoolonline.org
SUMMARY:School Mass
DESCRIPTION:
URL:https://sjschoolonline.org/event/school-mass-22/
CATEGORIES:St. James Catholic School
END:VEVENT
BEGIN:VEVENT
DTSTART;TZID=America/New_York:20240521T110000
DTEND;TZID=America/New_York:20240521T120000
DTSTAMP:20260425T230957
CREATED:20240503T072810Z
LAST-MODIFIED:20240503T072810Z
UID:10000986-1716289200-1716292800@sjschoolonline.org
SUMMARY:8th grade luncheon and memory books
DESCRIPTION:
URL:https://sjschoolonline.org/event/8th-grade-luncheon-and-memory-books/
LOCATION:gym
CATEGORIES:St. James Catholic School
END:VEVENT
BEGIN:VEVENT
DTSTART;TZID=America/New_York:20240521T090000
DTEND;TZID=America/New_York:20240521T091500
DTSTAMP:20260425T230957
CREATED:20240314T231654Z
LAST-MODIFIED:20240314T231654Z
UID:10000834-1716282000-1716282900@sjschoolonline.org
SUMMARY:EHS Senior Walk
DESCRIPTION:
URL:https://sjschoolonline.org/event/ehs-senior-walk/
CATEGORIES:St. James Catholic School
END:VEVENT
BEGIN:VEVENT
DTSTART;TZID=America/New_York:20240520T000000
DTEND;TZID=America/New_York:20240520T235959
DTSTAMP:20260425T230957
CREATED:20240227T212701Z
LAST-MODIFIED:20240227T212701Z
UID:10000807-1716163200-1716249599@sjschoolonline.org
SUMMARY:PreK Graduation (morning)
DESCRIPTION:
URL:https://sjschoolonline.org/event/prek-graduation-morning/
CATEGORIES:St. James Catholic School
END:VEVENT
BEGIN:VEVENT
DTSTART;TZID=America/New_York:20240519T000000
DTEND;TZID=America/New_York:20240519T235959
DTSTAMP:20260425T230957
CREATED:20240101T154659Z
LAST-MODIFIED:20240212T201447Z
UID:10000519-1716076800-1716163199@sjschoolonline.org
SUMMARY:Happy Birthday Mrs. Burke!
DESCRIPTION:
URL:https://sjschoolonline.org/event/happy-birthday-mrs-burke/
CATEGORIES:St. James Catholic School
END:VEVENT
BEGIN:VEVENT
DTSTART;TZID=America/New_York:20240517T000000
DTEND;TZID=America/New_York:20240517T235959
DTSTAMP:20260425T230957
CREATED:20240227T212700Z
LAST-MODIFIED:20240227T212700Z
UID:10000805-1715904000-1715990399@sjschoolonline.org
SUMMARY:Last day for PreK
DESCRIPTION:
URL:https://sjschoolonline.org/event/last-day-for-prek/
CATEGORIES:St. James Catholic School
END:VEVENT
BEGIN:VEVENT
DTSTART;TZID=America/New_York:20240517T000000
DTEND;TZID=America/New_York:20240517T235959
DTSTAMP:20260425T230957
CREATED:20240101T154659Z
LAST-MODIFIED:20240212T201447Z
UID:10000518-1715904000-1715990399@sjschoolonline.org
SUMMARY:Field Day
DESCRIPTION:
URL:https://sjschoolonline.org/event/field-day/
CATEGORIES:St. James Catholic School
END:VEVENT
BEGIN:VEVENT
DTSTART;TZID=America/New_York:20240516T183000
DTEND;TZID=America/New_York:20240516T193000
DTSTAMP:20260425T230957
CREATED:20240306T222828Z
LAST-MODIFIED:20240306T222828Z
UID:10000825-1715884200-1715887800@sjschoolonline.org
SUMMARY:PTO Meeting
DESCRIPTION:
URL:https://sjschoolonline.org/event/pto-meeting-4/
CATEGORIES:St. James Catholic School
END:VEVENT
BEGIN:VEVENT
DTSTART;TZID=America/New_York:20240516T080000
DTEND;TZID=America/New_York:20240516T113000
DTSTAMP:20260425T230957
CREATED:20240511T074158Z
LAST-MODIFIED:20240511T074158Z
UID:10000991-1715846400-1715859000@sjschoolonline.org
SUMMARY:PreK Field Day
DESCRIPTION:
URL:https://sjschoolonline.org/event/prek-field-day-2/
CATEGORIES:St. James Catholic School
END:VEVENT
BEGIN:VEVENT
DTSTART;TZID=America/New_York:20240516T080000
DTEND;TZID=America/New_York:20240516T113000
DTSTAMP:20260425T230957
CREATED:20240511T074158Z
LAST-MODIFIED:20240511T074158Z
UID:10000992-1715846400-1715859000@sjschoolonline.org
SUMMARY:PreK Field Day
DESCRIPTION:
URL:https://sjschoolonline.org/event/prek-field-day-3/
CATEGORIES:St. James Catholic School
END:VEVENT
BEGIN:VEVENT
DTSTART;TZID=America/New_York:20240516T000000
DTEND;TZID=America/New_York:20240516T235959
DTSTAMP:20260425T230957
CREATED:20240426T071206Z
LAST-MODIFIED:20240426T071206Z
UID:10000977-1715817600-1715903999@sjschoolonline.org
SUMMARY:6th and 7th grade trip to Gethsemane
DESCRIPTION:
URL:https://sjschoolonline.org/event/6th-and-7th-grade-trip-to-gethsemane/
CATEGORIES:St. James Catholic School
END:VEVENT
BEGIN:VEVENT
DTSTART;TZID=America/New_York:20240516T000000
DTEND;TZID=America/New_York:20240516T235959
DTSTAMP:20260425T230957
CREATED:20240229T214157Z
LAST-MODIFIED:20240229T214157Z
UID:10000816-1715817600-1715903999@sjschoolonline.org
SUMMARY:8th grade class trip
DESCRIPTION:
URL:https://sjschoolonline.org/event/8th-grade-class-trip/
CATEGORIES:St. James Catholic School
END:VEVENT
BEGIN:VEVENT
DTSTART;TZID=America/New_York:20240516T000000
DTEND;TZID=America/New_York:20240516T235959
DTSTAMP:20260425T230957
CREATED:20240227T212700Z
LAST-MODIFIED:20240227T212700Z
UID:10000806-1715817600-1715903999@sjschoolonline.org
SUMMARY:PreK Field Day
DESCRIPTION:
URL:https://sjschoolonline.org/event/prek-field-day/
CATEGORIES:St. James Catholic School
END:VEVENT
BEGIN:VEVENT
DTSTART;TZID=America/New_York:20240516T000000
DTEND;TZID=America/New_York:20240516T235959
DTSTAMP:20260425T230957
CREATED:20240124T181248Z
LAST-MODIFIED:20240212T201447Z
UID:10000674-1715817600-1715903999@sjschoolonline.org
SUMMARY:Happy Birthday Mr. Ragland!
DESCRIPTION:
URL:https://sjschoolonline.org/event/happy-birthday-mr-ragland/
CATEGORIES:St. James Catholic School
END:VEVENT
BEGIN:VEVENT
DTSTART;TZID=UTC:20240515T220000
DTEND;TZID=UTC:20240516T003000
DTSTAMP:20260425T230957
CREATED:20230816T020049Z
LAST-MODIFIED:20231030T114453Z
UID:10000235-1715810400-1715819400@sjschoolonline.org
SUMMARY:Family Faith Formation & Middle School Ministry
DESCRIPTION:
URL:https://sjschoolonline.org/event/family-faith-formation-middle-school-ministry-29/
END:VEVENT
BEGIN:VEVENT
DTSTART;TZID=America/New_York:20240515T080000
DTEND;TZID=America/New_York:20240515T090000
DTSTAMP:20260425T230957
CREATED:20240101T154659Z
LAST-MODIFIED:20240212T201447Z
UID:10000517-1715760000-1715763600@sjschoolonline.org
SUMMARY:School Mass--with PreK4
DESCRIPTION:
URL:https://sjschoolonline.org/event/school-mass-21/
CATEGORIES:St. James Catholic School
END:VEVENT
BEGIN:VEVENT
DTSTART;TZID=America/New_York:20240514T000000
DTEND;TZID=America/New_York:20240514T235959
DTSTAMP:20260425T230957
CREATED:20240229T214157Z
LAST-MODIFIED:20240229T214157Z
UID:10000815-1715644800-1715731199@sjschoolonline.org
SUMMARY:Spanish I exam
DESCRIPTION:
URL:https://sjschoolonline.org/event/spanish-i-exam/
CATEGORIES:St. James Catholic School
END:VEVENT
BEGIN:VEVENT
DTSTART;TZID=America/New_York:20240513T000000
DTEND;TZID=America/New_York:20240513T235959
DTSTAMP:20260425T230957
CREATED:20240124T181246Z
LAST-MODIFIED:20240212T201447Z
UID:10000673-1715558400-1715644799@sjschoolonline.org
SUMMARY:Happy Birthday Mrs. Workman!
DESCRIPTION:
URL:https://sjschoolonline.org/event/happy-birthday-mrs-workman/
CATEGORIES:St. James Catholic School
END:VEVENT
BEGIN:VEVENT
DTSTART;TZID=America/New_York:20240511T000000
DTEND;TZID=America/New_York:20240511T235959
DTSTAMP:20260425T230957
CREATED:20240503T072810Z
LAST-MODIFIED:20240503T072810Z
UID:10000985-1715385600-1715471999@sjschoolonline.org
SUMMARY:Book Bee
DESCRIPTION:
URL:https://sjschoolonline.org/event/book-bee/
CATEGORIES:St. James Catholic School
END:VEVENT
BEGIN:VEVENT
DTSTART;TZID=America/New_York:20240510T150000
DTEND;TZID=America/New_York:20240510T160000
DTSTAMP:20260425T230957
CREATED:20240430T071519Z
LAST-MODIFIED:20240430T071519Z
UID:10000984-1715353200-1715356800@sjschoolonline.org
SUMMARY:Book Bee Practice
DESCRIPTION:
URL:https://sjschoolonline.org/event/book-bee-practice-4/
CATEGORIES:St. James Catholic School
END:VEVENT
BEGIN:VEVENT
DTSTART;TZID=America/New_York:20240510T000000
DTEND;TZID=America/New_York:20240510T235959
DTSTAMP:20260425T230957
CREATED:20240124T181245Z
LAST-MODIFIED:20240212T201447Z
UID:10000671-1715299200-1715385599@sjschoolonline.org
SUMMARY:Happy Birthday Mr. Lanz!
DESCRIPTION:
URL:https://sjschoolonline.org/event/happy-birthday-mr-lanz/
CATEGORIES:St. James Catholic School
END:VEVENT
BEGIN:VEVENT
DTSTART;TZID=America/New_York:20240509T000000
DTEND;TZID=America/New_York:20240509T235959
DTSTAMP:20260425T230957
CREATED:20240124T181246Z
LAST-MODIFIED:20240212T201446Z
UID:10000672-1715212800-1715299199@sjschoolonline.org
SUMMARY:Happy Birthday\, Mrs. Carney!
DESCRIPTION:
URL:https://sjschoolonline.org/event/happy-birthday-mrs-carney/
CATEGORIES:St. James Catholic School
END:VEVENT
BEGIN:VEVENT
DTSTART;TZID=America/New_York:20240509T000000
DTEND;TZID=America/New_York:20240509T235959
DTSTAMP:20260425T230957
CREATED:20240101T154659Z
LAST-MODIFIED:20240123T180403Z
UID:10000515-1715212800-1715299199@sjschoolonline.org
SUMMARY:Happy Birthday\, Mrs. Audrey!
DESCRIPTION:
URL:https://sjschoolonline.org/event/happy-birthday-mrs-audrey/
CATEGORIES:St. James Catholic School
END:VEVENT
END:VCALENDAR