BEGIN:VCALENDAR
VERSION:2.0
PRODID:-//St. James Catholic School - ECPv6.15.20//NONSGML v1.0//EN
CALSCALE:GREGORIAN
METHOD:PUBLISH
X-ORIGINAL-URL:https://sjschoolonline.org
X-WR-CALDESC:Events for St. James Catholic School
REFRESH-INTERVAL;VALUE=DURATION:PT1H
X-Robots-Tag:noindex
X-PUBLISHED-TTL:PT1H
BEGIN:VTIMEZONE
TZID:America/New_York
BEGIN:DAYLIGHT
TZOFFSETFROM:-0500
TZOFFSETTO:-0400
TZNAME:EDT
DTSTART:20240310T070000
END:DAYLIGHT
BEGIN:STANDARD
TZOFFSETFROM:-0400
TZOFFSETTO:-0500
TZNAME:EST
DTSTART:20241103T060000
END:STANDARD
BEGIN:DAYLIGHT
TZOFFSETFROM:-0500
TZOFFSETTO:-0400
TZNAME:EDT
DTSTART:20250309T070000
END:DAYLIGHT
BEGIN:STANDARD
TZOFFSETFROM:-0400
TZOFFSETTO:-0500
TZNAME:EST
DTSTART:20251102T060000
END:STANDARD
BEGIN:DAYLIGHT
TZOFFSETFROM:-0500
TZOFFSETTO:-0400
TZNAME:EDT
DTSTART:20260308T070000
END:DAYLIGHT
BEGIN:STANDARD
TZOFFSETFROM:-0400
TZOFFSETTO:-0500
TZNAME:EST
DTSTART:20261101T060000
END:STANDARD
END:VTIMEZONE
BEGIN:VEVENT
DTSTART;TZID=America/New_York:20250814T000000
DTEND;TZID=America/New_York:20250814T235959
DTSTAMP:20260421T204202
CREATED:20240101T154718Z
LAST-MODIFIED:20240123T180425Z
UID:10000596-1755129600-1755215999@sjschoolonline.org
SUMMARY:Happy Birthday\, Deana Zopfi!
DESCRIPTION:
URL:https://sjschoolonline.org/event/happy-birthday-deana-zopfi-2/
CATEGORIES:St. James Catholic School
END:VEVENT
BEGIN:VEVENT
DTSTART;TZID=America/New_York:20250814T000000
DTEND;TZID=America/New_York:20250814T235959
DTSTAMP:20260421T204202
CREATED:20240124T181343Z
LAST-MODIFIED:20240212T201752Z
UID:10000734-1755129600-1755215999@sjschoolonline.org
SUMMARY:Happy Birthday\, Mrs. Zopfi!
DESCRIPTION:
URL:https://sjschoolonline.org/event/happy-birthday-mrs-zopfi-2/
CATEGORIES:St. James Catholic School
END:VEVENT
BEGIN:VEVENT
DTSTART;TZID=America/New_York:20250814T160000
DTEND;TZID=America/New_York:20250814T173000
DTSTAMP:20260421T204202
CREATED:20250813T062730Z
LAST-MODIFIED:20250813T062730Z
UID:10001633-1755187200-1755192600@sjschoolonline.org
SUMMARY:Instrumental Rental Night - Cafeteria
DESCRIPTION:
URL:https://sjschoolonline.org/event/instrumental-rental-night-cafeteria/
CATEGORIES:St. James Catholic School
END:VEVENT
BEGIN:VEVENT
DTSTART;TZID=America/New_York:20250814T180000
DTEND;TZID=America/New_York:20250814T190000
DTSTAMP:20260421T204202
CREATED:20250801T062705Z
LAST-MODIFIED:20250801T062705Z
UID:10001622-1755194400-1755198000@sjschoolonline.org
SUMMARY:Room Parent Meeting
DESCRIPTION:
URL:https://sjschoolonline.org/event/room-parent-meeting/
CATEGORIES:St. James Catholic School
END:VEVENT
BEGIN:VEVENT
DTSTART;TZID=America/New_York:20250815T000000
DTEND;TZID=America/New_York:20250815T235959
DTSTAMP:20260421T204202
CREATED:20250711T231342Z
LAST-MODIFIED:20250711T231342Z
UID:10001344-1755216000-1755302399@sjschoolonline.org
SUMMARY:Military Car Line PK-8
DESCRIPTION:
URL:https://sjschoolonline.org/event/military-car-line-pk-8/
CATEGORIES:St. James Catholic School
END:VEVENT
BEGIN:VEVENT
DTSTART;TZID=America/New_York:20250815T081500
DTEND;TZID=America/New_York:20250815T084500
DTSTAMP:20260421T204202
CREATED:20250716T235743Z
LAST-MODIFIED:20250716T235743Z
UID:10001354-1755245700-1755247500@sjschoolonline.org
SUMMARY:All School Mass -Feast of the Assumption
DESCRIPTION:
URL:https://sjschoolonline.org/event/all-school-mass-feast-of-the-assumption/
CATEGORIES:St. James Catholic School
END:VEVENT
BEGIN:VEVENT
DTSTART;TZID=America/New_York:20250818T144000
DTEND;TZID=America/New_York:20250818T153000
DTSTAMP:20260421T204202
CREATED:20250727T061251Z
LAST-MODIFIED:20250727T061251Z
UID:10001466-1755528000-1755531000@sjschoolonline.org
SUMMARY:Choir Practice- Music Room
DESCRIPTION:
URL:https://sjschoolonline.org/event/choir-practice-music-room-3/
CATEGORIES:St. James Catholic School
END:VEVENT
BEGIN:VEVENT
DTSTART;TZID=America/New_York:20250820T080000
DTEND;TZID=America/New_York:20250820T090000
DTSTAMP:20260421T204202
CREATED:20240406T062720Z
LAST-MODIFIED:20240406T062720Z
UID:10000933-1755676800-1755680400@sjschoolonline.org
SUMMARY:All School Mass
DESCRIPTION:
URL:https://sjschoolonline.org/event/all-school-mass-52/
CATEGORIES:St. James Catholic School
END:VEVENT
BEGIN:VEVENT
DTSTART;TZID=America/New_York:20250820T081500
DTEND;TZID=America/New_York:20250820T084500
DTSTAMP:20260421T204202
CREATED:20250717T235701Z
LAST-MODIFIED:20250717T235701Z
UID:10001355-1755677700-1755679500@sjschoolonline.org
SUMMARY:All School Mass
DESCRIPTION:
URL:https://sjschoolonline.org/event/all-school-mass-100/
CATEGORIES:St. James Catholic School
END:VEVENT
BEGIN:VEVENT
DTSTART;TZID=America/New_York:20250821T000000
DTEND;TZID=America/New_York:20250821T235959
DTSTAMP:20260421T204202
CREATED:20240101T154719Z
LAST-MODIFIED:20240123T180425Z
UID:10000598-1755734400-1755820799@sjschoolonline.org
SUMMARY:Happy Birthday Tonya Rhoades
DESCRIPTION:
URL:https://sjschoolonline.org/event/happy-birthday-tonya-rhoades-2/
CATEGORIES:St. James Catholic School
END:VEVENT
BEGIN:VEVENT
DTSTART;TZID=America/New_York:20250821T000000
DTEND;TZID=America/New_York:20250821T235959
DTSTAMP:20260421T204202
CREATED:20240101T154719Z
LAST-MODIFIED:20240123T180425Z
UID:10000599-1755734400-1755820799@sjschoolonline.org
SUMMARY:Happy Birthday Terri Lear
DESCRIPTION:
URL:https://sjschoolonline.org/event/happy-birthday-terri-lear-2/
CATEGORIES:St. James Catholic School
END:VEVENT
BEGIN:VEVENT
DTSTART;TZID=America/New_York:20250821T000000
DTEND;TZID=America/New_York:20250821T235959
DTSTAMP:20260421T204202
CREATED:20240124T181344Z
LAST-MODIFIED:20240212T201752Z
UID:10000735-1755734400-1755820799@sjschoolonline.org
SUMMARY:Happy Birthday Mrs. Lear!
DESCRIPTION:
URL:https://sjschoolonline.org/event/happy-birthday-mrs-lear-2/
CATEGORIES:St. James Catholic School
END:VEVENT
BEGIN:VEVENT
DTSTART;TZID=America/New_York:20250821T000000
DTEND;TZID=America/New_York:20250821T235959
DTSTAMP:20260421T204202
CREATED:20240124T181344Z
LAST-MODIFIED:20240212T201753Z
UID:10000736-1755734400-1755820799@sjschoolonline.org
SUMMARY:Happy Birthday Ms. Rhoades!
DESCRIPTION:
URL:https://sjschoolonline.org/event/happy-birthday-ms-rhoades-2/
CATEGORIES:St. James Catholic School
END:VEVENT
BEGIN:VEVENT
DTSTART;TZID=America/New_York:20250822T000000
DTEND;TZID=America/New_York:20250822T235959
DTSTAMP:20260421T204202
CREATED:20240101T154719Z
LAST-MODIFIED:20240123T180425Z
UID:10000597-1755820800-1755907199@sjschoolonline.org
SUMMARY:Happy Birthday Kimberley Schreacke
DESCRIPTION:
URL:https://sjschoolonline.org/event/happy-birthday-kimberley-schreacke-2/
CATEGORIES:St. James Catholic School
END:VEVENT
BEGIN:VEVENT
DTSTART;TZID=America/New_York:20250822T000000
DTEND;TZID=America/New_York:20250822T235959
DTSTAMP:20260421T204202
CREATED:20240124T181345Z
LAST-MODIFIED:20240212T201753Z
UID:10000737-1755820800-1755907199@sjschoolonline.org
SUMMARY:Happy Birthday Mrs. Schreacke!
DESCRIPTION:
URL:https://sjschoolonline.org/event/happy-birthday-mrs-schreacke-2/
CATEGORIES:St. James Catholic School
END:VEVENT
BEGIN:VEVENT
DTSTART;TZID=America/New_York:20250822T113000
DTEND;TZID=America/New_York:20250822T123000
DTSTAMP:20260421T204202
CREATED:20250711T231343Z
LAST-MODIFIED:20250711T231343Z
UID:10001345-1755862200-1755865800@sjschoolonline.org
SUMMARY:Early Dismissal
DESCRIPTION:
URL:https://sjschoolonline.org/event/early-dismissal/
CATEGORIES:St. James Catholic School
END:VEVENT
BEGIN:VEVENT
DTSTART;TZID=America/New_York:20250823T000000
DTEND;TZID=America/New_York:20250823T235959
DTSTAMP:20260421T204202
CREATED:20250530T165824Z
LAST-MODIFIED:20250530T165824Z
UID:10001312-1755907200-1755993599@sjschoolonline.org
SUMMARY:St James Picnic
DESCRIPTION:
URL:https://sjschoolonline.org/event/st-james-picnic/
CATEGORIES:St. James Catholic School
END:VEVENT
BEGIN:VEVENT
DTSTART;TZID=America/New_York:20250825T144000
DTEND;TZID=America/New_York:20250825T153000
DTSTAMP:20260421T204202
CREATED:20250727T061251Z
LAST-MODIFIED:20250727T061251Z
UID:10001467-1756132800-1756135800@sjschoolonline.org
SUMMARY:Choir Practice- Music Room
DESCRIPTION:
URL:https://sjschoolonline.org/event/choir-practice-music-room-4/
CATEGORIES:St. James Catholic School
END:VEVENT
BEGIN:VEVENT
DTSTART;TZID=America/New_York:20250825T180000
DTEND;TZID=America/New_York:20250825T190000
DTSTAMP:20260421T204202
CREATED:20250724T061155Z
LAST-MODIFIED:20250724T061155Z
UID:10001458-1756144800-1756148400@sjschoolonline.org
SUMMARY:PTO Meeting- Cafeteria SJS
DESCRIPTION:
URL:https://sjschoolonline.org/event/pto-meeting-cafeteria-sjs/
CATEGORIES:St. James Catholic School
END:VEVENT
BEGIN:VEVENT
DTSTART;TZID=America/New_York:20250826T000000
DTEND;TZID=America/New_York:20250828T235959
DTSTAMP:20260421T204202
CREATED:20250722T061228Z
LAST-MODIFIED:20250722T061228Z
UID:10001455-1756166400-1756425599@sjschoolonline.org
SUMMARY:MAP Testing
DESCRIPTION:
URL:https://sjschoolonline.org/event/map-testing/
CATEGORIES:St. James Catholic School
END:VEVENT
BEGIN:VEVENT
DTSTART;TZID=America/New_York:20250827T080000
DTEND;TZID=America/New_York:20250827T090000
DTSTAMP:20260421T204202
CREATED:20240406T062721Z
LAST-MODIFIED:20240406T062721Z
UID:10000934-1756281600-1756285200@sjschoolonline.org
SUMMARY:All School Mass
DESCRIPTION:
URL:https://sjschoolonline.org/event/all-school-mass-53/
CATEGORIES:St. James Catholic School
END:VEVENT
BEGIN:VEVENT
DTSTART;TZID=America/New_York:20250827T081000
DTEND;TZID=America/New_York:20250827T084000
DTSTAMP:20260421T204202
CREATED:20250730T062732Z
LAST-MODIFIED:20250730T062732Z
UID:10001545-1756282200-1756284000@sjschoolonline.org
SUMMARY:All School Mass
DESCRIPTION:
URL:https://sjschoolonline.org/event/all-school-mass-197/
CATEGORIES:St. James Catholic School
END:VEVENT
BEGIN:VEVENT
DTSTART;TZID=America/New_York:20250827T081500
DTEND;TZID=America/New_York:20250827T084500
DTSTAMP:20260421T204202
CREATED:20250717T235701Z
LAST-MODIFIED:20250717T235701Z
UID:10001356-1756282500-1756284300@sjschoolonline.org
SUMMARY:All School Mass
DESCRIPTION:
URL:https://sjschoolonline.org/event/all-school-mass-101/
CATEGORIES:St. James Catholic School
END:VEVENT
BEGIN:VEVENT
DTSTART;TZID=America/New_York:20250828T173000
DTEND;TZID=America/New_York:20250828T183000
DTSTAMP:20260421T204202
CREATED:20250620T225844Z
LAST-MODIFIED:20250620T225844Z
UID:10001341-1756402200-1756405800@sjschoolonline.org
SUMMARY:Italy Trip Parent Meeting SJS Cafeteria
DESCRIPTION:
URL:https://sjschoolonline.org/event/italy-trip-parent-meeting-sjs-cafeteria/
CATEGORIES:St. James Catholic School
END:VEVENT
BEGIN:VEVENT
DTSTART;TZID=America/New_York:20250829T000000
DTEND;TZID=America/New_York:20250829T235959
DTSTAMP:20260421T204202
CREATED:20240101T154719Z
LAST-MODIFIED:20240212T201804Z
UID:10000600-1756425600-1756511999@sjschoolonline.org
SUMMARY:Happy Birthday\, Mrs. Jurus!
DESCRIPTION:
URL:https://sjschoolonline.org/event/happy-birthday-mrs-jurus-2/
CATEGORIES:St. James Catholic School
END:VEVENT
BEGIN:VEVENT
DTSTART;TZID=America/New_York:20250829T000000
DTEND;TZID=America/New_York:20250829T235959
DTSTAMP:20260421T204202
CREATED:20240124T181345Z
LAST-MODIFIED:20240212T201804Z
UID:10000738-1756425600-1756511999@sjschoolonline.org
SUMMARY:Happy Birthday Mrs. French!
DESCRIPTION:
URL:https://sjschoolonline.org/event/happy-birthday-mrs-french-2/
CATEGORIES:St. James Catholic School
END:VEVENT
BEGIN:VEVENT
DTSTART;TZID=America/New_York:20250830T000000
DTEND;TZID=America/New_York:20250830T235959
DTSTAMP:20260421T204202
CREATED:20241011T171446Z
LAST-MODIFIED:20241011T171446Z
UID:10001162-1756512000-1756598399@sjschoolonline.org
SUMMARY:Happy Birthday Mrs. Alegret!
DESCRIPTION:
URL:https://sjschoolonline.org/event/happy-birthday-mrs-alegret/
CATEGORIES:St. James Catholic School
END:VEVENT
BEGIN:VEVENT
DTSTART;TZID=America/New_York:20250901T000000
DTEND;TZID=America/New_York:20250901T235959
DTSTAMP:20260421T204202
CREATED:20250814T062803Z
LAST-MODIFIED:20250814T062803Z
UID:10001634-1756684800-1756771199@sjschoolonline.org
SUMMARY:No School-Labor Day
DESCRIPTION:
URL:https://sjschoolonline.org/event/no-school-labor-day/
CATEGORIES:St. James Catholic School
END:VEVENT
BEGIN:VEVENT
DTSTART;TZID=America/New_York:20250901T144000
DTEND;TZID=America/New_York:20250901T153000
DTSTAMP:20260421T204202
CREATED:20250727T061251Z
LAST-MODIFIED:20250727T061251Z
UID:10001468-1756737600-1756740600@sjschoolonline.org
SUMMARY:Choir Practice- Music Room
DESCRIPTION:
URL:https://sjschoolonline.org/event/choir-practice-music-room-5/
CATEGORIES:St. James Catholic School
END:VEVENT
BEGIN:VEVENT
DTSTART;TZID=America/New_York:20250903T080000
DTEND;TZID=America/New_York:20250903T090000
DTSTAMP:20260421T204202
CREATED:20240406T062721Z
LAST-MODIFIED:20240406T062721Z
UID:10000935-1756886400-1756890000@sjschoolonline.org
SUMMARY:All School Mass
DESCRIPTION:
URL:https://sjschoolonline.org/event/all-school-mass-54/
CATEGORIES:St. James Catholic School
END:VEVENT
END:VCALENDAR