BEGIN:VCALENDAR
VERSION:2.0
PRODID:-//St. James Catholic School - ECPv6.15.20//NONSGML v1.0//EN
CALSCALE:GREGORIAN
METHOD:PUBLISH
X-WR-CALNAME:St. James Catholic School
X-ORIGINAL-URL:https://sjschoolonline.org
X-WR-CALDESC:Events for St. James Catholic School
REFRESH-INTERVAL;VALUE=DURATION:PT1H
X-Robots-Tag:noindex
X-PUBLISHED-TTL:PT1H
BEGIN:VTIMEZONE
TZID:America/New_York
BEGIN:DAYLIGHT
TZOFFSETFROM:-0500
TZOFFSETTO:-0400
TZNAME:EDT
DTSTART:20230312T070000
END:DAYLIGHT
BEGIN:STANDARD
TZOFFSETFROM:-0400
TZOFFSETTO:-0500
TZNAME:EST
DTSTART:20231105T060000
END:STANDARD
BEGIN:DAYLIGHT
TZOFFSETFROM:-0500
TZOFFSETTO:-0400
TZNAME:EDT
DTSTART:20240310T070000
END:DAYLIGHT
BEGIN:STANDARD
TZOFFSETFROM:-0400
TZOFFSETTO:-0500
TZNAME:EST
DTSTART:20241103T060000
END:STANDARD
BEGIN:DAYLIGHT
TZOFFSETFROM:-0500
TZOFFSETTO:-0400
TZNAME:EDT
DTSTART:20250309T070000
END:DAYLIGHT
BEGIN:STANDARD
TZOFFSETFROM:-0400
TZOFFSETTO:-0500
TZNAME:EST
DTSTART:20251102T060000
END:STANDARD
END:VTIMEZONE
BEGIN:VEVENT
DTSTART;TZID=America/New_York:20241120T080000
DTEND;TZID=America/New_York:20241120T090000
DTSTAMP:20260423T054448
CREATED:20240406T062705Z
LAST-MODIFIED:20240406T062705Z
UID:10000878-1732089600-1732093200@sjschoolonline.org
SUMMARY:All School Mass
DESCRIPTION:
URL:https://sjschoolonline.org/event/all-school-mass-13/
CATEGORIES:St. James Catholic School
END:VEVENT
BEGIN:VEVENT
DTSTART;TZID=America/New_York:20241120T183000
DTEND;TZID=America/New_York:20241120T200000
DTSTAMP:20260423T054448
CREATED:20240711T111343Z
LAST-MODIFIED:20240711T111343Z
UID:10001051-1732127400-1732132800@sjschoolonline.org
SUMMARY:Family Faith Formation
DESCRIPTION:
URL:https://sjschoolonline.org/event/family-faith-formation-11/
CATEGORIES:St. James Catholic School
END:VEVENT
BEGIN:VEVENT
DTSTART;TZID=America/New_York:20241121T000000
DTEND;TZID=America/New_York:20241121T235959
DTSTAMP:20260423T054448
CREATED:20240101T154709Z
LAST-MODIFIED:20240123T180415Z
UID:10000555-1732147200-1732233599@sjschoolonline.org
SUMMARY:Happy Birthday\, Stephanie Gendron!
DESCRIPTION:
URL:https://sjschoolonline.org/event/happy-birthday-stephanie-gendron/
CATEGORIES:St. James Catholic School
END:VEVENT
BEGIN:VEVENT
DTSTART;TZID=America/New_York:20241121T000000
DTEND;TZID=America/New_York:20241121T235959
DTSTAMP:20260423T054448
CREATED:20240124T181322Z
LAST-MODIFIED:20240212T201613Z
UID:10000699-1732147200-1732233599@sjschoolonline.org
SUMMARY:Happy Birthday\, Mrs. Gendron!
DESCRIPTION:
URL:https://sjschoolonline.org/event/happy-birthday-mrs-gendron/
CATEGORIES:St. James Catholic School
END:VEVENT
BEGIN:VEVENT
DTSTART;TZID=America/New_York:20241121T190000
DTEND;TZID=America/New_York:20241121T200000
DTSTAMP:20260423T054448
CREATED:20240830T134324Z
LAST-MODIFIED:20240830T134324Z
UID:10001102-1732215600-1732219200@sjschoolonline.org
SUMMARY:Big Bad Play
DESCRIPTION:
URL:https://sjschoolonline.org/event/big-bad-play/
CATEGORIES:St. James Catholic School
END:VEVENT
BEGIN:VEVENT
DTSTART;TZID=America/New_York:20241122T000000
DTEND;TZID=America/New_York:20241122T235959
DTSTAMP:20260423T054448
CREATED:20241011T171444Z
LAST-MODIFIED:20241011T171444Z
UID:10001154-1732233600-1732319999@sjschoolonline.org
SUMMARY:1st Grade Friendsgiving Parent Lunch
DESCRIPTION:
URL:https://sjschoolonline.org/event/1st-grade-friendsgiving-parent-lunch/
CATEGORIES:St. James Catholic School
END:VEVENT
BEGIN:VEVENT
DTSTART;TZID=America/New_York:20241122T083000
DTEND;TZID=America/New_York:20241122T143000
DTSTAMP:20260423T054448
CREATED:20240925T155700Z
LAST-MODIFIED:20240925T155700Z
UID:10001139-1732264200-1732285800@sjschoolonline.org
SUMMARY:3rd Grade Field Trip KMAC Museum
DESCRIPTION:
URL:https://sjschoolonline.org/event/3rd-grade-field-trip-kmac-museum/
CATEGORIES:St. James Catholic School
END:VEVENT
BEGIN:VEVENT
DTSTART;TZID=America/New_York:20241125T000000
DTEND;TZID=America/New_York:20241125T235959
DTSTAMP:20260423T054448
CREATED:20241011T171444Z
LAST-MODIFIED:20241011T171444Z
UID:10001155-1732492800-1732579199@sjschoolonline.org
SUMMARY:Kindergarten Grade Friendsgiving Parent Lunch
DESCRIPTION:
URL:https://sjschoolonline.org/event/kindergarten-grade-friendsgiving-parent-lunch/
CATEGORIES:St. James Catholic School
END:VEVENT
BEGIN:VEVENT
DTSTART;TZID=America/New_York:20241127T000000
DTEND;TZID=America/New_York:20241129T235959
DTSTAMP:20260423T054448
CREATED:20240406T062706Z
LAST-MODIFIED:20240406T062706Z
UID:10000879-1732665600-1732924799@sjschoolonline.org
SUMMARY:Thanksgiving Break
DESCRIPTION:
URL:https://sjschoolonline.org/event/thanksgiving-break/
CATEGORIES:St. James Catholic School
END:VEVENT
BEGIN:VEVENT
DTSTART;TZID=America/New_York:20241127T080000
DTEND;TZID=America/New_York:20241127T090000
DTSTAMP:20260423T054448
CREATED:20240406T062706Z
LAST-MODIFIED:20240406T062706Z
UID:10000880-1732694400-1732698000@sjschoolonline.org
SUMMARY:All School Mass
DESCRIPTION:
URL:https://sjschoolonline.org/event/all-school-mass-14/
CATEGORIES:St. James Catholic School
END:VEVENT
BEGIN:VEVENT
DTSTART;TZID=America/New_York:20241203T000000
DTEND;TZID=America/New_York:20241203T235959
DTSTAMP:20260423T054448
CREATED:20240101T154709Z
LAST-MODIFIED:20240212T201614Z
UID:10000556-1733184000-1733270399@sjschoolonline.org
SUMMARY:Happy Feast Day Sr. Mary Xavier
DESCRIPTION:
URL:https://sjschoolonline.org/event/happy-feast-day-sr-mary-xavier/
CATEGORIES:St. James Catholic School
END:VEVENT
BEGIN:VEVENT
DTSTART;TZID=America/New_York:20241203T000000
DTEND;TZID=America/New_York:20241205T235959
DTSTAMP:20260423T054448
CREATED:20240518T075734Z
LAST-MODIFIED:20240518T075734Z
UID:10001000-1733184000-1733443199@sjschoolonline.org
SUMMARY:Santa Shop
DESCRIPTION:
URL:https://sjschoolonline.org/event/santa-shop/
CATEGORIES:St. James Catholic School
END:VEVENT
BEGIN:VEVENT
DTSTART;TZID=America/New_York:20241204T080000
DTEND;TZID=America/New_York:20241204T090000
DTSTAMP:20260423T054448
CREATED:20240406T062706Z
LAST-MODIFIED:20240406T062706Z
UID:10000881-1733299200-1733302800@sjschoolonline.org
SUMMARY:All School Mass
DESCRIPTION:
URL:https://sjschoolonline.org/event/all-school-mass-15/
CATEGORIES:St. James Catholic School
END:VEVENT
BEGIN:VEVENT
DTSTART;TZID=America/New_York:20241204T090000
DTEND;TZID=America/New_York:20241204T110000
DTSTAMP:20260423T054448
CREATED:20241017T173050Z
LAST-MODIFIED:20241017T173050Z
UID:10001177-1733302800-1733310000@sjschoolonline.org
SUMMARY:Confession (GYM)
DESCRIPTION:
URL:https://sjschoolonline.org/event/confession-gym/
CATEGORIES:St. James Catholic School
END:VEVENT
BEGIN:VEVENT
DTSTART;TZID=America/New_York:20241204T183000
DTEND;TZID=America/New_York:20241204T200000
DTSTAMP:20260423T054448
CREATED:20240711T111343Z
LAST-MODIFIED:20240711T111343Z
UID:10001052-1733337000-1733342400@sjschoolonline.org
SUMMARY:Family Faith Formation
DESCRIPTION:
URL:https://sjschoolonline.org/event/family-faith-formation-12/
CATEGORIES:St. James Catholic School
END:VEVENT
BEGIN:VEVENT
DTSTART;TZID=America/New_York:20241205T000000
DTEND;TZID=America/New_York:20241205T235959
DTSTAMP:20260423T054448
CREATED:20240124T181325Z
LAST-MODIFIED:20240212T201614Z
UID:10000700-1733356800-1733443199@sjschoolonline.org
SUMMARY:Happy Birthday Ms. Poston!
DESCRIPTION:
URL:https://sjschoolonline.org/event/happy-birthday-ms-poston/
CATEGORIES:St. James Catholic School
END:VEVENT
BEGIN:VEVENT
DTSTART;TZID=America/New_York:20241206T000000
DTEND;TZID=America/New_York:20241206T235959
DTSTAMP:20260423T054448
CREATED:20240103T155806Z
LAST-MODIFIED:20240212T201614Z
UID:10000620-1733443200-1733529599@sjschoolonline.org
SUMMARY:First Friday Adoration
DESCRIPTION:
URL:https://sjschoolonline.org/event/first-friday-adoration-12/
CATEGORIES:St. James Catholic School
END:VEVENT
BEGIN:VEVENT
DTSTART;TZID=America/New_York:20241206T000000
DTEND;TZID=America/New_York:20241206T235959
DTSTAMP:20260423T054448
CREATED:20240518T075733Z
LAST-MODIFIED:20240518T075733Z
UID:10000999-1733443200-1733529599@sjschoolonline.org
SUMMARY:St. Nick Day
DESCRIPTION:
URL:https://sjschoolonline.org/event/st-nick-day/
CATEGORIES:St. James Catholic School
END:VEVENT
BEGIN:VEVENT
DTSTART;TZID=America/New_York:20241208T000000
DTEND;TZID=America/New_York:20241208T235959
DTSTAMP:20260423T054448
CREATED:20240101T154710Z
LAST-MODIFIED:20240212T201614Z
UID:10000558-1733616000-1733702399@sjschoolonline.org
SUMMARY:Happy Feast Day Sr. Mary Grace!
DESCRIPTION:
URL:https://sjschoolonline.org/event/happy-feast-day-sr-mary-grace/
CATEGORIES:St. James Catholic School
END:VEVENT
BEGIN:VEVENT
DTSTART;TZID=America/New_York:20241209T000000
DTEND;TZID=America/New_York:20241209T235959
DTSTAMP:20260423T054448
CREATED:20240101T154709Z
LAST-MODIFIED:20240123T180416Z
UID:10000557-1733702400-1733788799@sjschoolonline.org
SUMMARY:Happy Birthday\, Mrs. Grant!
DESCRIPTION:
URL:https://sjschoolonline.org/event/happy-birthday-mrs-grant/
CATEGORIES:St. James Catholic School
END:VEVENT
BEGIN:VEVENT
DTSTART;TZID=America/New_York:20241209T000000
DTEND;TZID=America/New_York:20241209T235959
DTSTAMP:20260423T054448
CREATED:20240124T181326Z
LAST-MODIFIED:20240212T201627Z
UID:10000701-1733702400-1733788799@sjschoolonline.org
SUMMARY:Happy Birthday\, Ms. Grant!
DESCRIPTION:
URL:https://sjschoolonline.org/event/happy-birthday-ms-grant/
CATEGORIES:St. James Catholic School
END:VEVENT
BEGIN:VEVENT
DTSTART;TZID=America/New_York:20241209T000000
DTEND;TZID=America/New_York:20241209T235959
DTSTAMP:20260423T054448
CREATED:20240913T142829Z
LAST-MODIFIED:20240913T142829Z
UID:10001116-1733702400-1733788799@sjschoolonline.org
SUMMARY:Immaculate Conception
DESCRIPTION:
URL:https://sjschoolonline.org/event/immaculate-conception/
CATEGORIES:St. James Catholic School
END:VEVENT
BEGIN:VEVENT
DTSTART;TZID=America/New_York:20241211T080000
DTEND;TZID=America/New_York:20241211T090000
DTSTAMP:20260423T054448
CREATED:20240406T062706Z
LAST-MODIFIED:20240406T062706Z
UID:10000882-1733904000-1733907600@sjschoolonline.org
SUMMARY:All School Mass
DESCRIPTION:
URL:https://sjschoolonline.org/event/all-school-mass-16/
CATEGORIES:St. James Catholic School
END:VEVENT
BEGIN:VEVENT
DTSTART;TZID=America/New_York:20241211T183000
DTEND;TZID=America/New_York:20241211T200000
DTSTAMP:20260423T054448
CREATED:20240711T111343Z
LAST-MODIFIED:20240711T111343Z
UID:10001053-1733941800-1733947200@sjschoolonline.org
SUMMARY:Family Faith Formation
DESCRIPTION:
URL:https://sjschoolonline.org/event/family-faith-formation-13/
CATEGORIES:St. James Catholic School
END:VEVENT
BEGIN:VEVENT
DTSTART;TZID=America/New_York:20241211T190000
DTEND;TZID=America/New_York:20241211T200000
DTSTAMP:20260423T054448
CREATED:20240911T142707Z
LAST-MODIFIED:20240911T142707Z
UID:10001112-1733943600-1733947200@sjschoolonline.org
SUMMARY:3rd & 4th Grade Christmas Musical Performance @ PAC
DESCRIPTION:
URL:https://sjschoolonline.org/event/3rd-4th-grade-christmas-musical-performance-pac/
CATEGORIES:St. James Catholic School
END:VEVENT
BEGIN:VEVENT
DTSTART;TZID=America/New_York:20241212T000000
DTEND;TZID=America/New_York:20241212T235959
DTSTAMP:20260423T054448
CREATED:20240124T181327Z
LAST-MODIFIED:20240212T201627Z
UID:10000702-1733961600-1734047999@sjschoolonline.org
SUMMARY:Happy Birthday Mrs. Baldwin!
DESCRIPTION:
URL:https://sjschoolonline.org/event/happy-birthday-mrs-baldwin/
CATEGORIES:St. James Catholic School
END:VEVENT
BEGIN:VEVENT
DTSTART;TZID=America/New_York:20241213T000000
DTEND;TZID=America/New_York:20241213T235959
DTSTAMP:20260423T054448
CREATED:20240124T181327Z
LAST-MODIFIED:20240212T201628Z
UID:10000703-1734048000-1734134399@sjschoolonline.org
SUMMARY:Happy Birthday Ms. Duvall!
DESCRIPTION:
URL:https://sjschoolonline.org/event/happy-birthday-ms-duvall/
CATEGORIES:St. James Catholic School
END:VEVENT
BEGIN:VEVENT
DTSTART;TZID=America/New_York:20241214T160000
DTEND;TZID=America/New_York:20241214T200000
DTSTAMP:20260423T054448
CREATED:20240711T111343Z
LAST-MODIFIED:20240711T111343Z
UID:10001054-1734192000-1734206400@sjschoolonline.org
SUMMARY:Advent by Candlelight
DESCRIPTION:
URL:https://sjschoolonline.org/event/advent-by-candlelight-3/
CATEGORIES:St. James Catholic School
END:VEVENT
BEGIN:VEVENT
DTSTART;TZID=America/New_York:20241218T080000
DTEND;TZID=America/New_York:20241218T090000
DTSTAMP:20260423T054448
CREATED:20240406T062706Z
LAST-MODIFIED:20240406T062706Z
UID:10000883-1734508800-1734512400@sjschoolonline.org
SUMMARY:All School Mass
DESCRIPTION:
URL:https://sjschoolonline.org/event/all-school-mass-17/
CATEGORIES:St. James Catholic School
END:VEVENT
BEGIN:VEVENT
DTSTART;TZID=America/New_York:20241218T110000
DTEND;TZID=America/New_York:20241218T133000
DTSTAMP:20260423T054448
CREATED:20241114T194835Z
LAST-MODIFIED:20241114T194835Z
UID:10001190-1734519600-1734528600@sjschoolonline.org
SUMMARY:8th Grade to EC3
DESCRIPTION:
URL:https://sjschoolonline.org/event/8th-grade-to-ec3/
CATEGORIES:St. James Catholic School
END:VEVENT
END:VCALENDAR