BEGIN:VCALENDAR
VERSION:2.0
PRODID:-//St. James Catholic School - ECPv6.15.20//NONSGML v1.0//EN
CALSCALE:GREGORIAN
METHOD:PUBLISH
X-ORIGINAL-URL:https://sjschoolonline.org
X-WR-CALDESC:Events for St. James Catholic School
REFRESH-INTERVAL;VALUE=DURATION:PT1H
X-Robots-Tag:noindex
X-PUBLISHED-TTL:PT1H
BEGIN:VTIMEZONE
TZID:America/New_York
BEGIN:DAYLIGHT
TZOFFSETFROM:-0500
TZOFFSETTO:-0400
TZNAME:EDT
DTSTART:20240310T070000
END:DAYLIGHT
BEGIN:STANDARD
TZOFFSETFROM:-0400
TZOFFSETTO:-0500
TZNAME:EST
DTSTART:20241103T060000
END:STANDARD
BEGIN:DAYLIGHT
TZOFFSETFROM:-0500
TZOFFSETTO:-0400
TZNAME:EDT
DTSTART:20250309T070000
END:DAYLIGHT
BEGIN:STANDARD
TZOFFSETFROM:-0400
TZOFFSETTO:-0500
TZNAME:EST
DTSTART:20251102T060000
END:STANDARD
BEGIN:DAYLIGHT
TZOFFSETFROM:-0500
TZOFFSETTO:-0400
TZNAME:EDT
DTSTART:20260308T070000
END:DAYLIGHT
BEGIN:STANDARD
TZOFFSETFROM:-0400
TZOFFSETTO:-0500
TZNAME:EST
DTSTART:20261101T060000
END:STANDARD
END:VTIMEZONE
BEGIN:VEVENT
DTSTART;TZID=America/New_York:20250829T000000
DTEND;TZID=America/New_York:20250829T235959
DTSTAMP:20260422T001424
CREATED:20240101T154719Z
LAST-MODIFIED:20240212T201804Z
UID:10000600-1756425600-1756511999@sjschoolonline.org
SUMMARY:Happy Birthday\, Mrs. Jurus!
DESCRIPTION:
URL:https://sjschoolonline.org/event/happy-birthday-mrs-jurus-2/
CATEGORIES:St. James Catholic School
END:VEVENT
BEGIN:VEVENT
DTSTART;TZID=America/New_York:20250829T000000
DTEND;TZID=America/New_York:20250829T235959
DTSTAMP:20260422T001424
CREATED:20240124T181345Z
LAST-MODIFIED:20240212T201804Z
UID:10000738-1756425600-1756511999@sjschoolonline.org
SUMMARY:Happy Birthday Mrs. French!
DESCRIPTION:
URL:https://sjschoolonline.org/event/happy-birthday-mrs-french-2/
CATEGORIES:St. James Catholic School
END:VEVENT
BEGIN:VEVENT
DTSTART;TZID=America/New_York:20250830T000000
DTEND;TZID=America/New_York:20250830T235959
DTSTAMP:20260422T001424
CREATED:20241011T171446Z
LAST-MODIFIED:20241011T171446Z
UID:10001162-1756512000-1756598399@sjschoolonline.org
SUMMARY:Happy Birthday Mrs. Alegret!
DESCRIPTION:
URL:https://sjschoolonline.org/event/happy-birthday-mrs-alegret/
CATEGORIES:St. James Catholic School
END:VEVENT
BEGIN:VEVENT
DTSTART;TZID=America/New_York:20250901T000000
DTEND;TZID=America/New_York:20250901T235959
DTSTAMP:20260422T001424
CREATED:20250814T062803Z
LAST-MODIFIED:20250814T062803Z
UID:10001634-1756684800-1756771199@sjschoolonline.org
SUMMARY:No School-Labor Day
DESCRIPTION:
URL:https://sjschoolonline.org/event/no-school-labor-day/
CATEGORIES:St. James Catholic School
END:VEVENT
BEGIN:VEVENT
DTSTART;TZID=America/New_York:20250901T144000
DTEND;TZID=America/New_York:20250901T153000
DTSTAMP:20260422T001424
CREATED:20250727T061251Z
LAST-MODIFIED:20250727T061251Z
UID:10001468-1756737600-1756740600@sjschoolonline.org
SUMMARY:Choir Practice- Music Room
DESCRIPTION:
URL:https://sjschoolonline.org/event/choir-practice-music-room-5/
CATEGORIES:St. James Catholic School
END:VEVENT
BEGIN:VEVENT
DTSTART;TZID=America/New_York:20250903T080000
DTEND;TZID=America/New_York:20250903T090000
DTSTAMP:20260422T001424
CREATED:20240406T062721Z
LAST-MODIFIED:20240406T062721Z
UID:10000935-1756886400-1756890000@sjschoolonline.org
SUMMARY:All School Mass
DESCRIPTION:
URL:https://sjschoolonline.org/event/all-school-mass-54/
CATEGORIES:St. James Catholic School
END:VEVENT
BEGIN:VEVENT
DTSTART;TZID=America/New_York:20250903T081000
DTEND;TZID=America/New_York:20250903T084000
DTSTAMP:20260422T001424
CREATED:20250730T062732Z
LAST-MODIFIED:20250730T062732Z
UID:10001546-1756887000-1756888800@sjschoolonline.org
SUMMARY:All School Mass
DESCRIPTION:
URL:https://sjschoolonline.org/event/all-school-mass-198/
CATEGORIES:St. James Catholic School
END:VEVENT
BEGIN:VEVENT
DTSTART;TZID=America/New_York:20250903T081500
DTEND;TZID=America/New_York:20250903T084500
DTSTAMP:20260422T001424
CREATED:20250717T235702Z
LAST-MODIFIED:20250717T235702Z
UID:10001357-1756887300-1756889100@sjschoolonline.org
SUMMARY:All School Mass
DESCRIPTION:
URL:https://sjschoolonline.org/event/all-school-mass-102/
CATEGORIES:St. James Catholic School
END:VEVENT
BEGIN:VEVENT
DTSTART;TZID=America/New_York:20250903T183000
DTEND;TZID=America/New_York:20250903T200000
DTSTAMP:20260422T001424
CREATED:20250803T062751Z
LAST-MODIFIED:20250803T062751Z
UID:10001624-1756924200-1756929600@sjschoolonline.org
SUMMARY:Family Faith Formation
DESCRIPTION:
URL:https://sjschoolonline.org/event/family-faith-formation-31/
CATEGORIES:St. James Catholic School
END:VEVENT
BEGIN:VEVENT
DTSTART;TZID=America/New_York:20250904T000000
DTEND;TZID=America/New_York:20250904T235959
DTSTAMP:20260422T001424
CREATED:20250307T103005Z
LAST-MODIFIED:20250307T103005Z
UID:10001260-1756944000-1757030399@sjschoolonline.org
SUMMARY:School Picture Day
DESCRIPTION:
URL:https://sjschoolonline.org/event/school-picture-day-2/
CATEGORIES:St. James Catholic School
END:VEVENT
BEGIN:VEVENT
DTSTART;TZID=America/New_York:20250905T000000
DTEND;TZID=America/New_York:20250905T235959
DTSTAMP:20260422T001424
CREATED:20240101T154719Z
LAST-MODIFIED:20240212T201805Z
UID:10000601-1757030400-1757116799@sjschoolonline.org
SUMMARY:Happy Feast Day\, House of Mother Teresa!
DESCRIPTION:
URL:https://sjschoolonline.org/event/happy-feast-day-house-of-mother-teresa-2/
CATEGORIES:St. James Catholic School
END:VEVENT
BEGIN:VEVENT
DTSTART;TZID=America/New_York:20250905T000000
DTEND;TZID=America/New_York:20250905T235959
DTSTAMP:20260422T001424
CREATED:20240103T155817Z
LAST-MODIFIED:20240212T201805Z
UID:10000629-1757030400-1757116799@sjschoolonline.org
SUMMARY:First Friday Adoration
DESCRIPTION:
URL:https://sjschoolonline.org/event/first-friday-adoration-21/
CATEGORIES:St. James Catholic School
END:VEVENT
BEGIN:VEVENT
DTSTART;TZID=America/New_York:20250905T000000
DTEND;TZID=America/New_York:20250905T235959
DTSTAMP:20260422T001424
CREATED:20250815T062756Z
LAST-MODIFIED:20250815T062756Z
UID:10001641-1757030400-1757116799@sjschoolonline.org
SUMMARY:First Friday Adoration
DESCRIPTION:
URL:https://sjschoolonline.org/event/first-friday-adoration-28/
CATEGORIES:St. James Catholic School
END:VEVENT
BEGIN:VEVENT
DTSTART;TZID=America/New_York:20250908T144000
DTEND;TZID=America/New_York:20250908T153000
DTSTAMP:20260422T001424
CREATED:20250727T061251Z
LAST-MODIFIED:20250727T061251Z
UID:10001469-1757342400-1757345400@sjschoolonline.org
SUMMARY:Choir Practice- Music Room
DESCRIPTION:
URL:https://sjschoolonline.org/event/choir-practice-music-room-6/
CATEGORIES:St. James Catholic School
END:VEVENT
BEGIN:VEVENT
DTSTART;TZID=America/New_York:20250908T180000
DTEND;TZID=America/New_York:20250908T190000
DTSTAMP:20260422T001424
CREATED:20250619T202822Z
LAST-MODIFIED:20250619T202822Z
UID:10001328-1757354400-1757358000@sjschoolonline.org
SUMMARY:Grandparents Day Mass @ St James Church/ Reception to follow
DESCRIPTION:
URL:https://sjschoolonline.org/event/grandparents-day-mass-st-james-church-reception-to-follow/
CATEGORIES:St. James Catholic School
END:VEVENT
BEGIN:VEVENT
DTSTART;TZID=America/New_York:20250909T000000
DTEND;TZID=America/New_York:20250909T235959
DTSTAMP:20260422T001424
CREATED:20240124T181345Z
LAST-MODIFIED:20240212T201805Z
UID:10000739-1757376000-1757462399@sjschoolonline.org
SUMMARY:Happy Birthday Ms. Hand
DESCRIPTION:
URL:https://sjschoolonline.org/event/happy-birthday-ms-hand-2/
CATEGORIES:St. James Catholic School
END:VEVENT
BEGIN:VEVENT
DTSTART;TZID=America/New_York:20250909T000000
DTEND;TZID=America/New_York:20250909T235959
DTSTAMP:20260422T001424
CREATED:20241011T171446Z
LAST-MODIFIED:20241011T171446Z
UID:10001163-1757376000-1757462399@sjschoolonline.org
SUMMARY:Happy Birthday Mrs. Hand!
DESCRIPTION:
URL:https://sjschoolonline.org/event/happy-birthday-mrs-hand/
CATEGORIES:St. James Catholic School
END:VEVENT
BEGIN:VEVENT
DTSTART;TZID=America/New_York:20250910T080000
DTEND;TZID=America/New_York:20250910T090000
DTSTAMP:20260422T001424
CREATED:20240406T062721Z
LAST-MODIFIED:20240406T062721Z
UID:10000936-1757491200-1757494800@sjschoolonline.org
SUMMARY:All School Mass
DESCRIPTION:
URL:https://sjschoolonline.org/event/all-school-mass-55/
CATEGORIES:St. James Catholic School
END:VEVENT
BEGIN:VEVENT
DTSTART;TZID=America/New_York:20250910T081000
DTEND;TZID=America/New_York:20250910T084000
DTSTAMP:20260422T001424
CREATED:20250730T062733Z
LAST-MODIFIED:20250730T062733Z
UID:10001547-1757491800-1757493600@sjschoolonline.org
SUMMARY:All School Mass
DESCRIPTION:
URL:https://sjschoolonline.org/event/all-school-mass-199/
CATEGORIES:St. James Catholic School
END:VEVENT
BEGIN:VEVENT
DTSTART;TZID=America/New_York:20250910T081500
DTEND;TZID=America/New_York:20250910T084500
DTSTAMP:20260422T001424
CREATED:20250717T235702Z
LAST-MODIFIED:20250717T235702Z
UID:10001358-1757492100-1757493900@sjschoolonline.org
SUMMARY:All School Mass
DESCRIPTION:
URL:https://sjschoolonline.org/event/all-school-mass-103/
CATEGORIES:St. James Catholic School
END:VEVENT
BEGIN:VEVENT
DTSTART;TZID=America/New_York:20250912T000000
DTEND;TZID=America/New_York:20250912T235959
DTSTAMP:20260422T001424
CREATED:20250805T062703Z
LAST-MODIFIED:20250805T062703Z
UID:10001626-1757635200-1757721599@sjschoolonline.org
SUMMARY:No Code Day for Students who sold raffle tickets
DESCRIPTION:
URL:https://sjschoolonline.org/event/no-code-day-for-students-who-sold-raffle-tickets/
CATEGORIES:St. James Catholic School
END:VEVENT
BEGIN:VEVENT
DTSTART;TZID=America/New_York:20250912T000000
DTEND;TZID=America/New_York:20250912T235959
DTSTAMP:20260422T001424
CREATED:20250814T062804Z
LAST-MODIFIED:20250814T062804Z
UID:10001635-1757635200-1757721599@sjschoolonline.org
SUMMARY:Hearing Screening
DESCRIPTION:
URL:https://sjschoolonline.org/event/hearing-screening/
CATEGORIES:St. James Catholic School
END:VEVENT
BEGIN:VEVENT
DTSTART;TZID=America/New_York:20250915T144000
DTEND;TZID=America/New_York:20250915T153000
DTSTAMP:20260422T001424
CREATED:20250727T061251Z
LAST-MODIFIED:20250727T061251Z
UID:10001470-1757947200-1757950200@sjschoolonline.org
SUMMARY:Choir Practice- Music Room
DESCRIPTION:
URL:https://sjschoolonline.org/event/choir-practice-music-room-7/
CATEGORIES:St. James Catholic School
END:VEVENT
BEGIN:VEVENT
DTSTART;TZID=America/New_York:20250916T000000
DTEND;TZID=America/New_York:20250916T235959
DTSTAMP:20260422T001424
CREATED:20240124T181346Z
LAST-MODIFIED:20240212T201806Z
UID:10000740-1757980800-1758067199@sjschoolonline.org
SUMMARY:Happy Birthday Mrs. Newman!
DESCRIPTION:
URL:https://sjschoolonline.org/event/happy-birthday-mrs-newman-2/
CATEGORIES:St. James Catholic School
END:VEVENT
BEGIN:VEVENT
DTSTART;TZID=America/New_York:20250916T000000
DTEND;TZID=America/New_York:20250916T235959
DTSTAMP:20260422T001424
CREATED:20250425T152717Z
LAST-MODIFIED:20250425T152717Z
UID:10001292-1757980800-1758067199@sjschoolonline.org
SUMMARY:Fun Run Pep Rally
DESCRIPTION:
URL:https://sjschoolonline.org/event/fun-run-pep-rally-2/
CATEGORIES:St. James Catholic School
END:VEVENT
BEGIN:VEVENT
DTSTART;TZID=America/New_York:20250917T080000
DTEND;TZID=America/New_York:20250917T090000
DTSTAMP:20260422T001424
CREATED:20240406T062721Z
LAST-MODIFIED:20240406T062721Z
UID:10000937-1758096000-1758099600@sjschoolonline.org
SUMMARY:All School Mass
DESCRIPTION:
URL:https://sjschoolonline.org/event/all-school-mass-56/
CATEGORIES:St. James Catholic School
END:VEVENT
BEGIN:VEVENT
DTSTART;TZID=America/New_York:20250917T081000
DTEND;TZID=America/New_York:20250917T084000
DTSTAMP:20260422T001424
CREATED:20250730T062733Z
LAST-MODIFIED:20250730T062733Z
UID:10001548-1758096600-1758098400@sjschoolonline.org
SUMMARY:All School Mass
DESCRIPTION:
URL:https://sjschoolonline.org/event/all-school-mass-200/
CATEGORIES:St. James Catholic School
END:VEVENT
BEGIN:VEVENT
DTSTART;TZID=America/New_York:20250917T081500
DTEND;TZID=America/New_York:20250917T084500
DTSTAMP:20260422T001424
CREATED:20250717T235702Z
LAST-MODIFIED:20250717T235702Z
UID:10001359-1758096900-1758098700@sjschoolonline.org
SUMMARY:All School Mass
DESCRIPTION:
URL:https://sjschoolonline.org/event/all-school-mass-104/
CATEGORIES:St. James Catholic School
END:VEVENT
BEGIN:VEVENT
DTSTART;TZID=America/New_York:20250918T150000
DTEND;TZID=America/New_York:20250918T180000
DTSTAMP:20260422T001424
CREATED:20250814T062804Z
LAST-MODIFIED:20250814T062804Z
UID:10001636-1758207600-1758218400@sjschoolonline.org
SUMMARY:Parent Teacher Student Conferences PM
DESCRIPTION:
URL:https://sjschoolonline.org/event/parent-teacher-student-conferences-pm/
CATEGORIES:St. James Catholic School
END:VEVENT
BEGIN:VEVENT
DTSTART;TZID=America/New_York:20250919T080000
DTEND;TZID=America/New_York:20250919T120000
DTSTAMP:20260422T001424
CREATED:20250814T062804Z
LAST-MODIFIED:20250814T062804Z
UID:10001637-1758268800-1758283200@sjschoolonline.org
SUMMARY:No School- Parent Teacher Student Conferences
DESCRIPTION:
URL:https://sjschoolonline.org/event/no-school-parent-teacher-student-conferences/
CATEGORIES:St. James Catholic School
END:VEVENT
END:VCALENDAR