BEGIN:VCALENDAR
VERSION:2.0
PRODID:-//St. James Catholic School - ECPv6.15.20//NONSGML v1.0//EN
CALSCALE:GREGORIAN
METHOD:PUBLISH
X-ORIGINAL-URL:https://sjschoolonline.org
X-WR-CALDESC:Events for St. James Catholic School
REFRESH-INTERVAL;VALUE=DURATION:PT1H
X-Robots-Tag:noindex
X-PUBLISHED-TTL:PT1H
BEGIN:VTIMEZONE
TZID:America/New_York
BEGIN:DAYLIGHT
TZOFFSETFROM:-0500
TZOFFSETTO:-0400
TZNAME:EDT
DTSTART:20230312T070000
END:DAYLIGHT
BEGIN:STANDARD
TZOFFSETFROM:-0400
TZOFFSETTO:-0500
TZNAME:EST
DTSTART:20231105T060000
END:STANDARD
BEGIN:DAYLIGHT
TZOFFSETFROM:-0500
TZOFFSETTO:-0400
TZNAME:EDT
DTSTART:20240310T070000
END:DAYLIGHT
BEGIN:STANDARD
TZOFFSETFROM:-0400
TZOFFSETTO:-0500
TZNAME:EST
DTSTART:20241103T060000
END:STANDARD
BEGIN:DAYLIGHT
TZOFFSETFROM:-0500
TZOFFSETTO:-0400
TZNAME:EDT
DTSTART:20250309T070000
END:DAYLIGHT
BEGIN:STANDARD
TZOFFSETFROM:-0400
TZOFFSETTO:-0500
TZNAME:EST
DTSTART:20251102T060000
END:STANDARD
END:VTIMEZONE
BEGIN:VTIMEZONE
TZID:UTC
BEGIN:STANDARD
TZOFFSETFROM:+0000
TZOFFSETTO:+0000
TZNAME:UTC
DTSTART:20230101T000000
END:STANDARD
END:VTIMEZONE
BEGIN:VEVENT
DTSTART;TZID=America/New_York:20240501T000000
DTEND;TZID=America/New_York:20240501T235959
DTSTAMP:20260425T090103
CREATED:20240113T164346Z
LAST-MODIFIED:20240212T201433Z
UID:10000638-1714521600-1714607999@sjschoolonline.org
SUMMARY:International Mass and Day
DESCRIPTION:
URL:https://sjschoolonline.org/event/international-mass-and-day/
CATEGORIES:St. James Catholic School
END:VEVENT
BEGIN:VEVENT
DTSTART;TZID=America/New_York:20240501T080000
DTEND;TZID=America/New_York:20240501T090000
DTSTAMP:20260425T090103
CREATED:20240101T154658Z
LAST-MODIFIED:20240212T201433Z
UID:10000510-1714550400-1714554000@sjschoolonline.org
SUMMARY:School Mass
DESCRIPTION:
URL:https://sjschoolonline.org/event/school-mass-19/
CATEGORIES:St. James Catholic School
END:VEVENT
BEGIN:VEVENT
DTSTART;TZID=America/New_York:20240501T150000
DTEND;TZID=America/New_York:20240501T160000
DTSTAMP:20260425T090103
CREATED:20240430T071507Z
LAST-MODIFIED:20240430T071507Z
UID:10000981-1714575600-1714579200@sjschoolonline.org
SUMMARY:Book Bee Practice
DESCRIPTION:
URL:https://sjschoolonline.org/event/book-bee-practice/
CATEGORIES:St. James Catholic School
END:VEVENT
BEGIN:VEVENT
DTSTART;TZID=UTC:20240501T220000
DTEND;TZID=UTC:20240502T003000
DTSTAMP:20260425T090103
CREATED:20230816T020049Z
LAST-MODIFIED:20231030T114451Z
UID:10000233-1714600800-1714609800@sjschoolonline.org
SUMMARY:Family Faith Formation & Middle School Ministry
DESCRIPTION:
URL:https://sjschoolonline.org/event/family-faith-formation-middle-school-ministry-27/
END:VEVENT
BEGIN:VEVENT
DTSTART;TZID=America/New_York:20240502T100000
DTEND;TZID=America/New_York:20240502T110000
DTSTAMP:20260425T090103
CREATED:20240425T071200Z
LAST-MODIFIED:20240425T071200Z
UID:10000973-1714644000-1714647600@sjschoolonline.org
SUMMARY:Pre School Derby
DESCRIPTION:
URL:https://sjschoolonline.org/event/pre-school-derby/
CATEGORIES:St. James Catholic School
END:VEVENT
BEGIN:VEVENT
DTSTART;TZID=America/New_York:20240502T100000
DTEND;TZID=America/New_York:20240502T110000
DTSTAMP:20260425T090103
CREATED:20240425T071200Z
LAST-MODIFIED:20240425T071200Z
UID:10000974-1714644000-1714647600@sjschoolonline.org
SUMMARY:Pre School Derby
DESCRIPTION:
URL:https://sjschoolonline.org/event/pre-school-derby-2/
CATEGORIES:St. James Catholic School
END:VEVENT
BEGIN:VEVENT
DTSTART;TZID=America/New_York:20240503T000000
DTEND;TZID=America/New_York:20240503T235959
DTSTAMP:20260425T090103
CREATED:20240101T154658Z
LAST-MODIFIED:20240212T201434Z
UID:10000511-1714694400-1714780799@sjschoolonline.org
SUMMARY:Happy Birthday Diana Johnson
DESCRIPTION:
URL:https://sjschoolonline.org/event/happy-birthday-diana-johnson/
CATEGORIES:St. James Catholic School
END:VEVENT
BEGIN:VEVENT
DTSTART;TZID=America/New_York:20240503T000000
DTEND;TZID=America/New_York:20240503T235959
DTSTAMP:20260425T090103
CREATED:20240101T154658Z
LAST-MODIFIED:20240212T201433Z
UID:10000512-1714694400-1714780799@sjschoolonline.org
SUMMARY:No School:  Oaks Day
DESCRIPTION:
URL:https://sjschoolonline.org/event/no-school-oaks-day/
CATEGORIES:St. James Catholic School
END:VEVENT
BEGIN:VEVENT
DTSTART;TZID=America/New_York:20240503T000000
DTEND;TZID=America/New_York:20240503T235959
DTSTAMP:20260425T090103
CREATED:20240103T155758Z
LAST-MODIFIED:20240212T201433Z
UID:10000613-1714694400-1714780799@sjschoolonline.org
SUMMARY:First Friday Adoration
DESCRIPTION:
URL:https://sjschoolonline.org/event/first-friday-adoration-5/
CATEGORIES:St. James Catholic School
END:VEVENT
BEGIN:VEVENT
DTSTART;TZID=America/New_York:20240503T000000
DTEND;TZID=America/New_York:20240503T235959
DTSTAMP:20260425T090103
CREATED:20240326T061224Z
LAST-MODIFIED:20240326T061224Z
UID:10000841-1714694400-1714780799@sjschoolonline.org
SUMMARY:No School--Oaks Day
DESCRIPTION:
URL:https://sjschoolonline.org/event/no-school-oaks-day-2/
CATEGORIES:St. James Catholic School
END:VEVENT
BEGIN:VEVENT
DTSTART;TZID=America/New_York:20240506T000000
DTEND;TZID=America/New_York:20240510T235959
DTSTAMP:20260425T090103
CREATED:20240101T154658Z
LAST-MODIFIED:20240212T201446Z
UID:10000513-1714953600-1715385599@sjschoolonline.org
SUMMARY:Teacher Appreciation Week
DESCRIPTION:
URL:https://sjschoolonline.org/event/teacher-appreciation-week/
CATEGORIES:St. James Catholic School
END:VEVENT
BEGIN:VEVENT
DTSTART;TZID=America/New_York:20240506T000000
DTEND;TZID=America/New_York:20240510T235959
DTSTAMP:20260425T090103
CREATED:20240101T154659Z
LAST-MODIFIED:20240212T201447Z
UID:10000516-1714953600-1715385599@sjschoolonline.org
SUMMARY:MAP Assessment
DESCRIPTION:
URL:https://sjschoolonline.org/event/map-assessment-2/
CATEGORIES:St. James Catholic School
END:VEVENT
BEGIN:VEVENT
DTSTART;TZID=America/New_York:20240507T000000
DTEND;TZID=America/New_York:20240507T235959
DTSTAMP:20260425T090103
CREATED:20240426T071206Z
LAST-MODIFIED:20240426T071206Z
UID:10000975-1715040000-1715126399@sjschoolonline.org
SUMMARY:2nd grade field trip to St. Joseph\, Bardstown
DESCRIPTION:
URL:https://sjschoolonline.org/event/2nd-grade-field-trip-to-st-joseph-bardstown/
CATEGORIES:St. James Catholic School
END:VEVENT
BEGIN:VEVENT
DTSTART;TZID=America/New_York:20240507T000000
DTEND;TZID=America/New_York:20240507T235959
DTSTAMP:20260425T090103
CREATED:20240426T071206Z
LAST-MODIFIED:20240426T071206Z
UID:10000976-1715040000-1715126399@sjschoolonline.org
SUMMARY:2nd grade field trip to St. Joseph\, Bardstown
DESCRIPTION:
URL:https://sjschoolonline.org/event/2nd-grade-field-trip-to-st-joseph-bardstown-2/
CATEGORIES:St. James Catholic School
END:VEVENT
BEGIN:VEVENT
DTSTART;TZID=America/New_York:20240507T150000
DTEND;TZID=America/New_York:20240507T160000
DTSTAMP:20260425T090103
CREATED:20240430T071507Z
LAST-MODIFIED:20240430T071507Z
UID:10000982-1715094000-1715097600@sjschoolonline.org
SUMMARY:Book Bee Practice
DESCRIPTION:
URL:https://sjschoolonline.org/event/book-bee-practice-2/
CATEGORIES:St. James Catholic School
END:VEVENT
BEGIN:VEVENT
DTSTART;TZID=America/New_York:20240508T080000
DTEND;TZID=America/New_York:20240508T090000
DTSTAMP:20260425T090103
CREATED:20240101T154658Z
LAST-MODIFIED:20240212T201446Z
UID:10000514-1715155200-1715158800@sjschoolonline.org
SUMMARY:School Mass
DESCRIPTION:
URL:https://sjschoolonline.org/event/school-mass-20/
CATEGORIES:St. James Catholic School
END:VEVENT
BEGIN:VEVENT
DTSTART;TZID=America/New_York:20240508T150000
DTEND;TZID=America/New_York:20240508T160000
DTSTAMP:20260425T090103
CREATED:20240430T071519Z
LAST-MODIFIED:20240430T071519Z
UID:10000983-1715180400-1715184000@sjschoolonline.org
SUMMARY:Book Bee Practice
DESCRIPTION:
URL:https://sjschoolonline.org/event/book-bee-practice-3/
CATEGORIES:St. James Catholic School
END:VEVENT
BEGIN:VEVENT
DTSTART;TZID=UTC:20240508T220000
DTEND;TZID=UTC:20240509T003000
DTSTAMP:20260425T090103
CREATED:20230816T020049Z
LAST-MODIFIED:20231030T114452Z
UID:10000234-1715205600-1715214600@sjschoolonline.org
SUMMARY:Family Faith Formation & Middle School Ministry
DESCRIPTION:
URL:https://sjschoolonline.org/event/family-faith-formation-middle-school-ministry-28/
END:VEVENT
BEGIN:VEVENT
DTSTART;TZID=America/New_York:20240509T000000
DTEND;TZID=America/New_York:20240509T235959
DTSTAMP:20260425T090103
CREATED:20240101T154659Z
LAST-MODIFIED:20240123T180403Z
UID:10000515-1715212800-1715299199@sjschoolonline.org
SUMMARY:Happy Birthday\, Mrs. Audrey!
DESCRIPTION:
URL:https://sjschoolonline.org/event/happy-birthday-mrs-audrey/
CATEGORIES:St. James Catholic School
END:VEVENT
BEGIN:VEVENT
DTSTART;TZID=America/New_York:20240509T000000
DTEND;TZID=America/New_York:20240509T235959
DTSTAMP:20260425T090103
CREATED:20240124T181246Z
LAST-MODIFIED:20240212T201446Z
UID:10000672-1715212800-1715299199@sjschoolonline.org
SUMMARY:Happy Birthday\, Mrs. Carney!
DESCRIPTION:
URL:https://sjschoolonline.org/event/happy-birthday-mrs-carney/
CATEGORIES:St. James Catholic School
END:VEVENT
BEGIN:VEVENT
DTSTART;TZID=America/New_York:20240510T000000
DTEND;TZID=America/New_York:20240510T235959
DTSTAMP:20260425T090103
CREATED:20240124T181245Z
LAST-MODIFIED:20240212T201447Z
UID:10000671-1715299200-1715385599@sjschoolonline.org
SUMMARY:Happy Birthday Mr. Lanz!
DESCRIPTION:
URL:https://sjschoolonline.org/event/happy-birthday-mr-lanz/
CATEGORIES:St. James Catholic School
END:VEVENT
BEGIN:VEVENT
DTSTART;TZID=America/New_York:20240510T150000
DTEND;TZID=America/New_York:20240510T160000
DTSTAMP:20260425T090103
CREATED:20240430T071519Z
LAST-MODIFIED:20240430T071519Z
UID:10000984-1715353200-1715356800@sjschoolonline.org
SUMMARY:Book Bee Practice
DESCRIPTION:
URL:https://sjschoolonline.org/event/book-bee-practice-4/
CATEGORIES:St. James Catholic School
END:VEVENT
BEGIN:VEVENT
DTSTART;TZID=America/New_York:20240511T000000
DTEND;TZID=America/New_York:20240511T235959
DTSTAMP:20260425T090103
CREATED:20240503T072810Z
LAST-MODIFIED:20240503T072810Z
UID:10000985-1715385600-1715471999@sjschoolonline.org
SUMMARY:Book Bee
DESCRIPTION:
URL:https://sjschoolonline.org/event/book-bee/
CATEGORIES:St. James Catholic School
END:VEVENT
BEGIN:VEVENT
DTSTART;TZID=America/New_York:20240513T000000
DTEND;TZID=America/New_York:20240513T235959
DTSTAMP:20260425T090103
CREATED:20240124T181246Z
LAST-MODIFIED:20240212T201447Z
UID:10000673-1715558400-1715644799@sjschoolonline.org
SUMMARY:Happy Birthday Mrs. Workman!
DESCRIPTION:
URL:https://sjschoolonline.org/event/happy-birthday-mrs-workman/
CATEGORIES:St. James Catholic School
END:VEVENT
BEGIN:VEVENT
DTSTART;TZID=America/New_York:20240514T000000
DTEND;TZID=America/New_York:20240514T235959
DTSTAMP:20260425T090103
CREATED:20240229T214157Z
LAST-MODIFIED:20240229T214157Z
UID:10000815-1715644800-1715731199@sjschoolonline.org
SUMMARY:Spanish I exam
DESCRIPTION:
URL:https://sjschoolonline.org/event/spanish-i-exam/
CATEGORIES:St. James Catholic School
END:VEVENT
BEGIN:VEVENT
DTSTART;TZID=America/New_York:20240515T080000
DTEND;TZID=America/New_York:20240515T090000
DTSTAMP:20260425T090103
CREATED:20240101T154659Z
LAST-MODIFIED:20240212T201447Z
UID:10000517-1715760000-1715763600@sjschoolonline.org
SUMMARY:School Mass--with PreK4
DESCRIPTION:
URL:https://sjschoolonline.org/event/school-mass-21/
CATEGORIES:St. James Catholic School
END:VEVENT
BEGIN:VEVENT
DTSTART;TZID=UTC:20240515T220000
DTEND;TZID=UTC:20240516T003000
DTSTAMP:20260425T090103
CREATED:20230816T020049Z
LAST-MODIFIED:20231030T114453Z
UID:10000235-1715810400-1715819400@sjschoolonline.org
SUMMARY:Family Faith Formation & Middle School Ministry
DESCRIPTION:
URL:https://sjschoolonline.org/event/family-faith-formation-middle-school-ministry-29/
END:VEVENT
BEGIN:VEVENT
DTSTART;TZID=America/New_York:20240516T000000
DTEND;TZID=America/New_York:20240516T235959
DTSTAMP:20260425T090103
CREATED:20240124T181248Z
LAST-MODIFIED:20240212T201447Z
UID:10000674-1715817600-1715903999@sjschoolonline.org
SUMMARY:Happy Birthday Mr. Ragland!
DESCRIPTION:
URL:https://sjschoolonline.org/event/happy-birthday-mr-ragland/
CATEGORIES:St. James Catholic School
END:VEVENT
BEGIN:VEVENT
DTSTART;TZID=America/New_York:20240516T000000
DTEND;TZID=America/New_York:20240516T235959
DTSTAMP:20260425T090103
CREATED:20240227T212700Z
LAST-MODIFIED:20240227T212700Z
UID:10000806-1715817600-1715903999@sjschoolonline.org
SUMMARY:PreK Field Day
DESCRIPTION:
URL:https://sjschoolonline.org/event/prek-field-day/
CATEGORIES:St. James Catholic School
END:VEVENT
BEGIN:VEVENT
DTSTART;TZID=America/New_York:20240516T000000
DTEND;TZID=America/New_York:20240516T235959
DTSTAMP:20260425T090103
CREATED:20240229T214157Z
LAST-MODIFIED:20240229T214157Z
UID:10000816-1715817600-1715903999@sjschoolonline.org
SUMMARY:8th grade class trip
DESCRIPTION:
URL:https://sjschoolonline.org/event/8th-grade-class-trip/
CATEGORIES:St. James Catholic School
END:VEVENT
END:VCALENDAR